Workbook

Sheet UB
F2: ON WH | I2: BC WH
A3: SKU | B3: UPC CODES | C3: DESCRIPTION | D3: CASEPACK QTY | F3: Stock Status | G3: Next ETA | I3: Stock Status | J3: Next ETA | K3: Comments & Compatibility
A4: Strollers
A5: Vista V3 Strollers
A6: 0303-VSO-NA-ADA | B6: 810177718468 | C6: Vista V3 Stroller - Ada - Sandstone Melange | Carbon Frame | Chestnut Leather | D6: 1 | F6: =VLOOKUP(A6,Status!A:C,2,FALSE) -> Low Stock | G6: Mid October | I6: =VLOOKUP(A6,Status!A:C,3,FALSE) -> In Stock | J6: Early September
A7: 0303-VSO-NA-CLM | B7: 810142394352 | C7: Vista V3 Stroller - Callum - Stone Blue | Silver Frame | Sand Leather _x000D_ | D7: 1 | F7: =VLOOKUP(A7,Status!A:C,2,FALSE) -> In Stock | G7: TBA | I7: =VLOOKUP(A7,Status!A:C,3,FALSE) -> In Stock | J7: TBA
A8: 0303-VSO-NA-EVE | B8: 810177712343 | C8: Vista V3 Stroller - Evelyn - Meadow Green | Graphite Frame | Chestnut Leather | D8: 1 | F8: =VLOOKUP(A8,Status!A:C,2,FALSE) -> In Stock | G8: Mid October | I8: =VLOOKUP(A8,Status!A:C,3,FALSE) -> Low Stock | J8: Early September
A9: 0303-VSO-NA-GRY | B9: 810142394116 | C9: Vista V3 Stroller - Greyson - Charcoal Mélange | Carbon Frame | Saddle Leather _x000D_ | D9: 1 | F9: =VLOOKUP(A9,Status!A:C,2,FALSE) -> In Stock | G9: TBA | I9: =VLOOKUP(A9,Status!A:C,3,FALSE) -> In Stock | J9: TBA
A10: 0303-VSO-NA-JMS | B10: 810208790685 | C10: Vista V3 Stroller - James - Black | Carbon Frame | Black Leather | D10: 1 | F10: =VLOOKUP(A10,Status!A:C,2,FALSE) -> In Stock | G10: November | I10: =VLOOKUP(A10,Status!A:C,3,FALSE) -> In Stock | J10: December
A11: 0303-VSO-NA-JUL | B11: 810177712350 | C11: Vista V3 Stroller - Julian - Dusty Blue Mélange | Carbon Frame | Chestnut Leather | D11: 1 | F11: =VLOOKUP(A11,Status!A:C,2,FALSE) -> In Stock | G11: TBA | I11: =VLOOKUP(A11,Status!A:C,3,FALSE) -> In Stock | J11: TBA
A12: 0303-VSO-NA-KNZ | B12: 810142394291 | C12: Vista V3 Stroller - Kenzi - Mystic Aqua | Carbon Frame | Saddle Leather _x000D_ | D12: 1 | F12: =VLOOKUP(A12,Status!A:C,2,FALSE) -> Out Of Stock | G12: DISCONTINUED | I12: =VLOOKUP(A12,Status!A:C,3,FALSE) -> In Stock | J12: DISCONTINUED
A13: 0303-VSO-NA-OWN | B13: 810177712367 | C13: Vista V3 Stroller - Owen - Mocha Mélange | Carbon Frame | Chestnut Leather | D13: 1 | F13: =VLOOKUP(A13,Status!A:C,2,FALSE) -> In Stock | G13: Mid October | I13: =VLOOKUP(A13,Status!A:C,3,FALSE) -> In Stock | J13: Early September
A14: 0303-VSO-NA-SAV | B14: 810142394369 | C14: Vista V3 Stroller - Savannah - Pearl Gray Jacquard | Carbon Frame | Chestnut Leather _x000D_ | D14: 1 | F14: =VLOOKUP(A14,Status!A:C,2,FALSE) -> Very Low Stock | G14: DISCONTINUED | I14: =VLOOKUP(A14,Status!A:C,3,FALSE) -> In Stock | J14: DISCONTINUED
A15: 0303-VSO-NA-THO | B15: 810142394239 | C15: Vista V3 Stroller - Theo - Dark Taupe | Silver Frame | Chestnut Leather _x000D_ | D15: 1 | F15: =VLOOKUP(A15,Status!A:C,2,FALSE) -> Out Of Stock | G15: DISCONTINUED | I15: =VLOOKUP(A15,Status!A:C,3,FALSE) -> In Stock | J15: DISCONTINUED
A16: Bassinet V3
A17: 0903-BAS-NA-ADA | B17: 810177718505 | C17: Bassinet V3 - Ada - Sandstone Melange | Carbon Frame | D17: 1 | F17: =VLOOKUP(A17,Status!A:C,2,FALSE) -> Very Low Stock | G17: October | I17: =VLOOKUP(A17,Status!A:C,3,FALSE) -> Out Of Stock | J17: October | K17: SALES ALLOCATING?
A18: 0903-BAS-NA-CLM | B18: 810142394826 | C18: Bassinet V3 - Callum - Stone Blue | Silver Frame | D18: 1 | F18: =VLOOKUP(A18,Status!A:C,2,FALSE) -> In Stock | G18: TBA | I18: =VLOOKUP(A18,Status!A:C,3,FALSE) -> In Stock | J18: TBA
A19: 0903-BAS-NA-EVE | B19: 810177712732 | C19: Bassinet V3 - Evelyn - Meadow Green | Graphite Frame | D19: 1 | F19: =VLOOKUP(A19,Status!A:C,2,FALSE) -> Low Stock | G19: October | I19: =VLOOKUP(A19,Status!A:C,3,FALSE) -> Low Stock | J19: October | K19: SALES ALLOCATING?
A20: 0903-BAS-NA-GRY | B20: 810142394628 | C20: Bassinet V3 - Greyson - Charcoal Mélange | Carbon Frame | D20: 1 | F20: =VLOOKUP(A20,Status!A:C,2,FALSE) -> In Stock | G20: TBA | I20: =VLOOKUP(A20,Status!A:C,3,FALSE) -> In Stock | J20: TBA
A21: 0903-BAS-NA-GWN | B21: 810142394475 | C21: Bassinet V3 - Gwen - Green Mélange | Carbon Frame | D21: 1 | F21: =VLOOKUP(A21,Status!A:C,2,FALSE) -> Very Low Stock | G21: Discontinued | I21: =VLOOKUP(A21,Status!A:C,3,FALSE) -> In Stock | J21: Discontinued
A22: 0903-BAS-NA-JKE | B22: 810142394529 | C22: Bassinet V3 - Jake - Charcoal | Carbon Frame | D22: 1 | F22: =VLOOKUP(A22,Status!A:C,2,FALSE) -> Out Of Stock | G22: Discontinued | I22: =VLOOKUP(A22,Status!A:C,3,FALSE) -> Very Low Stock | J22: Discontinued
A23: 0903-BAS-NA-JMS | B23: 810208790722 | C23: Bassinet V3 - James - Black | Carbon Frame | Black Leather | D23: 1 | F23: =VLOOKUP(A23,Status!A:C,2,FALSE) -> In Stock | G23: October | I23: =VLOOKUP(A23,Status!A:C,3,FALSE) -> Out Of Stock | J23: October
A24: 0903-BAS-NA-JUL | B24: 810177712749 | C24: Bassinet V3 - Julian - Dusty Blue Mélange | Carbon Frame | D24: 1 | F24: =VLOOKUP(A24,Status!A:C,2,FALSE) -> In Stock | G24: TBA | I24: =VLOOKUP(A24,Status!A:C,3,FALSE) -> In Stock | J24: TBA
A25: 0903-BAS-NA-OWN | B25: 810177712756 | C25: Bassinet V3 - Owen - Mocha Mélange | Carbon Frame | D25: 1 | F25: =VLOOKUP(A25,Status!A:C,2,FALSE) -> In Stock | G25: Late September | I25: =VLOOKUP(A25,Status!A:C,3,FALSE) -> In Stock | J25: October
A26: 0903-BAS-NA-SAV | B26: 810142394833 | C26: Bassinet V3 - Savannah - Pearl Gray Jacquard | Carbon Frame | D26: 1 | F26: =VLOOKUP(A26,Status!A:C,2,FALSE) -> In Stock | G26: TBA | I26: =VLOOKUP(A26,Status!A:C,3,FALSE) -> In Stock | J26: TBA
A27: 0903-BAS-NA-THO | B27: 810142394727 | C27: Bassinet V3 - Theo - Dark Taupe | Silver Frame | D27: 1 | F27: =VLOOKUP(A27,Status!A:C,2,FALSE) -> In Stock | G27: TBA | I27: =VLOOKUP(A27,Status!A:C,3,FALSE) -> In Stock | J27: TBA
A28: RumbleSeat V3
A29: 0904-RBS-NA-ADA | B29: 810177718543 | C29: RumbleSeat V3 - Ada - Sandstone Melange | Carbon Frame | Chestnut Leather | D29: 1 | F29: =VLOOKUP(A29,Status!A:C,2,FALSE) -> In Stock | G29: October | I29: =VLOOKUP(A29,Status!A:C,3,FALSE) -> In Stock | J29: TBA
A30: 0904-RBS-NA-CLM | B30: 810142395274 | C30: RumbleSeat V3 - Callum - Stone Blue | Silver Frame | Sand Leather _x000D_ _x000D_ | D30: 1 | F30: =VLOOKUP(A30,Status!A:C,2,FALSE) -> In Stock | G30: TBA | I30: =VLOOKUP(A30,Status!A:C,3,FALSE) -> In Stock | J30: TBA
A31: 0904-RBS-NA-DCL | B31: 810142395021 | C31: RumbleSeat V3 - Declan - Oat Mélange | Silver Frame | Chestnut Leather _x000D_ _x000D_ | D31: 1 | F31: =VLOOKUP(A31,Status!A:C,2,FALSE) -> Out Of Stock | G31: Early October | I31: =VLOOKUP(A31,Status!A:C,3,FALSE) -> In Stock | J31: TBA
A32: 0904-RBS-NA-EVE | B32: 810177712893 | C32: RumbleSeat V3 - Evelyn - Meadow Green | Graphite Frame | Chestnut Leather | D32: 1 | F32: =VLOOKUP(A32,Status!A:C,2,FALSE) -> In Stock | G32: TBA | I32: =VLOOKUP(A32,Status!A:C,3,FALSE) -> In Stock | J32: TBA
A33: 0904-RBS-NA-GRY | B33: 810142395076 | C33: RumbleSeat V3 - Greyson - Charcoal Mélange | Carbon Frame | Saddle Leather _x000D_ _x000D_ _x000D_ | D33: 1 | F33: =VLOOKUP(A33,Status!A:C,2,FALSE) -> In Stock | G33: TBA | I33: =VLOOKUP(A33,Status!A:C,3,FALSE) -> In Stock | J33: TBA
A34: 0904-RBS-NA-GWN | B34: 810142394925 | C34: RumbleSeat V3 - Gwen - Green Mélange | Carbon Frame | Saddle Leather _x000D_ _x000D_ | D34: 1 | F34: =VLOOKUP(A34,Status!A:C,2,FALSE) -> In Stock | G34: TBA | I34: =VLOOKUP(A34,Status!A:C,3,FALSE) -> In Stock | J34: TBA
A35: 0904-RBS-NA-JMS | B35: 810208790760 | C35: RumbleSeat V3- James - Black | Carbon Frame | Black Leather | D35: 1 | F35: =VLOOKUP(A35,Status!A:C,2,FALSE) -> In Stock | G35: TBA | I35: =VLOOKUP(A35,Status!A:C,3,FALSE) -> In Stock | J35: TBA
A36: 0904-RBS-NA-JUL | B36: 810177712909 | C36: RumbleSeat V3 - Julian - Dusty Blue Mélange | Carbon Frame | Chestnut Leather | D36: 1 | F36: =VLOOKUP(A36,Status!A:C,2,FALSE) -> In Stock | G36: TBA | I36: =VLOOKUP(A36,Status!A:C,3,FALSE) -> In Stock | J36: TBA
A37: 0904-RBS-NA-KNZ | B37: 810142395229 | C37: RumbleSeat V3 - Kenzi - Mystic Aqua | Carbon Frame | Saddle Leather _x000D_ _x000D_ | D37: 1 | F37: =VLOOKUP(A37,Status!A:C,2,FALSE) -> In Stock | G37: TBA | I37: =VLOOKUP(A37,Status!A:C,3,FALSE) -> Out Of Stock | J37: TBA
A38: 0904-RBS-NA-NOA | B38: 810142395120 | C38: RumbleSeat V3 - Noa - Navy | Carbon Frame | Saddle Leather | D38: 1 | F38: In Stock | G38: TBA | I38: Out Of Stock | J38: TBA
A39: 0904-RBS-NA-OWN | B39: 810177712916 | C39: RumbleSeat V3 - Owen - Mocha Mélange | Carbon Frame | Chestnut Leather | D39: 1 | F39: =VLOOKUP(A39,Status!A:C,2,FALSE) -> In Stock | G39: TBA | I39: =VLOOKUP(A39,Status!A:C,3,FALSE) -> In Stock | J39: TBA
A40: 0904-RBS-NA-SAV | B40: 810142395281 | C40: RumbleSeat V3 - Savannah - Pearl Gray Jacquard | Carbon Frame | Chestnut Leather _x000D_ _x000D_ | D40: 1 | F40: =VLOOKUP(A40,Status!A:C,2,FALSE) -> In Stock | G40: TBA | I40: =VLOOKUP(A40,Status!A:C,3,FALSE) -> In Stock | J40: TBA
A41: 0904-RBS-NA-THO | B41: 810142395175 | C41: RumbleSeat V3 - Theo - Dark Taupe | Silver Frame | Chestnut Leather _x000D_ _x000D_ | D41: 1 | F41: =VLOOKUP(A41,Status!A:C,2,FALSE) -> In Stock | G41: TBA | I41: =VLOOKUP(A41,Status!A:C,3,FALSE) -> Out Of Stock | J41: TBA
A42: V2+ RumbleSeats
A43: 0903-RBS-CA-STL | B43: 810129596526 | C43: Rumble Seat V2+ Stella - Grey Brushed Mélange | Silver Frame | Chestnut Leather | D43: 1 | F43: =VLOOKUP(A43,Status!A:C,2,FALSE) -> In Stock | G43: DISCONTINUED | I43: =VLOOKUP(A43,Status!A:C,3,FALSE) -> Out Of Stock | J43: DISCONTINUED
A44: Vista Accessories - All Models
A45: 0172 | B45: 817609011920 | C45: Vista RumbleSeat Rain Shield | D45: 4 | F45: =VLOOKUP(A45,Status!A:C,2,FALSE) -> In Stock | G45: TBA | I45: =VLOOKUP(A45,Status!A:C,3,FALSE) -> Very Low Stock | J45: TBA
A46: 0214 | B46: 817609011708 | C46: Vista Upper Adapter (Sold in pairs) | D46: 2 | F46: =VLOOKUP(A46,Status!A:C,2,FALSE) -> In Stock | G46: October | I46: =VLOOKUP(A46,Status!A:C,3,FALSE) -> Low Stock | J46: October
A47: 0901-VLA-NA | B47: 810030099659 | C47: Vista Lower Adapters (Compatible with Mesa/Aria/BAS/RBS) | D47: 2 | F47: =VLOOKUP(A47,Status!A:C,2,FALSE) -> In Stock | G47: TBA | I47: =VLOOKUP(A47,Status!A:C,3,FALSE) -> In Stock | J47: TBA
A48: 0217 | B48: 817609011913 | C48: Vista PiggyBack Ride-Along Board | D48: 4 | F48: =VLOOKUP(A48,Status!A:C,2,FALSE) -> In Stock | G48: TBA | I48: =VLOOKUP(A48,Status!A:C,3,FALSE) -> In Stock | J48: TBA
A49: 0237 | B49: 817609014631 | C49: Vista Snap On Wheel Reflectors | D49: 6 | F49: =VLOOKUP(A49,Status!A:C,2,FALSE) -> In Stock | G49: TBA | I49: =VLOOKUP(A49,Status!A:C,3,FALSE) -> In Stock | J49: TBA
A50: 0273 | B50: 817609014082 | C50: Vista RumbleSeat/Bassinet Travel Bag | D50: 4 | F50: =VLOOKUP(A50,Status!A:C,2,FALSE) -> In Stock | G50: TBA | I50: =VLOOKUP(A50,Status!A:C,3,FALSE) -> Out Of Stock | J50: TBA
A51: 0901-ATV-WW | B51: 810129597165 | C51: Vista All Terrian Wheels | D51: 1 | F51: =VLOOKUP(A51,Status!A:C,2,FALSE) -> In Stock | G51: October | I51: =VLOOKUP(A51,Status!A:C,3,FALSE) -> In Stock | J51: October
A52: Cruz V3 Strollers
A53: 0403-CRZ-NA-ADA | B53: 810177718581 | C53: Cruz V3 Stroller - Ada - Sandstone Melange | Carbon Frame | Chestnut Leather | D53: 1 | F53: =VLOOKUP(A53,Status!A:C,2,FALSE) -> In Stock | G53: October | I53: =VLOOKUP(A53,Status!A:C,3,FALSE) -> In Stock | J53: TBA
A54: 0403-CRZ-NA-CLM | B54: 810177711438 | C54: Cruz V3 Stroller - Callum - Stone Blue | Silver Frame | Sand Leather | D54: 1 | F54: =VLOOKUP(A54,Status!A:C,2,FALSE) -> In Stock | G54: TBA | I54: =VLOOKUP(A54,Status!A:C,3,FALSE) -> In Stock | J54: TBA
A55: 0403-CRZ-NA-EVE | B55: 810177712466 | C55: Cruz V3 Stroller - Evelyn - Meadow Green | Graphite Frame | Chestnut Leather | D55: 1 | F55: =VLOOKUP(A55,Status!A:C,2,FALSE) -> Out Of Stock | G55: Late September | I55: =VLOOKUP(A55,Status!A:C,3,FALSE) -> Out Of Stock | J55: October
A56: 0403-CRZ-NA-GRY | B56: 810177711407 | C56: Cruz V3 Stroller - Greyson - Charcoal Mélange | Carbon Frame | Saddle Leather | D56: 1 | F56: =VLOOKUP(A56,Status!A:C,2,FALSE) -> In Stock | G56: TBA | I56: =VLOOKUP(A56,Status!A:C,3,FALSE) -> In Stock | J56: TBA
A57: 0403-CRZ-NA-JMS | B57: 810208790807 | C57: Cruz V3 Stroller - James - Black | Carbon Frame | Black Leather | D57: 1 | F57: =VLOOKUP(A57,Status!A:C,2,FALSE) -> In Stock | G57: Late September | I57: =VLOOKUP(A57,Status!A:C,3,FALSE) -> In Stock | J57: TBA
A58: 0403-CRZ-NA-JUL | B58: 810177712473 | C58: Cruz V3 Stroller - Julian - Dusty Blue Mélange | Carbon Frame | Chestnut Leather | D58: 1 | F58: =VLOOKUP(A58,Status!A:C,2,FALSE) -> In Stock | G58: TBA | I58: =VLOOKUP(A58,Status!A:C,3,FALSE) -> In Stock | J58: TBA
A59: 0403-CRZ-NA-OWN | B59: 810177712480 | C59: Cruz V3 Stroller - Owen - Mocha Mélange | Carbon Frame | Chestnut Leather | D59: 1 | F59: =VLOOKUP(A59,Status!A:C,2,FALSE) -> In Stock | G59: November | I59: =VLOOKUP(A59,Status!A:C,3,FALSE) -> In Stock | J59: TBA
A60: 0403-CRZ-NA-SAV | B60: 810177711421 | C60: Cruz V3 Stroller - Savannah - Pearl Gray Jacquard | Carbon Frame | Chestnut Leather | D60: 1 | F60: =VLOOKUP(A60,Status!A:C,2,FALSE) -> In Stock | G60: TBA | I60: =VLOOKUP(A60,Status!A:C,3,FALSE) -> In Stock | J60: TBA
A61: Cruz Accessories - All Models
A62: 0270 | B62: 817609014129 | C62: Cruz PiggyBack Ride-Along Board *Fits all Cruz model before V2 | D62: 4 | F62: =VLOOKUP(A62,Status!A:C,2,FALSE) -> In Stock | G62: TBA | I62: =VLOOKUP(A62,Status!A:C,3,FALSE) -> In Stock | J62: TBA | K62: *Fits all Cruz model years BEFORE V2
A63: 0917-CLB-WW-BLK | B63: 817609016062 | C63: Cruz Leather Handle Bar Cover (Black) | D63: 4 | F63: =VLOOKUP(A63,Status!A:C,2,FALSE) -> Out Of Stock | G63: DISCONTINUED | I63: =VLOOKUP(A63,Status!A:C,3,FALSE) -> In Stock | J63: DISCONTINUED
A64: 0919-CBC-WW | B64: 850001436731 | C64: Cruz (2015-2019) Basket Cover *Fits Models 2015 - 2019 | D64: 4 | F64: =VLOOKUP(A64,Status!A:C,2,FALSE) -> Out Of Stock | G64: DISCONTINUED | I64: =VLOOKUP(A64,Status!A:C,3,FALSE) -> In Stock | J64: DISCONTINUED | K64: *Fits Models 2015 - 2019
A65: 0919-CPB-WW | B65: 810030091370 | C65: Cruz V2 PiggyBack Ride Along Board *Fits V2 Models Only | D65: 4 | F65: =VLOOKUP(A65,Status!A:C,2,FALSE) -> Out Of Stock | G65: Early September | I65: =VLOOKUP(A65,Status!A:C,3,FALSE) -> In Stock | J65: TBA | K65: *Fits V2 Models Only
A66: 0901-CUA-WW | B66: 810129599954 | C66: Upper Adapters for Cruz V2 | D66: 4 | F66: =VLOOKUP(A66,Status!A:C,2,FALSE) -> In Stock | G66: TBA | I66: =VLOOKUP(A66,Status!A:C,3,FALSE) -> Out Of Stock | J66: TBA
A67: 0901-CPR-WW | B67: 810177717164 | C67: Performance Rain Shield for Cruz V3 | D67: 4 | F67: =VLOOKUP(A67,Status!A:C,2,FALSE) -> In Stock | G67: TBA | I67: =VLOOKUP(A67,Status!A:C,3,FALSE) -> In Stock | J67: TBA | K67: *Fits V3 Models Only
A68: 0903-CBC-WW | B68: 810177712213 | C68: Cruz V3 Stroller Basket Cover | D68: 4 | F68: =VLOOKUP(A68,Status!A:C,2,FALSE) -> In Stock | G68: TBA | I68: =VLOOKUP(A68,Status!A:C,3,FALSE) -> Out Of Stock | J68: TBA | K68: *Fits V3 Models Only
A69: Kona Strollers
A70: 2201-KNA-NA-RWN | B70: 810208793099 | C70: Kona Stroller - Rowan - Graphite | Graphite Frame | Saddle Leather | D70: 1 | F70: Coming Soon | G70: October | I70: Coming Soon | J70: Late September
A71: 2201-KNA-NA-ADA | B71: 810208791194 | C71: Kona Stroller - Ada - Sandstone Mélange | Carbon Frame | Chestnut Leather | D71: 1 | F71: Coming Soon | G71: October | I71: Coming Soon | J71: Late September
A72: 2201-KNA-NA-EVE | B72: 810208791163 | C72: Kona Stroller - Evelyn - Meadow Green | Graphite Frame | Chestnut Leather | D72: 1 | F72: Coming Soon | G72: October | I72: Coming Soon | J72: Late September
A73: 2201-KNA-NA-JMS | B73: 810208791170 | C73: Kona Stroller- James - Black | Carbon Frame | Black Leather | D73: 1 | F73: Coming Soon | G73: October | I73: Coming Soon | J73: Late September
A74: Kona Accessories
A75: 0901-KPR-WW | B75: 810208793037 | C75: Performance Rain shield for Kona | D75: 1 | F75: Coming Soon | G75: Late September | I75: Coming Soon | J75: Late September
A76: 0901-KST-WW | B76: 810208793013 | C76: Snack Tray for Kona | D76: 1 | F76: Coming Soon | G76: October | I76: Coming Soon | J76: October
A77: 0901-KTB-WW | B77: 810208793044 | C77: Travel Bag for Kona | D77: 1 | F77: Coming Soon | G77: October | I77: Coming Soon | J77: October
A78: Ridge Strollers
A79: 1403-RDG-NA-EVE | B79: 810177719748 | C79: Ridge V2 Stroller - Evelyn – Meadow Green | Carbon Frame | D79: 1 | F79: =VLOOKUP(A79,Status!A:C,2,FALSE) -> Out Of Stock | G79: Mid September | I79: =VLOOKUP(A79,Status!A:C,3,FALSE) -> Out Of Stock | J79: Mid September
A80: 1403-RDG-NA-JMS | B80: 810177719731 | C80: Ridge V2 Stroller - James – Black | Carbon Frame | D80: 1 | F80: =VLOOKUP(A80,Status!A:C,2,FALSE) -> In Stock | G80: Late September | I80: =VLOOKUP(A80,Status!A:C,3,FALSE) -> In Stock | J80: TBA
A81: 1403-RDG-NA-SAV | B81: 810177719724 | C81: Ridge V2 Stroller - Savannah – Pearl Grey | Carbon Frame | D81: 1 | F81: =VLOOKUP(A81,Status!A:C,2,FALSE) -> Very Low Stock | G81: Mid September | I81: =VLOOKUP(A81,Status!A:C,3,FALSE) -> Out Of Stock | J81: Mid September
A82: Ridge Accessories
A83: 0901-RBB-WW | B83: 810030093275 | C83: Bumper Bar for Ridge | D83: 4 | F83: =VLOOKUP(A83,Status!A:C,2,FALSE) -> Very Low Stock | G83: November | I83: =VLOOKUP(A83,Status!A:C,3,FALSE) -> In Stock | J83: TBA
A84: 0901-RCH-WW | B84: 810030093558 | C84: Cup Holder for Ridge | D84: 4 | F84: =VLOOKUP(A84,Status!A:C,2,FALSE) -> In Stock | G84: TBA | I84: =VLOOKUP(A84,Status!A:C,3,FALSE) -> In Stock | J84: TBA
A85: 0901-RMA-WW | B85: 810030093251 | C85: Adapters for Ridge (Mesa and Bassinet) | D85: 2 | F85: =VLOOKUP(A85,Status!A:C,2,FALSE) -> Out Of Stock | G85: Late September | I85: =VLOOKUP(A85,Status!A:C,3,FALSE) -> Out Of Stock | J85: October
A86: 0901-RMX-WW | B86: 810030093268 | C86: Car Seat Adapters for Ridge (Maxi-Cosi®, Nuna®, Cybex) | D86: 2 | F86: =VLOOKUP(A86,Status!A:C,2,FALSE) -> In Stock | G86: TBA | I86: =VLOOKUP(A86,Status!A:C,3,FALSE) -> Out Of Stock | J86: TBA
A87: 0901-RPB-WW | B87: 810030093992 | C87: PiggyBack for Ridge | D87: 4 | F87: =VLOOKUP(A87,Status!A:C,2,FALSE) -> Very Low Stock | G87: October | I87: =VLOOKUP(A87,Status!A:C,3,FALSE) -> In Stock | J87: TBA
A88: 0901-RPC-WW | B88: 810030093541 | C88: Parent Console for Ridge | D88: 4 | F88: =VLOOKUP(A88,Status!A:C,2,FALSE) -> Very Low Stock | G88: DISCONTINUED | I88: =VLOOKUP(A88,Status!A:C,3,FALSE) -> Very Low Stock | J88: DISCONTINUED
A89: 0901-RRS-WW | B89: 810030093565 | C89: Performance Rain Shield for Ridge | D89: 4 | F89: =VLOOKUP(A89,Status!A:C,2,FALSE) -> In Stock | G89: TBA | I89: =VLOOKUP(A89,Status!A:C,3,FALSE) -> Out Of Stock | J89: TBA
A90: 0901-RSB-WW | B90: 810030093572 | C90: Sun and Bug Shield for Ridge | D90: 4 | F90: =VLOOKUP(A90,Status!A:C,2,FALSE) -> In Stock | G90: TBA | I90: =VLOOKUP(A90,Status!A:C,3,FALSE) -> In Stock | J90: TBA
A91: 0901-RST-WW | B91: 810030093282 | C91: Snack Tray for Ridge | D91: 4 | F91: =VLOOKUP(A91,Status!A:C,2,FALSE) -> In Stock | G91: TBA | I91: =VLOOKUP(A91,Status!A:C,3,FALSE) -> In Stock | J91: TBA
A92: Minu V3 Strollers
A93: 0803-MIN-NA-ADA | B93: 810177718635 | C93: Minu V3 Stroller - Ada - Sandstone | Carbon Frame | Chestnut Leather | D93: 1 | F93: =VLOOKUP(A93,Status!A:C,2,FALSE) -> Very Low Stock | G93: Late September | I93: =VLOOKUP(A93,Status!A:C,3,FALSE) -> In Stock | J93: October
A94: 0803-MIN-NA-DIL | B94: 810142399517 | C94: Minu V3 Stroller - Dillan - Stone Blue | Carbon Frame | Sand Leather | D94: 1 | F94: =VLOOKUP(A94,Status!A:C,2,FALSE) -> In Stock | G94: November | I94: =VLOOKUP(A94,Status!A:C,3,FALSE) -> In Stock | J94: TBA
A95: 0803-MIN-NA-EVE | B95: 810177717898 | C95: Minu V3 Stroller - Evelyn - Meadow Green | Carbon Frame | Chestnut Leather | D95: 1 | F95: =VLOOKUP(A95,Status!A:C,2,FALSE) -> In Stock | G95: October | I95: =VLOOKUP(A95,Status!A:C,3,FALSE) -> In Stock | J95: October
A96: 0803-MIN-NA-GRY | B96: 810142399180 | C96: Minu V3 Stroller - Greyson - Charcoal Mélange | Carbon Frame | Saddle Leather | D96: 1 | F96: =VLOOKUP(A96,Status!A:C,2,FALSE) -> In Stock | G96: TBA | I96: =VLOOKUP(A96,Status!A:C,3,FALSE) -> In Stock | J96: TBA
A97: 0803-MIN-NA-JMS | B97: 810142399197 | C97: Minu V3 Stroller - James - Black | Carbon Frame | Black Leather | D97: 1 | F97: =VLOOKUP(A97,Status!A:C,2,FALSE) -> In Stock | G97: Late September | I97: =VLOOKUP(A97,Status!A:C,3,FALSE) -> In Stock | J97: October
A98: 0803-MIN-NA-SAV | B98: 810142399562 | C98: Minu V3 Stroller - Savannah - Pearl Gray Jacquard | Carbon Frame | Chestnut Leather | D98: 1 | F98: =VLOOKUP(A98,Status!A:C,2,FALSE) -> In Stock | G98: TBA | I98: =VLOOKUP(A98,Status!A:C,3,FALSE) -> In Stock | J98: TBA
A99: Minu V3 Accessories
A100: 0901-MXA-WW | B100: 810142398657 | C100: Car Seat Adapters for MINU V3 (MAXI-COSI, NUNA, CYBEX) | D100: 2 | F100: =VLOOKUP(A100,Status!A:C,2,FALSE) -> In Stock | G100: TBA | I100: =VLOOKUP(A100,Status!A:C,3,FALSE) -> In Stock | J100: TBA
A101: 0902-MPB-NA | B101: 810142398671 | C101: Piggyback for Minu - Compatible with all Minu models | D101: 4 | F101: =VLOOKUP(A101,Status!A:C,2,FALSE) -> In Stock | G101: DISCONTINUED | I101: =VLOOKUP(A101,Status!A:C,3,FALSE) -> Out Of Stock | J101: DISCONTINUED
...

Sheet Status
A1: SKU | B1: ON | C1: BC
A2: Accessories | B2: STATUS | C2: STATUS
A3: 0001 | B3: Out Of Stock | C3: Out Of Stock
A4: 0028 | B4: Out Of Stock | C4: In Stock
A5: 0029 | B5: Out Of Stock | C5: In Stock
A6: 0033 | B6: Out Of Stock | C6: Out Of Stock
A7: 0048-ALX | B7: Out Of Stock | C7: Out Of Stock
A8: 0048-CLN | B8: Out Of Stock | C8: Out Of Stock
A9: 0048-MCA | B9: Out Of Stock | C9: Out Of Stock
A10: 0050 | B10: Out Of Stock | C10: In Stock
A11: 0054-CP | B11: In Stock | C11: Out Of Stock
A12: 0055 | B12: Out Of Stock | C12: Out Of Stock
... A1063: 2201-KNA-NA-JMS | B1063: Out Of Stock | C1063: Out Of Stock
A1064: 2201-KNA-NA-OWN | B1064: #N/A | C1064: #N/A
A1065: 2201-KNA-NA-RWN | B1065: Very Low Stock | C1065: Out Of Stock
A1066: Total - KONA | B1066: Out Of Stock | C1066: Out Of Stock
A1067: Minu | B1067: Out Of Stock | C1067: Out Of Stock
A1068: 0818-MIN-CA-DEV | B1068: Out Of Stock | C1068: Out Of Stock
A1069: 0818-MIN-CA-DNY | B1069: Out Of Stock | C1069: Out Of Stock
A1070: 0818-MIN-CA-JKE | B1070: Out Of Stock | C1070: Out Of Stock
A1071: 0818-MIN-CA-JOR | B1071: Out Of Stock | C1071: Out Of Stock
A1072: 0818-MIN-CA-RYN | B1072: Out Of Stock | C1072: Out Of Stock
A1073: Total - Minu | B1073: Out Of Stock | C1073: Out Of Stock
A1074: Minu Duo | B1074: Out Of Stock | C1074: Out Of Stock
A1075: Minu Duo | B1075: Out Of Stock | C1075: Out Of Stock
A1076: 0801-MND-NA-ADA | B1076: In Stock | C1076: Out Of Stock
... A1184: Total - Stroller | B1184: Out Of Stock | C1184: Out Of Stock
A1185: Total - Inventory Item | B1185: #N/A | C1185: #N/A
A1186: Total | B1186: #N/A | C1186: #N/A

Sheet 4moms
A1: #VALUE!
A2: SKU | B2: UPC CODES | C2: DESCRIPTION | D2: FASHION | E2: Stock Status | F2: Next ETA
A3: 2000177 | B3: 817980017139 | C3: Newborn Insert - plush | D3: Maroon | E3: Low Stock | F3: DISCONTINUED | G3: 30
A4: 2000178 | B4: 817980011168 | C4: Newborn Insert - plush | D4: Yellow | E4: Very Low Stock | F4: DISCONTINUED | G4: 18
A6: 2000772 | B6: 817980017191 | C6: mamaRoo sleep bassinet sheet - cotton | D6: Grey | E6: In Stock | F6: DISCONTINUED | G6: 66
A7: LAST CHANCE (items below are discontinued)
A8: 2000916 | B8: 817980017450 | C8: connect high chair | D8: White/Grey | E8: In Stock | F8: DISCONTINUED | G8: 107
A9: 2000967 | B9: 817980017412 | C9: breeze bassinet sheet - cotton (single) | D9: White Crosshatch | E9: In Stock | F9: DISCONTINUED | G9: 92
A10: 2000968 | B10: 817980017429 | C10: breeze bassinet sheet - waterproof (single) | D10: Grey Beads | E10: In Stock | F10: DISCONTINUED | G10: 106
A11: 2000959 | B11: 817980017375 | C11: breeze playard sheet - cotton (single) | D11: White Crosshatch | E11: Very Low Stock | F11: DISCONTINUED | G11: 30
A12: 2000960 | B12: 817980017382 | C12: breeze playard sheet - waterproof (single) | D12: Grey Beads | E12: In Stock | F12: DISCONTINUED | G12: 83

Sheet MH, RS
A1: The Mommy Hook
A2: Part Number | B2: Description | C2: Stock Status | D2: UNITS LEFT | E2: ETA of next Shipment
A3: BK1036 | B3: Mommy Hook - Double Stroller Hook (Black/Black & Black/Blue) | C3: Very Low Stock | D3: 5
A4: MOM0104 | B4: The Mommy Light® 2-Pack Stroller Light - Black | C4: In Stock | D4: 498
A5: MOM0102 | B5: The Mommy Light® 2-Pack Stroller Light - Grey | C5: Low Stock | D5: 35
A6: REAL SHADES
A7: Part Number | B7: Description | C7: Size | D7: Stock Status | E7: WHAT'S LEFT?
A8: 0EXPRYGR | B8: EXPLORER - Royal Blue/Green - Flex Fit & Removable Band | C8: Baby 0+ | D8: In stock | E8: 68
A9: 0EXPPKHP | B9: EXPLORER - Pink/Hot Pink - Flex Fit & Removable Band ~ NEW! | C9: Baby 0+ | D9: In stock | E9: 78
A10: 0SURWHT | B10: SURF - White Iconic Style - Flexable Frame | C10: Baby 0+ | D10: In stock | E10: 116
A11: 2EXPRYGR | B11: EXPLORER - Royal Blue/Green - Flex Fit & Removable Band | C11: Toddler 2+ | D11: In stock | E11: 76
A12: 2EXPPKHP | B12: EXPLORER - Pink/Hot Pink - Flex Fit & Removable Band ~ NEW! | C12: Toddler 2+ | D12: In stock | E12: 68
A13: 2EXPBLLB | B13: EXPLORER - Blue/Light - Blue Flexible Frame | C13: Toddler 2+ | D13: In stock | E13: 52
A14: 2DISPUPK | B14: DISCOVER - Purple/Pink - Flex Fit | C14: Toddler 2+ | D14: Very Low Stock | E14: 14
A15: 2SURWHT | B15: SURF - White Wayfarer - Flex Fit ~ NEW! | C15: Toddler 2+ | D15: In stock | E15: 140
A16: 2SWIGRBL | B16: SWITCH - Green/Blue Colour Changing Wayfarer | C16: Toddler 2+ | D16: In Stock | E16: 88
A17: 2SWIYLOR | B17: SWITCH - Yellow/Orange Colour Changing Wayfarer | C17: Toddler 2+ | D17: In Stock | E17: 118
A18: 4SCRBLK | B18: SURF - Screen Shades - Black Flex Fit with Blue Light | C18: Kids 4+ | D18: Low Stock | E18: 32
A19: 4SCRCHEC | B19: CHILL - Screen Shades - Matte Cheetah Flex Fit with Blue Light | C19: Kids 4+ | D19: Low Stock | E19: 24
... A28: 2BLMWHT | B28: BLOOM - White | C28: Toddler 2+ | D28: In Stock | E28: 106
A29: 4BLMWHT | C29: Kids 4+ | D29: In Stock | E29: 156
A30: 2BLMPAN | B30: BLOOM - Pancake Batter (Yellow) | C30: Toddler 2+ | D30: In Stock | E30: 152
A31: 4BLMPAN | C31: Kids 4+ | D31: In Stock | E31: 160
B32: HEART - Rose Tan (Pink)
A33: 4HRTROS | C33: Kids 4+ | D33: In Stock | E33: 88
B34: HEART - Almond Oil (White)
A35: 4HRTALM | C35: Kids 4+ | D35: In Stock | E35: 172
A36: 2STAWHT | B36: STAR - White | C36: Toddler 2+ | D36: In Stock | E36: 72
A37: 4STAWHT | C37: Kids 4+ | D37: In Stock | E37: 152
A38: 0VIBMVE | B38: VIBE - Matte Mauve | C38: Baby 0+ | D38: Out of Stock | E38: 0
A39: 2VIBMVE | C39: Toddler 2+ | D39: In Stock | E39: 104
A40: 4VIBMVE | C40: Kids 4+ | D40: In Stock | E40: 164
A41: 0VIBWMG | B41: VIBE - Matte Warm Grey | C41: Baby 0+ | D41: Out of Stock | E41: 0
A42: 2VIBWMG | C42: Toddler 2+ | D42: Very Low Stock | E42: 8
A43: 4VIBWMG | C43: Kids 4+ | D43: In Stock | E43: 100
A44: 0VIBCBL | B44: VIBE - Matte Cool Blue | C44: Baby 0+ | D44: In Stock | E44: 160
A45: 2VIBCBL | C45: Toddler 2+ | D45: In Stock | E45: 152
A46: 4VIBCBL | C46: Kids 4+ | D46: In Stock | E46: 164
A47: 0VIBMNT | B47: VIBE - Matte Mint Green | C47: Baby 0+ | D47: In Stock | E47: 117
A48: 2VIBMNT | C48: Toddler 2+ | D48: In Stock | E48: 105
A49: 4VIBMNT | C49: Kids 4+ | D49: In Stock | E49: 172
A50: 0CHIPRD | B50: CHILL - Rainbow Lens Sunglasses - White with Rainbow Lens | C50: Baby 0+ | D50: Low Stock | E50: 10
A51: 2CHIPRD | C51: Toddler 2+ | D51: In Stock | E51: 128
A52: 4CHIPRD | C52: Kids 4+ | D52: In Stock | E52: 57
A53: DSP20PCSCR | B53: 20 Piece Screen Shades Display | D53: In Stock | E53: 17
A54: DSPUNBREAKABLE | B54: Counter Display - CHILL Unbreakable | D54: In Stock | E54: 30
A55: DSPSWITCH | B55: Counter Display - Switch | D55: In Stock | E55: 19
