Workbook

Sheet UPPAbaby_Order_Form
D1: UPPAbaby Canada Drop Ship Price List - 2026
A2: RETAILER: | D2: ORDER DATE:
A3: CONTACT NAME: | D3: CONTACT PHONE:
A4: CONTACT EMAIL:
A5: SHIPPING ADDRESS:
A6: Min Order Value: $300. For orders less than $300, there is a $10 processing fee.
A7: SKU | B7: UPC CODES | C7: DESCRIPTION | D7: CASEPACK QTY | E7: WHOLESALE (CAD) | F7: MSRP (CAD) | G7: STOCK STATUS ON | H7: STOCK STATUS BC | I7: QTY | J7: TOTAL
A9: Strollers
A10: Vista V3 Strollers
A11: 0303-VSO-NA-ADA | B11: 810177718468 | C11: Vista V3 Stroller - Ada - Sandstone Melange | Carbon Frame | Chestnut Leather | D11: 1 | E11: 870.99 | F11: 1299.99 | G11: =VLOOKUP($A11,Stock_Status!$A:$C,2,FALSE()) -> Low Stock | H11: =VLOOKUP($A11,Stock_Status!$A:$C,3,FALSE()) -> In Stock | J11: =E11*I11 -> 0
A12: 0303-VSO-NA-CLM | B12: 810142394352 | C12: Vista V3 Stroller - Callum - Stone Blue | Silver Frame | Sand Leather | D12: 1 | E12: 870.99 | F12: 1299.99 | G12: =VLOOKUP($A12,Stock_Status!$A:$C,2,FALSE()) -> In Stock | H12: =VLOOKUP($A12,Stock_Status!$A:$C,3,FALSE()) -> In Stock | J12: =E12*I12 -> 0
A13: 0303-VSO-NA-EVE | B13: 810177712343 | C13: Vista V3 Stroller - Evelyn - Meadow Green | Graphite Frame | Chestnut Leather | D13: 1 | E13: 870.99 | F13: 1299.99 | G13: =VLOOKUP($A13,Stock_Status!$A:$C,2,FALSE()) -> In Stock | H13: =VLOOKUP($A13,Stock_Status!$A:$C,3,FALSE()) -> Low Stock | J13: =E13*I13 -> 0
A14: 0303-VSO-NA-GRY | B14: 810142394116 | C14: Vista V3 Stroller - Greyson - Charcoal Mélange | Carbon Frame | Saddle Leather | D14: 1 | E14: 870.99 | F14: 1299.99 | G14: =VLOOKUP($A14,Stock_Status!$A:$C,2,FALSE()) -> In Stock | H14: =VLOOKUP($A14,Stock_Status!$A:$C,3,FALSE()) -> In Stock | J14: =E14*I14 -> 0
A15: 0303-VSO-NA-GWN | B15: 810142390064 | C15: Vista V3 Stroller - Gwen - Green Mélange | Carbon Frame | Saddle Leather *DISCONTINUED | D15: 1 | E15: 783.89 | F15: 1169.99 | G15: =VLOOKUP($A15,Stock_Status!$A:$C,2,FALSE()) -> Out Of Stock | H15: =VLOOKUP($A15,Stock_Status!$A:$C,3,FALSE()) -> Out Of Stock | J15: =E15*I15 -> 0
A16: 0303-VSO-NA-JMS | B16: 810208790685 | C16: Vista V3 Stroller - James - Black | Carbon Frame | Black Leather | D16: 1 | E16: 870.99 | F16: 1299.99 | G16: In Stock | H16: In Stock | J16: =E16*I16 -> 0
A17: 0303-VSO-NA-JUL | B17: 810177712350 | C17: Vista V3 Stroller - Julian - Dusty Blue Mélange | Carbon Frame | Chestnut Leather | D17: 1 | E17: 783.89 | F17: 1169.99 | G17: =VLOOKUP($A17,Stock_Status!$A:$C,2,FALSE()) -> In Stock | H17: =VLOOKUP($A17,Stock_Status!$A:$C,3,FALSE()) -> In Stock | J17: =E17*I17 -> 0
A18: 0303-VSO-NA-KNZ | B18: 810142394291 | C18: Vista V3 Stroller - Kenzi - Mystic Aqua | Carbon Frame | Saddle Leather *DISCONTINUED | D18: 1 | E18: 783.89 | F18: 1169.99 | G18: =VLOOKUP($A18,Stock_Status!$A:$C,2,FALSE()) -> Out Of Stock | H18: =VLOOKUP($A18,Stock_Status!$A:$C,3,FALSE()) -> In Stock | J18: =E18*I18 -> 0
A19: 0303-VSO-NA-OWN | B19: 810177712367 | C19: Vista V3 Stroller - Owen - Mocha Mélange | Carbon Frame | Chestnut Leather | D19: 1 | E19: 870.99 | F19: 1299.99 | G19: =VLOOKUP($A19,Stock_Status!$A:$C,2,FALSE()) -> In Stock | H19: =VLOOKUP($A19,Stock_Status!$A:$C,3,FALSE()) -> In Stock | J19: =E19*I19 -> 0
A20: 0303-VSO-NA-SAV | B20: 810142394369 | C20: Vista V3 Stroller - Savannah - Pearl Gray Jacquard | Carbon Frame | Chestnut Leather | D20: 1 | E20: 783.89 | F20: 1169.99 | G20: =VLOOKUP($A20,Stock_Status!$A:$C,2,FALSE()) -> Very Low Stock | H20: =VLOOKUP($A20,Stock_Status!$A:$C,3,FALSE()) -> In Stock | J20: =E20*I20 -> 0
A21: 0303-VSO-NA-THO | B21: 810142394239 | C21: Vista V3 Stroller - Theo - Dark Taupe | Silver Frame | Chestnut Leather *DISCONTINUED | D21: 1 | E21: 870.99 | F21: 1299.99 | G21: =VLOOKUP($A21,Stock_Status!$A:$C,2,FALSE()) -> Out Of Stock | H21: =VLOOKUP($A21,Stock_Status!$A:$C,3,FALSE()) -> In Stock | J21: =E21*I21 -> 0
A22: 0303-VSO-NA | I22: =SUM(I11:I21) -> 0 | J22: =E22*I22 -> 0
A23: Bassinet V3
A24: 0903-BAS-NA-ADA | B24: 810177718505 | C24: Bassinet V3 - Ada - Sandstone Melange | Carbon Frame | D24: 1 | E24: 200.99 | F24: 299.99 | G24: =VLOOKUP($A24,Stock_Status!$A:$C,2,FALSE()) -> Very Low Stock | H24: =VLOOKUP($A24,Stock_Status!$A:$C,3,FALSE()) -> Out Of Stock | J24: =E24*I24 -> 0
A25: 0903-BAS-NA-CLM | B25: 810142394826 | C25: Bassinet V3 - Callum - Stone Blue | Silver Frame | D25: 1 | E25: 200.99 | F25: 299.99 | G25: =VLOOKUP($A25,Stock_Status!$A:$C,2,FALSE()) -> In Stock | H25: =VLOOKUP($A25,Stock_Status!$A:$C,3,FALSE()) -> In Stock | J25: =E25*I25 -> 0
A26: 0903-BAS-NA-DCL | B26: 810142394574 | C26: Bassinet V3 - Declan - Oat Mélange | Silver Frame *DISCONTINUED | D26: 1 | E26: 133.99 | F26: 199.99 | G26: =VLOOKUP($A26,Stock_Status!$A:$C,2,FALSE()) -> Out Of Stock | H26: =VLOOKUP($A26,Stock_Status!$A:$C,3,FALSE()) -> Out Of Stock | J26: =E26*I26 -> 0
A27: 0903-BAS-NA-EVE | B27: 810177712732 | C27: Bassinet V3 - Evelyn - Meadow Green | Graphite Frame | D27: 1 | E27: 200.99 | F27: 299.99 | G27: =VLOOKUP($A27,Stock_Status!$A:$C,2,FALSE()) -> Low Stock | H27: =VLOOKUP($A27,Stock_Status!$A:$C,3,FALSE()) -> Low Stock | J27: =E27*I27 -> 0
A28: 0903-BAS-NA-GRY | B28: 810142394628 | C28: Bassinet V3 - Greyson - Charcoal Mélange | Carbon Frame | D28: 1 | E28: 200.99 | F28: 299.99 | G28: =VLOOKUP($A28,Stock_Status!$A:$C,2,FALSE()) -> In Stock | H28: =VLOOKUP($A28,Stock_Status!$A:$C,3,FALSE()) -> In Stock | J28: =E28*I28 -> 0
A29: 0903-BAS-NA-GWN | B29: 810142394475 | C29: Bassinet V3 - Gwen - Green Mélange | Carbon Frame | D29: 1 | E29: 200.99 | F29: 299.99 | G29: =VLOOKUP($A29,Stock_Status!$A:$C,2,FALSE()) -> Very Low Stock | H29: =VLOOKUP($A29,Stock_Status!$A:$C,3,FALSE()) -> In Stock | J29: =E29*I29 -> 0
A30: 0903-BAS-NA-JKE | B30: 810142394529 | C30: Bassinet V3 - Jake - Charcoal | Carbon Frame | D30: 1 | E30: 200.99 | F30: 299.99 | G30: =VLOOKUP($A30,Stock_Status!$A:$C,2,FALSE()) -> Out Of Stock | H30: =VLOOKUP($A30,Stock_Status!$A:$C,3,FALSE()) -> Very Low Stock | J30: =E30*I30 -> 0
A31: 0903-BAS-NA-JMS | B31: 810208790722 | C31: Bassinet V3 - James - Black | Carbon Frame | Black Leather | D31: 1 | E31: 200.99 | F31: 299.99 | G31: In Stock | H31: In Stock | J31: =E31*I31 -> 0
A32: 0903-BAS-NA-JUL | B32: 810177712749 | C32: Bassinet V3 - Julian - Dusty Blue Mélange | Carbon Frame | D32: 1 | E32: 200.99 | F32: 299.99 | G32: =VLOOKUP($A32,Stock_Status!$A:$C,2,FALSE()) -> In Stock | H32: =VLOOKUP($A32,Stock_Status!$A:$C,3,FALSE()) -> In Stock | J32: =E32*I32 -> 0
A33: 0903-BAS-NA-OWN | B33: 810177712756 | C33: Bassinet V3 - Owen - Mocha Mélange | Carbon Frame | D33: 1 | E33: 200.99 | F33: 299.99 | G33: =VLOOKUP($A33,Stock_Status!$A:$C,2,FALSE()) -> In Stock | H33: =VLOOKUP($A33,Stock_Status!$A:$C,3,FALSE()) -> In Stock | J33: =E33*I33 -> 0
A34: 0903-BAS-NA-SAV | B34: 810142394833 | C34: Bassinet V3 - Savannah - Pearl Gray Jacquard | Carbon Frame | D34: 1 | E34: 200.99 | F34: 299.99 | G34: =VLOOKUP($A34,Stock_Status!$A:$C,2,FALSE()) -> In Stock | H34: =VLOOKUP($A34,Stock_Status!$A:$C,3,FALSE()) -> In Stock | J34: =E34*I34 -> 0
A35: 0903-BAS-NA-THO | B35: 810142394727 | C35: Bassinet V3 - Theo - Dark Taupe | Silver Frame | D35: 1 | E35: 200.99 | F35: 299.99 | G35: =VLOOKUP($A35,Stock_Status!$A:$C,2,FALSE()) -> In Stock | H35: =VLOOKUP($A35,Stock_Status!$A:$C,3,FALSE()) -> In Stock | J35: =E35*I35 -> 0
A36: 0903-BAS-NA | I36: =SUM(I24:I35) -> 0 | J36: =E36*I36 -> 0
A37: RumbleSeat V3
A38: 0904-RBS-NA-ADA | B38: 810177718543 | C38: RumbleSeat V3 - Ada - Sandstone Melange | Carbon Frame | Chestnut Leather | D38: 1 | E38: 288.09 | F38: 429.99 | G38: =VLOOKUP($A38,Stock_Status!$A:$C,2,FALSE()) -> In Stock | H38: =VLOOKUP($A38,Stock_Status!$A:$C,3,FALSE()) -> In Stock | J38: =E38*I38 -> 0
A39: 0904-RBS-NA-CLM | B39: 810142395274 | C39: RumbleSeat V3 - Callum - Stone Blue | Silver Frame | Sand Leather | D39: 1 | E39: 288.09 | F39: 429.99 | G39: =VLOOKUP($A39,Stock_Status!$A:$C,2,FALSE()) -> In Stock | H39: =VLOOKUP($A39,Stock_Status!$A:$C,3,FALSE()) -> In Stock | J39: =E39*I39 -> 0
A40: 0904-RBS-NA-DCL | B40: 810142395021 | C40: RumbleSeat V3 - Declan - Oat Mélange | Silver Frame | Chestnut Leather *DISCONTINUED | D40: 1 | E40: 230.47 | F40: 343.99 | G40: =VLOOKUP($A40,Stock_Status!$A:$C,2,FALSE()) -> Out Of Stock | H40: =VLOOKUP($A40,Stock_Status!$A:$C,3,FALSE()) -> In Stock | J40: =E40*I40 -> 0
A41: 0904-RBS-NA-EVE | B41: 810177712893 | C41: RumbleSeat V3 - Evelyn - Meadow Green | Graphite Frame | Chestnut Leather | D41: 1 | E41: 288.09 | F41: 429.99 | G41: =VLOOKUP($A41,Stock_Status!$A:$C,2,FALSE()) -> In Stock | H41: =VLOOKUP($A41,Stock_Status!$A:$C,3,FALSE()) -> In Stock | J41: =E41*I41 -> 0
...

Sheet Stock_Status
A1: SKU | B1: ON | C1: BC
A2: Accessories | B2: STATUS | C2: STATUS
A3: 0001 | B3: Out Of Stock | C3: Out Of Stock
A4: 0028 | B4: Out Of Stock | C4: In Stock
A5: 0029 | B5: Out Of Stock | C5: In Stock
A6: 0033 | B6: Out Of Stock | C6: Out Of Stock
A7: 0048-ALX | B7: Out Of Stock | C7: Out Of Stock
A8: 0048-CLN | B8: Out Of Stock | C8: Out Of Stock
A9: 0048-MCA | B9: Out Of Stock | C9: Out Of Stock
A10: 0050 | B10: Out Of Stock | C10: In Stock
A11: 0054-CP | B11: In Stock | C11: Out Of Stock
A12: 0055 | B12: Out Of Stock | C12: Out Of Stock
... A1063: 2201-KNA-NA-JMS | B1063: Out Of Stock | C1063: Out Of Stock
A1064: 2201-KNA-NA-OWN | B1064: #N/A | C1064: #N/A
A1065: 2201-KNA-NA-RWN | B1065: Very Low Stock | C1065: Out Of Stock
A1066: Total - KONA | B1066: Out Of Stock | C1066: Out Of Stock
A1067: Minu | B1067: Out Of Stock | C1067: Out Of Stock
A1068: 0818-MIN-CA-DEV | B1068: Out Of Stock | C1068: Out Of Stock
A1069: 0818-MIN-CA-DNY | B1069: Out Of Stock | C1069: Out Of Stock
A1070: 0818-MIN-CA-JKE | B1070: Out Of Stock | C1070: Out Of Stock
A1071: 0818-MIN-CA-JOR | B1071: Out Of Stock | C1071: Out Of Stock
A1072: 0818-MIN-CA-RYN | B1072: Out Of Stock | C1072: Out Of Stock
A1073: Total - Minu | B1073: Out Of Stock | C1073: Out Of Stock
A1074: Minu Duo | B1074: Out Of Stock | C1074: Out Of Stock
A1075: Minu Duo | B1075: Out Of Stock | C1075: Out Of Stock
A1076: 0801-MND-NA-ADA | B1076: In Stock | C1076: Out Of Stock
... A1184: Total - Stroller | B1184: Out Of Stock | C1184: Out Of Stock
A1185: Total - Inventory Item | B1185: #N/A | C1185: #N/A
A1186: Total | B1186: #N/A | C1186: #N/A

Sheet 4Moms
A1: =#VALUE! -> #VALUE! | D1: Mamaroo Price List - 2024
A2: RETAILER: | E2: ORDER DATE:
A3: CONTACT NAME: | E3: CONTACT PHONE:
A4: CONTACT EMAIL:
A5: SHIPPING ADDRESS:
A6: Min Order Value: $300. For orders less than $300, there is a $10 processing fee.
A7: SKU | B7: UPC CODES | C7: DESCRIPTION | D7: FASHION | E7: WHOLESALE (CAD) | F7: MSRP (CAD) | G7: QTY | H7: TOTAL
A8: 2000912 | B8: 817980018884 | C8: mamaRoo multi-motion baby swing | D8: Rosewood | E8: 201.49 | F8: 309.99 | H8: =(E8*G8) -> 0
G9: =SUM(G8) -> 0
A11: 2000177 | B11: 817980017139 | C11: Newborn Insert - plush | D11: Maroon | E11: 32.5 | F11: 49.99 | H11: =(E11*G11) -> 0
A12: 2001180 | B12: 817980017627 | C12: Newborn Insert - plush | D12: Grey | E12: 32.5 | F12: 49.99 | H12: =(E12*G12) -> 0
A13: 2001179 | B13: 817980017610 | C13: Newborn Insert - mesh | D13: Mint | E13: 32.5 | F13: 49.99 | H13: =(E13*G13) -> 0
G14: =SUM(G11:G13) -> 0
A16: 2000772 | B16: 817980017191 | C16: mamaRoo sleep bassinet sheet - cotton | D16: Grey | E16: 17 | F16: 24.99 | H16: =(E16*G16) -> 0
A17: LAST CHANCE (items below are discontinued)
A18: 2000916 | B18: 817980017450 | C18: connect high chair | D18: White/Grey | E18: 129.99 | F18: 199.99 | H18: =(E18*G18) -> 0
A20: 2000967 | B20: 817980017412 | C20: breeze bassinet sheet - cotton (single) | D20: White Crosshatch | E20: 29 | F20: 39.99 | H20: =(E20*G20) -> 0
A21: 2000968 | B21: 817980017429 | C21: breeze bassinet sheet - waterproof (single) | D21: Grey Beads | E21: 39 | F21: 54.99 | H21: =(E21*G21) -> 0
A22: 2000959 | B22: 817980017375 | C22: breeze playard sheet - cotton (single) | D22: White Crosshatch | E22: 33 | F22: 44.99 | H22: =(E22*G22) -> 0
A23: 2000960 | B23: 817980017382 | C23: breeze playard sheet - waterproof (single) | D23: Grey Beads | E23: 43 | F23: 59.99 | H23: =(E23*G23) -> 0
F25: ORDER TOTAL | G25: =SUM(G8:G24) -> 0 | H25: =SUM(H8:H24) -> 0

Sheet Skid_Info
A1: This tool is an estimate - the skids may to be built to differing dimensions.
A2: This tool is accounting for skids built up to a height of 80 inches - if you have different height requirements,then this information may not be accurate for your order.
A3: If you don't have access to a loading dock and require a truck with a liftgate, then your skids can only be built to a height of 72 inches.
A4: Below are some general numbers for a full skid of larger product.
A5: Calculations for accessories are based on full casepacks.
B7: Cartons per skid | C7: Units per carton
A8: Vista | B8: 12 | C8: single
A9: Ridge V2 | B9: 8 | C9: single
A10: Cruz | B10: 12 | C10: single
A11: Minu | B11: 24 | C11: single
A12: Glink | B12: 10 | C12: single
A13: Gluxe | B13: 18 | C13: single
A14: Rumbleseat | B14: 24 | C14: single
A15: Bassinet | B15: 24 | C15: single
A16: Mesa V2/Max/Aria | B16: 12 | C16: single
A17: Rove | B17: 8 | C17: single
A18: Alta V2 | B18: 16 | C18: single
A19: Mesa V2 Base | B19: 15 | C19: 2
A20: Mesa Max Base | B20: 25 | C20: single
A21: Remi | B21: 18 | C21: single
A22: Bassinet Stand | B22: 10 | C22: single
A23: Ciro | B23: 12 | C23: single
A24: Mira | B24: 36 | C24: single
A25: Mamaroo | B25: 18 | C25: single
A26: Soma | B26: 8 | C26: single

Sheet Skid_Calculator
C1: Units Per Skid | D1: On Order | E1: Skids
A2: Vista | B2: 0303-VSO-NA | C2: 12 | D2: =VLOOKUP(B2,UPPAbaby_Order_Form!A:J,9,FALSE()) -> 0 | E2: =D2/C2 -> 0 | F2: =E77 -> 0
A3: Ridge V2 | B3: 1403-RDG-NA | C3: 8 | D3: =VLOOKUP(B3,UPPAbaby_Order_Form!A:J,9,FALSE()) -> 0 | E3: =D3/C3 -> 0
A4: Cruz | B4: 0403-CRZ-NA | C4: 12 | D4: =VLOOKUP(B4,UPPAbaby_Order_Form!A:J,9,FALSE()) -> 0 | E4: =D4/C4 -> 0
A5: Minu | B5: 0803-MIN-NA | C5: 30 | D5: =VLOOKUP(B5,UPPAbaby_Order_Form!A:J,9,FALSE()) -> 0 | E5: =D5/C5 -> 0
A6: Minu Duo | B6: 0801-MND-NA | C6: 8 | D6: =VLOOKUP(B6,UPPAbaby_Order_Form!A:J,9,FALSE()) -> 0 | E6: =D6/C6 -> 0
A7: Kona | B7: 2201-KNA-NA | C7: 12 | D7: =VLOOKUP(B7,UPPAbaby_Order_Form!A:J,9,FALSE()) -> 0 | E7: =D7/C7 -> 0
A8: Rumbleseat | B8: 0904-RBS-NA | C8: 24 | D8: =VLOOKUP(B8,UPPAbaby_Order_Form!A:J,9,FALSE())+VLOOKUP("0903-RBS-CA",UPPAbaby_Order_Form!A:J,9,FALSE()) -> 0 | E8: =D8/C8 -> 0
A9: Bassinet | B9: 0903-BAS-NA | C9: 24 | D9: =VLOOKUP(B9,UPPAbaby_Order_Form!A:J,9,FALSE()) -> 0 | E9: =D9/C9 -> 0
A10: Mesa | B10: 1003-MSA-CA | C10: 12 | D10: =VLOOKUP(B10,UPPAbaby_Order_Form!A:J,9,FALSE()) -> 0 | E10: =D10/C10 -> 0
A11: Aria | B11: 1002-ARI-CA | C11: 12 | D11: =VLOOKUP(B11,UPPAbaby_Order_Form!A:J,9,FALSE()) -> 0 | E11: =D11/C11 -> 0
A12: Rove | B12: 1103-ROV-CA | C12: 8 | D12: =VLOOKUP(B12,UPPAbaby_Order_Form!A:J,9,FALSE()) -> 0 | E12: =D12/C12 -> 0
A13: Alta V2 | B13: 1302-ALT-CA | C13: 16 | D13: =VLOOKUP(B13,UPPAbaby_Order_Form!A:J,9,FALSE()) -> 0 | E13: =D13/C13 -> 0
A14: V2 Base | B14: 0278 | C14: =2*15 -> 30 | D14: =VLOOKUP(B14,UPPAbaby_Order_Form!A:J,9,FALSE()) -> 0 | E14: =D14/C14 -> 0
A15: Aria Base | B15: 0901-ARB-CA | C15: 25 | D15: =VLOOKUP(B15,UPPAbaby_Order_Form!A:J,9,FALSE()) -> 0 | E15: =D15/C15 -> 0
A16: Remi | B16: 1602-REM-NA | C16: 18 | D16: =VLOOKUP(B16,UPPAbaby_Order_Form!A:J,9,FALSE()) -> 0 | E16: =D16/C16 -> 0
A17: Ciro | B17: 1702-CIR-NA | C17: 12 | D17: =VLOOKUP(B17,UPPAbaby_Order_Form!A:J,9,FALSE()) -> 0 | E17: =D17/C17 -> 0
A18: Mira | B18: 1802-MIR-NA | C18: =1*36 -> 36 | D18: =VLOOKUP(B18,UPPAbaby_Order_Form!A:J,9,FALSE()) -> 0 | E18: =D18/C18 -> 0
A19: Mamaroo | B19: 2001-MRO-NA | C19: 18 | D19: =VLOOKUP(B19,UPPAbaby_Order_Form!A:J,9,FALSE()) -> 0 | E19: =D19/C19 -> 0
A20: Soma | B20: 2101-ROS-CA-CHR | C20: 8 | D20: =VLOOKUP(B20,UPPAbaby_Order_Form!A:J,9,FALSE()) -> 0 | E20: =D20/C20 -> 0
B21: 0156 | C21: =4*16 -> 64 | D21: =VLOOKUP(B21,UPPAbaby_Order_Form!$A$13:$I$330,9,FALSE()) -> 0 | E21: =D21/C21 -> 0
B22: 0172 | C22: =4*96 -> 384 | D22: =VLOOKUP(B22,UPPAbaby_Order_Form!$A$13:$I$330,9,FALSE()) -> 0 | E22: =D22/C22 -> 0
B23: 0176 | C23: =4*120 -> 480 | D23: =VLOOKUP(B23,UPPAbaby_Order_Form!$A$13:$I$330,9,FALSE()) -> 0 | E23: =D23/C23 -> 0
B24: 0212 | C24: =6*48 -> 288 | D24: =VLOOKUP(B24,UPPAbaby_Order_Form!$A$13:$I$330,9,FALSE()) -> 0 | E24: =D24/C24 -> 0
B25: 0214 | C25: =2*400 -> 800 | D25: =VLOOKUP(B25,UPPAbaby_Order_Form!$A$13:$I$330,9,FALSE()) -> 0 | E25: =D25/C25 -> 0
B26: 0217 | C26: =4*12 -> 48 | D26: =VLOOKUP(B26,UPPAbaby_Order_Form!$A$13:$I$330,9,FALSE()) -> 0 | E26: =D26/C26 -> 0
B27: 0228 | C27: =4*60 -> 240 | D27: =VLOOKUP(B27,UPPAbaby_Order_Form!$A$13:$I$330,9,FALSE()) -> 0 | E27: =D27/C27 -> 0
B28: 0259 | C28: =4*128 -> 512 | D28: =VLOOKUP(B28,UPPAbaby_Order_Form!$A$13:$I$330,9,FALSE()) -> 0 | E28: =D28/C28 -> 0
B29: 0270 | C29: =4*25 -> 100 | D29: =VLOOKUP(B29,UPPAbaby_Order_Form!$A$13:$I$330,9,FALSE()) -> 0 | E29: =D29/C29 -> 0
B30: 0273 | C30: =4*32 -> 128 | D30: =VLOOKUP(B30,UPPAbaby_Order_Form!$A$13:$I$330,9,FALSE()) -> 0 | E30: =D30/C30 -> 0
B31: 0274 | C31: =6*40 -> 240 | D31: =VLOOKUP(B31,UPPAbaby_Order_Form!$A$13:$I$330,9,FALSE()) -> 0 | E31: =D31/C31 -> 0
B32: 0266-JKE | C32: =12*45 -> 540 | D32: =VLOOKUP(B32,UPPAbaby_Order_Form!$A$13:$I$330,9,FALSE()) -> 0 | E32: =D32/C32 -> 0
B33: 0901-BEV-WW | C33: =2*10 -> 20 | D33: =VLOOKUP(B33,UPPAbaby_Order_Form!$A$13:$I$330,9,FALSE()) -> 0 | E33: =D33/C33 -> 0
B34: 0901-BST-WW-GRY | C34: =1*30 -> 30 | D34: =VLOOKUP(B34,UPPAbaby_Order_Form!$A$13:$I$330,9,FALSE()) -> 0 | E34: =D34/C34 -> 0
B35: 0901-BST-WW-NAT | C35: =1*30 -> 30 | D35: =VLOOKUP(B35,UPPAbaby_Order_Form!$A$13:$I$330,9,FALSE()) -> 0 | E35: =D35/C35 -> 0
B36: 0901-BST-WW-WHT | C36: =1*30 -> 30 | D36: =VLOOKUP(B36,UPPAbaby_Order_Form!$A$13:$I$330,9,FALSE()) -> 0 | E36: =D36/C36 -> 0
B37: 0901-MFB-WW | C37: =4*16 -> 64 | D37: =VLOOKUP(B37,UPPAbaby_Order_Form!$A$13:$I$330,9,FALSE()) -> 0 | E37: =D37/C37 -> 0
B38: 0901-MPB-NA | C38: =4*16 -> 64 | D38: =VLOOKUP(B38,UPPAbaby_Order_Form!$A$13:$I$330,9,FALSE()) -> 0 | E38: =D38/C38 -> 0
B39: 0901-PCG-CA | C39: =1*50 -> 50 | D39: =VLOOKUP(B39,UPPAbaby_Order_Form!A:J,9,FALSE()) -> 0 | E39: =D39/C39 -> 0
B40: 0901-PCN-WW | C40: =2*72 -> 144 | D40: =VLOOKUP(B40,UPPAbaby_Order_Form!$A$13:$I$330,9,FALSE()) -> 0 | E40: =D40/C40 -> 0
...
