Workbook
Name AllValues: DataOnly!$F$3:$FA$3
Name ConRange: 'NCEA School'!$I$29:$K$59

Sheet NCEA School
A1: NCEA Data Bank School Summary Form
A2: 2026-2027 Academic Year
A4: A. SCHOOL INFORMATION
A6: School Name: | F6: NCEA Membership ID (if applicable)
A7: Principal: | F7: Phone:
A8: Address:
A9: E-mail:
A10: School Category:
A12: In the each of the three tables below, use a '1' to indicate the school's
A13: Location, Sponsorship, and Gender
A15: A.1a. Location - pick one | D15: A.1b. Sponsorship - pick one | G15: A.2. Gender - pick one
A17: Urban | D17: Single Parish | G17: Male
A18: Suburban | D18: Interparish/ Regional | G18: Female
A19: Rural | D19: Diocesan | G19: Coed
A20: Virtual | D20: Religious Cong/Private | F20: =IF((H17+H18+H19)=1," ",IF(F38>0," Please put a '1' in one box above"," "))
D21: =IF((E17+E18+E19+E20)=1," ",IF(F38>0," Please put a '1' in one box above"," "))
A22: =IF((B18+B19+B20+B17)=1," ",IF(F38>0," Please put a '1' in one box above"," "))
A23: B. STUDENT ENROLLMENT
A25: B.1. Enrollment by Race and Religion
A26: Students should be counted in the category of which they are most characteristic
A27: (Note: Total must agree with total Enrollment by Grade Level and by Gender).
C28: CATHOLIC | D28: NON-CATHOLIC | E28: NOT REPORTED | F28: TOTAL | G28: PERCENT
A29: American Indian/Native Alaskan | F29: =SUM(C29:E29) -> 0 | G29: =IFERROR(F29/$F$38,"")
A30: Asian | F30: =SUM(C30:E30) -> 0 | G30: =IFERROR(F30/$F$38,"")
A31: Black/African American | F31: =SUM(C31:E31) -> 0 | G31: =IFERROR(F31/$F$38,"")
A32: Native Hawaiian/Pac. Islander | F32: =SUM(C32:E32) -> 0 | G32: =IFERROR(F32/$F$38,"")
A33: Middle Eastern/North African | F33: =SUM(C33:E33) -> 0 | G33: =IFERROR(F33/$F$38,"")
A34: Hispanic/Latino | F34: =SUM(C34:E34) -> 0 | G34: =IFERROR(F34/$F$38,"")
A35: White | F35: =SUM(C35:E35) -> 0 | G35: =IFERROR(F35/$F$38,"")
A36: Two or More Races | F36: =SUM(C36:E36) -> 0 | G36: =IFERROR(F36/$F$38,"")
A37: Not Reported | F37: =SUM(C37:E37) -> 0 | G37: =IFERROR(F37/$F$38,"")
A38: Total | C38: =SUM(C29:C37) -> 0 | D38: =SUM(D29:D37) -> 0 | E38: =SUM(E29:E37) -> 0 | F38: =SUM(C38:E38) -> 0 | G38: =IFERROR(F38/$F$38,"")
A39: Percent of Total | C39: =IFERROR(C38/$F$38,"") | D39: =IFERROR(D38/$F$38,"") | E39: =IFERROR(E38/$F$38,"") | F39: =IFERROR(F38/$F$38,"")
A42: How many students are Hispanic or Hispanic and some other race? | H42: =IF(F42<F34,"Value must be at least equal to the number of Hispanics reported in B.1", " ")
A45: B.2. Enrollment by Grade Level as of September 11, 2026.
A46: List the number of students in each grade in only one school category
C47: STANDALONE EARLY CHILDHOOD EDUCATION CENTER | D47: ELEMENTARY | E47: SECONDARY | F47: (P)K-12 | G47: PERCENT
A48: Younger than 3 years old (as of 9/1/26) | G48: =IFERROR(SUM(C48,D48,F48)/SUM($C$65,$D$65,$F$65)," ")
A49: PreK3 (3 years to 4 years old as of 9/1/26) | G49: =IFERROR(SUM(C49,D49,F49)/SUM($C$65,$D$65,$F$65)," ")
A50: PreK4 (4 years or older as of 9/1/26) | G50: =IFERROR(SUM(C50,D50,F50)/SUM($C$65,$D$65,$F$65)," ")
B51: Kindergarten | G51: =IFERROR(SUM(C51,D51,F51)/SUM($C$65,$D$65,$F$65)," ")
B52: First Grade | G52: =IFERROR(SUM(D52,F52)/SUM($D$65,$F$65)," ")
B53: Second Grade | G53: =IFERROR(SUM(D53,F53)/SUM($D$65,$F$65)," ")
B54: Third Grade | G54: =IFERROR(SUM(D54,F54)/SUM($D$65,$F$65)," ")
B55: Fourth Grade | G55: =IFERROR(SUM(D55,F55)/SUM($D$65,$F$65)," ") | H55: NOTE: Final totals in
B56: Fifth Grade | G56: =IFERROR(SUM(D56,E56,F56)/SUM($D$65,$E$65,$F$65)," ") | H56: B.1., B.2. and B.3.
B57: Sixth Grade | G57: =IFERROR(SUM(D57,E57,F57)/SUM($D$65,$E$65,$F$65)," ") | H57: must all be the same!
B58: Seventh Grade | G58: =IFERROR(SUM(D58,E58,F58)/SUM($D$65,$E$65,$F$65)," ")
B59: Eighth Grade | G59: =IFERROR(SUM(D59,E59,F59)/SUM($D$65,$E$65,$F$65)," ")
B60: Ninth Grade | G60: =IFERROR(SUM(D60,E60,F60)/SUM($D$65,$E$65,$F$65)," ")
B61: Tenth Grade | G61: =IFERROR(SUM(E61,F61)/SUM($E$65,$F$65)," ")
B62: Eleventh Grade | G62: =IFERROR(SUM(E62,F62)/SUM($E$65,$F$65)," ")
B63: Twelfth Grade | G63: =IFERROR(SUM(E63,F63)/SUM($E$65,$F$65)," ")
B64: Ungraded | G64: =IFERROR(SUM(C64,D64,E64,F64)/SUM($C$65,$D$65,$E$65,$F$65)," ")
B65: Total | C65: =SUM(C48:C51) -> 0 | D65: =SUM(D48:D64) -> 0 | E65: =SUM(E48:E64) -> 0 | F65: =SUM(F48:F64) -> 0 | G65: =IFERROR(SUM(C65,D65,E65,F65)/SUM($C$65,$D$65,$E$65,$F$65)," ")
C66: =IF(C65+D65+E65+F65=F38," ","Total students must agree with enrollment race in B1.")
A67: B.3. Enrollment by Student Gender
A68: List the number of students by gender
C69: NUMBER | D69: PERCENT
A70: Male | D70: =IFERROR(C70/C73," ")
A71: Female | D71: =IFERROR(C71/C73," ")
A72: Not Reported | D72: =IFERROR(C72/C73," ")
A73: Total | C73: =SUM(C70:C72) -> 0
C74: =IF(C73=SUM(C65:F65)," ","Total students must agree with enrollment by race in B1 and grade level in B2.")
A75: C. STAFF
A76: Include all paid professional (administrators and faculty) who have responsibility for the
A77: teaching/learning process in C.1. and C.2. Do not include development or admissions directors, teachers' aides or
A78: support staff.
A79: C.1. Professional Staff by Race and Religion
A80: List the number of all the full- and part-time professional staff in each category.
C81: CATHOLIC | D81: NON-CATHOLIC | E81: NOT REPORTED | F81: TOTAL | G81: PERCENT
A82: American Indian/Native Alaskan | F82: =SUM(C82:E82) -> 0 | G82: =IFERROR(F82/$F$91,"")
A83: Asian | F83: =SUM(C83:E83) -> 0 | G83: =IFERROR(F83/$F$91,"")
A84: Black/African American | F84: =SUM(C84:E84) -> 0 | G84: =IFERROR(F84/$F$91,"")
A85: Native Hawaiian/Pac. Islander | F85: =SUM(C85:E85) -> 0 | G85: =IFERROR(F85/$F$91,"")
A86: Middle Eastern/North African | F86: =SUM(C86:E86) -> 0 | G86: =IFERROR(F86/$F$91,"")
A87: Hispanic or Latino | F87: =SUM(C87:E87) -> 0 | G87: =IFERROR(F87/$F$91,"")
A88: White | F88: =SUM(C88:E88) -> 0 | G88: =IFERROR(F88/$F$91,"")
A89: Two or More Races | F89: =SUM(C89:E89) -> 0 | G89: =IFERROR(F89/$F$91,"")
A90: Not Reported | F90: =SUM(C90:E90) -> 0 | G90: =IFERROR(F90/$F$91,"")
A91: Total | C91: =SUM(C82:C90) -> 0 | D91: =SUM(D82:D90) -> 0 | E91: =SUM(E82:E90) -> 0 | F91: =SUM(C91:E91) -> 0 | G91: =IFERROR(F91/$F$91,"")
A92: Percent of Total | C92: =IFERROR(C91/$F$91,"") | D92: =IFERROR(D91/$F$91,"") | E92: =IFERROR(E91/$F$91,"") | F92: =IFERROR(F91/$F$91,"")
A95: How many professional staff are Hispanic or Hispanic and some other race? | H95: =IF(F95<F87,"Value must be at least equal to the number of Hispanics reported in C.1"," ")
A98: C.2. Full and Part-time Professional Staff
A99: List the number of full- and part-time paid professionals in the appropriate categories.
A100: The totals in section C.1. and C.2. must agree with each other.
C101: FULL-TIME | D101: PART-TIME | E101: TOTAL
A102: Female Religious | E102: =SUM(C102:D102) -> 0
A103: Male Religious | E103: =SUM(C103:D103) -> 0
A104: Clergy | E104: =SUM(C104:D104) -> 0
A105: Lay, Male | E105: =SUM(C105:D105) -> 0
A106: Lay, Female | E106: =SUM(C106:D106) -> 0
A107: Not Reported | E107: =SUM(C107:D107) -> 0
A108: Total | C108: =SUM(C102:C107) -> 0 | D108: =SUM(D102:D107) -> 0 | E108: =SUM(E102:E107) -> 0 | F108: =IF(E108=F91," ","This must agree with total staff by race in C1.")
A110: C.3. Total Staff by Type
A111: List the number of staff in the appropriate categories. This includes all staff and so the total should not match C.1. or C.2.
A112: President/Head of School
A113: Principal
A114: Assistant Principals
A115: Guidance Counselors
...

Sheet DataOnly
A1: School Address | B1: School Name | C1: NCEA ID | D1: School Category | F1: A.1a Location | J1: A.1b Sponsorship | N1: A2.Gender | Q1: B1. Enrollment by Ethnicity | W1: B1. Enrollment by Ethnicity(cont) | AC1: B1. Enrollment by Ethnicity(cont) | AL1: B2. Enrollment by Grade Level | AV1: B2. Enrollment by Grade Level (cont) | BI1: C1. Staff Ethnicity | BO1: C1. Staff Ethnicity (cont) | BR1: C1. Staff Ethnicity (cont) | BX1: C1. Staff Ethnicity (cont) | CD1: C.2 Full and Part Time Staffing | CN1: C.3 Staff by Type | CV1: C.4 Teacher Retention | CX1: D. Government Funded Programs | DJ1: E. Additional Information | EA1: C2 (continued) | EC1: Internal fields | EE1: Combinations of location and sponsorship | EJ1: Computed if school form is done | EO1: schools with gov't funded programs | EQ1: B1 Hispanic | ET1: C1 (Hispanic) | FF1: Specific Disabilities | FP1: Stud Race Cont. | FT1: Staf Race Cont. | FX1: B2 Enrollment by Grade Level (cont.) | GT1: B3 Stud Gender | GW1: C4 cont | GX1: Specific Disabilities cont.
F2: Urban | G2: Suburban | H2: Rural | I2: Virtual | J2: Parish | K2: Interparish | L2: Diocesan | M2: RelCon/Priv | N2: Male | O2: Female | P2: Coed | Q2: NA - Cath | R2: NA-non | S2: NA-umk | T2: Asian - C | U2: Asian-NonC | V2: Asian-unk | W2: Black-C | X2: Black-NonC | Y2: Black-unk | Z2: HawPI-C | AA2: HawPI-non-C | AB2: HawPI- unk | AC2: White - C | AD2: White-nonC | AE2: White-unk | AF2: MR - C | AG2: MR-nonC | AH2: MR-unk | AI2: Unk-C | AJ2: Unk-nonC | AK2: Unk-unk | AL2: EL-PK2 | AM2: EL-PK3 | AN2: EL-PK4 | AO2: EL-Kind | AP2: EL-1 | AQ2: EL-2 | AR2: EL-3 | AS2: EL-4 | AT2: EL-5 | AU2: EL-6 | AV2: EL-7 | AW2: EL-8 | AX2: EL-9 | AY2: EL-ungr | AZ2: Sec-5 | BA2: Sec-6 | BB2: Sec-7 | BC2: Sec-8 | BD2: Sec-9 | BE2: Sec-10 | BF2: Sec-11 | BG2: Sec-12 | BH2: Sec-ungr | BI2: NA - Cath | BJ2: NA-non | BK2: NA-umk | BL2: Asian - C | BM2: Asian-NonC | BN2: Asian-unk | BO2: Black-C | BP2: Black-NonC | BQ2: Black-unk | BR2: HawPI-C | BS2: HawPI-non-C | BT2: HawPI- unk | BU2: White - C | BV2: White-nonC | BW2: White-unk | BX2: MR - C | BY2: MR-nonC | BZ2: MR-unk | CA2: Unk-C | CB2: Unk-nonC | CC2: Unk-unk | CD2: FemRel-FT | CE2: FemRel-PT | CF2: MalRel - FT | CG2: MalRel - PT | CH2: Clergy- FT | CI2: Clergy - PT | CJ2: MalLay - FT | CK2: MalLay - PT | CL2: FemLay- FT | CM2: FemLay - PT | CN2: President/Head of School | CO2: Principal | CP2: Assistant Principals | CQ2: Guidance Counselors | CR2: Teachers | CS2: Teacher Assistant/Teacher Aide | CT2: Librarians | CU2: Other Staff | CV2: Total PY | CW2: Left | CX2: Title I-Y | CY2: Title I-N | CZ2: Title II-Y | DA2: Title II-N | DB2: Title III-Y | DC2: Title III-N | DD2: Title IV-Y | DE2: Title IV-N | DF2: Title I-R | DG2: Lunch-R | DH2: Lunch-E | DI2: Parental Choice | DJ2: Board-A | DK2: Board-C | DL2: Board-LJ | DM2: Board-FAJ | DN2: Board-N | DO2: ExDay-Y | DP2: ExDay-N | DQ2: Wait-Y | DR2: Wait-N | DS2: E-Rate-Y | DT2: E-Rate-N | DU2: DL-Y | DV2: DL-N | DW2: IB-Y | DX2: IB-N | DY2: Disability | DZ2: International | EA2: Unknown FT | EB2: Unknown PT | EC2: Urb-1Par | ED2: Urb-InterPar | EE2: Urb-Dio | EF2: Urb-Pri | EG2: S-SP | EH2: S-IP | EI2: S-D | EJ2: S-P | EK2: R-SP | EL2: R-IP | EM2: R-D | EN2: R-P | EO2: Title 1 | EP2: Nutrition | EQ2: His Stu Cath | ER2: His Stu NC | ES2: His Stu unk | ET2: His Staff Cath | EU2: His Staf NC | EV2: His Staf unk | EW2: V-SP | EX2: V-IP | EY2: V-D | EZ2: V-P | FA2: PC-Schools | FB2: Microschool-Y | FC2: Microschool-N | FD2: Classical-Y | FE2: Classical-N | FF2: Attention-Deficit Hyperactivity Disorder | FG2: Autism Spectrum Disorder | FH2: Specific Learning Disabiity | FI2: Intellectual or Development Disability | FJ2: Physical Disability | FK2: Other Disability | FL2: Multiple Disabilities | FM2: School w/ Disabilites | FN2: Teacher New To School | FO2: 1st Year Teacher | FP2: ME-C | FQ2: ME-nonC | FR2: ME-unk | FS2: His-His & SOR | FT2: ME-C | FU2: ME-nonC | FV2: ME-unk | FW2: His-His & SOR | FX2: ECEC-PK2 | FY2: ECEC-PK3 | FZ2: ECEC-PK4 | GA2: ECEC-Kind | GB2: ECEC-Ung | GC2: PK12-PK2 | GD2: PK12-PK3 | GE2: PK12-PK4 | GF2: PK12-Kind | GG2: PK12-1 | GH2: PK12-2 | GI2: PK12-3 | GJ2: PK12-4 | GK2: PK12-5 | GL2: PK12-6 | GM2: PK12-7 | GN2: PK12-8 | GO2: PK12-9 | GP2: PK12-10 | GQ2: PK12-11 | GR2: PK12-12 | GS2: PK12-Ung | GT2: Male | GU2: Female | GV2: Not Reported | GW2: Remain in CE | GX2: Speech-Lang | GY2: Converts
A3: ='NCEA School'!C8 -> 0 | B3: ='NCEA School'!C6 -> 0 | C3: ='NCEA School'!G6 -> 0 | D3: ='NCEA School'!C10 -> 0 | F3: ='NCEA School'!B17 -> 0 | G3: ='NCEA School'!B18 -> 0 | H3: ='NCEA School'!B19 -> 0 | I3: ='NCEA School'!B20 -> 0 | J3: ='NCEA School'!E17 -> 0 | K3: ='NCEA School'!E18 -> 0 | L3: ='NCEA School'!E19 -> 0 | M3: ='NCEA School'!E20 -> 0 | N3: ='NCEA School'!H17 -> 0 | O3: ='NCEA School'!H18 -> 0 | P3: ='NCEA School'!H19 -> 0 | Q3: ='NCEA School'!C29 -> 0 | R3: ='NCEA School'!D29 -> 0 | S3: ='NCEA School'!E29 -> 0 | T3: ='NCEA School'!C30 -> 0 | U3: ='NCEA School'!D30 -> 0 | V3: ='NCEA School'!E30 -> 0 | W3: ='NCEA School'!C31 -> 0 | X3: ='NCEA School'!D31 -> 0 | Y3: ='NCEA School'!E31 -> 0 | Z3: ='NCEA School'!C32 -> 0 | AA3: ='NCEA School'!D32 -> 0 | AB3: ='NCEA School'!E32 -> 0 | AC3: ='NCEA School'!C35 -> 0 | AD3: ='NCEA School'!D35 -> 0 | AE3: ='NCEA School'!E35 -> 0 | AF3: ='NCEA School'!C36 -> 0 | AG3: ='NCEA School'!D36 -> 0 | AH3: ='NCEA School'!E36 -> 0 | AI3: ='NCEA School'!C37 -> 0 | AJ3: ='NCEA School'!D37 -> 0 | AK3: ='NCEA School'!E37 -> 0 | AL3: ='NCEA School'!D48 -> 0 | AM3: ='NCEA School'!D49 -> 0 | AN3: ='NCEA School'!D50 -> 0 | AO3: ='NCEA School'!D51 -> 0 | AP3: ='NCEA School'!D52 -> 0 | AQ3: ='NCEA School'!D53 -> 0 | AR3: ='NCEA School'!D54 -> 0 | AS3: ='NCEA School'!D55 -> 0 | AT3: ='NCEA School'!D56 -> 0 | AU3: ='NCEA School'!D57 -> 0 | AV3: ='NCEA School'!D58 -> 0 | AW3: ='NCEA School'!D59 -> 0 | AX3: ='NCEA School'!D60 -> 0 | AY3: ='NCEA School'!D64 -> 0 | AZ3: ='NCEA School'!E56 -> 0 | BA3: ='NCEA School'!E57 -> 0 | BB3: ='NCEA School'!E58 -> 0 | BC3: ='NCEA School'!E59 -> 0 | BD3: =+'NCEA School'!E60 -> 0 | BE3: ='NCEA School'!E61 -> 0 | BF3: =+'NCEA School'!E62 -> 0 | BG3: ='NCEA School'!E63 -> 0 | BH3: ='NCEA School'!E64 -> 0 | BI3: ='NCEA School'!C82 -> 0 | BJ3: ='NCEA School'!D82 -> 0 | BK3: ='NCEA School'!E82 -> 0 | BL3: ='NCEA School'!C83 -> 0 | BM3: ='NCEA School'!D83 -> 0 | BN3: ='NCEA School'!E83 -> 0 | BO3: ='NCEA School'!C84 -> 0 | BP3: ='NCEA School'!D84 -> 0 | BQ3: ='NCEA School'!E84 -> 0 | BR3: ='NCEA School'!C85 -> 0 | BS3: ='NCEA School'!D85 -> 0 | BT3: ='NCEA School'!E85 -> 0 | BU3: ='NCEA School'!C88 -> 0 | BV3: ='NCEA School'!D88 -> 0 | BW3: ='NCEA School'!E88 -> 0 | BX3: ='NCEA School'!C89 -> 0 | BY3: ='NCEA School'!D89 -> 0 | BZ3: ='NCEA School'!E89 -> 0 | CA3: ='NCEA School'!C90 -> 0 | CB3: ='NCEA School'!D90 -> 0 | CC3: ='NCEA School'!E90 -> 0 | CD3: ='NCEA School'!C102 -> 0 | CE3: ='NCEA School'!D102 -> 0 | CF3: ='NCEA School'!C103 -> 0 | CG3: ='NCEA School'!D103 -> 0 | CH3: ='NCEA School'!C104 -> 0 | CI3: ='NCEA School'!D104 -> 0 | CJ3: ='NCEA School'!C105 -> 0 | CK3: ='NCEA School'!D105 -> 0 | CL3: ='NCEA School'!C106 -> 0 | CM3: ='NCEA School'!D106 -> 0 | CN3: {=TRANSPOSE('NCEA School'!D112:D119)} -> 0 | CO3: 0 | CP3: 0 | CQ3: 0 | CR3: 0 | CS3: 0 | CT3: 0 | CU3: 0 | CV3: ='NCEA School'!F123 -> 0 | CW3: ='NCEA School'!F124 -> 0 | CX3: ='NCEA School'!$G132 -> 0 | CY3: ='NCEA School'!$H132 -> 0 | CZ3: ='NCEA School'!$G133 -> 0 | DA3: ='NCEA School'!$H133 -> 0 | DB3: ='NCEA School'!$G134 -> 0 | DC3: ='NCEA School'!$H134 -> 0 | DD3: ='NCEA School'!$G135 -> 0 | DE3: ='NCEA School'!$H135 -> 0 | DF3: {=TRANSPOSE('NCEA School'!G137:G140)} -> 0 | DG3: 0 | DH3: 0 | DI3: 0 | DJ3: =IF('NCEA School'!$G$144="Advisory",1,0) -> 0 | DK3: =IF('NCEA School'!$G$144="Consultative",1,0) -> 0 | DL3: =IF('NCEA School'!$G$144="Limited Jurisdiction",1,0) -> 0 | DM3: =IF('NCEA School'!$G$144="Full Authority",1,0) -> 0 | DN3: =IF('NCEA School'!$G$144="No Board",1,0) -> 0 | DO3: ='NCEA School'!G148 -> 0 | DP3: ='NCEA School'!H148 -> 0 | DQ3: ='NCEA School'!G149 -> 0 | DR3: ='NCEA School'!H149 -> 0 | DS3: ='NCEA School'!G150 -> 0 | DT3: ='NCEA School'!H150 -> 0 | DU3: ='NCEA School'!G151 -> 0 | DV3: ='NCEA School'!H151 -> 0 | DW3: ='NCEA School'!G152 -> 0 | DX3: ='NCEA School'!H152 -> 0 | DY3: ='NCEA School'!G165 -> 0 | DZ3: ='NCEA School'!G166 -> 0 | EA3: ='NCEA School'!C107 -> 0 | EB3: ='NCEA School'!D107 -> 0 | EC3: =IF((F3+J3)=2,1,0) -> 0 | ED3: =IF((F3+K3)=2,1,0) -> 0 | EE3: =IF((F3+L3)=2,1,0) -> 0 | EF3: =IF((F3+M3)=2,1,0) -> 0 | EG3: =IF((G3+J3)=2,1,0) -> 0 | EH3: =IF((G3+K3)=2,1,0) -> 0 | EI3: =IF((G3+L3)=2,1,0) -> 0 | EJ3: =IF((G3+M3)=2,1,0) -> 0 | EK3: =IF((H3+J3)=2,1,0) -> 0 | EL3: =IF((H3+K3)=2,1,0) -> 0 | EM3: =IF((H3+L3)=2,1,0) -> 0 | EN3: =IF((H3+M3)=2,1,0) -> 0 | EO3: =IF((CX3>0),1,0) -> 0 | EP3: =IF((DG3)>0,1,0) -> 0 | EQ3: ='NCEA School'!C34 -> 0 | ER3: ='NCEA School'!D34 -> 0 | ES3: ='NCEA School'!E34 -> 0 | ET3: ='NCEA School'!C87 -> 0 | EU3: ='NCEA School'!D87 -> 0 | EV3: ='NCEA School'!E87 -> 0 | EW3: =IF(($I3+J3)=2,1,0) -> 0 | EX3: =IF(($I3+K3)=2,1,0) -> 0 | EY3: =IF(($I3+L3)=2,1,0) -> 0 | EZ3: =IF(($I3+M3)=2,1,0) -> 0 | FA3: =IF((DI3)>0,1,0) -> 0 | FB3: ='NCEA School'!G153 -> 0 | FC3: ='NCEA School'!H153 -> 0 | FD3: ='NCEA School'!G154 -> 0 | FE3: ='NCEA School'!H154 -> 0 | FF3: ='NCEA School'!G157 -> 0 | FG3: ='NCEA School'!G158 -> 0 | FH3: ='NCEA School'!G159 -> 0 | FI3: ='NCEA School'!G160 -> 0 | FJ3: ='NCEA School'!G161 -> 0 | FK3: ='NCEA School'!G163 -> 0 | FL3: ='NCEA School'!G164 -> 0 | FM3: =IF('NCEA School'!G165>0,1,0) -> 0 | FN3: ='NCEA School'!F125 -> 0 | FO3: ='NCEA School'!F126 -> 0 | FP3: ='NCEA School'!C33 -> 0 | FQ3: ='NCEA School'!D33 -> 0 | FR3: ='NCEA School'!E33 -> 0 | FS3: ='NCEA School'!F42 -> 0 | FT3: ='NCEA School'!C86 -> 0 | FU3: ='NCEA School'!D86 -> 0 | FV3: ='NCEA School'!E86 -> 0 | FW3: ='NCEA School'!F95 -> 0 | FX3: ='NCEA School'!C48 -> 0 | FY3: ='NCEA School'!C49 -> 0 | FZ3: ='NCEA School'!C50 -> 0 | GA3: ='NCEA School'!C51 -> 0 | GB3: ='NCEA School'!C64 -> 0 | GC3: ='NCEA School'!F48 -> 0 | GD3: ='NCEA School'!F49 -> 0 | GE3: ='NCEA School'!F50 -> 0 | GF3: ='NCEA School'!F51 -> 0 | GG3: ='NCEA School'!F52 -> 0 | GH3: ='NCEA School'!F53 -> 0 | GI3: ='NCEA School'!F54 -> 0 | GJ3: ='NCEA School'!F55 -> 0 | GK3: ='NCEA School'!F56 -> 0 | GL3: ='NCEA School'!F57 -> 0 | GM3: ='NCEA School'!F58 -> 0 | GN3: ='NCEA School'!F59 -> 0 | GO3: ='NCEA School'!F60 -> 0 | GP3: ='NCEA School'!F61 -> 0 | GQ3: ='NCEA School'!F62 -> 0 | GR3: ='NCEA School'!F63 -> 0 | GS3: ='NCEA School'!F64 -> 0 | GT3: ='NCEA School'!C70 -> 0 | GU3: ='NCEA School'!C71 -> 0 | GV3: ='NCEA School'!C72 -> 0 | GW3: ='NCEA School'!F127 -> 0 | GX3: ='NCEA School'!G162 -> 0 | GY3: ='NCEA School'!G167 -> 0
A6: This two row spreadsheet is automatically filled with numbers when they are entered into the first, formatted spreadsheet.
A7: This sheet is password protected.
A8: It will be used at your diocese to transfer the data into the Diocesan report which is submitted to NCEA.
