Workbook

Sheet OrderForm
A2: =TODAY() -> 45204
J7: Customer #:
C12: Customer Name: | G12: Ship To:
C13: P.O. #:
C14: Date:
J17: Order Total $
J18: =SUM(J20:J130) -> 0
C19: Item #: (no dashes) | D19: Item Description: | E19: UOM | F19: Case Count | G19: Each Price $ | H19: Case Price $ | I19: Case Order Qty. | J19: Item Total $ | K19: Comment (Optional)
D20: =IF(ISBLANK($C20),"",VLOOKUP($C20,Reference!$A:$C,2,0)) | E20: =IF(ISBLANK($C20),"",VLOOKUP($C20,Reference!$A:$C,3,0)) | F20: =IF(ISBLANK($C20),"",VLOOKUP($C20,Reference!$A:$F,4,0)) | G20: =IF(ISBLANK($C20),"",VLOOKUP($C20,Reference!$A:$F,5,0)) | H20: =IF(ISBLANK($C20),"",VLOOKUP($C20,Reference!$A:$F,6,0)) | I20: 0 | J20: =IF(ISERROR($I20*$H20),0,$I20*$H20) -> 0
D21: =IF(ISBLANK($C21),"",VLOOKUP($C21,Reference!$A:$C,2,0)) | E21: =IF(ISBLANK($C21),"",VLOOKUP($C21,Reference!$A:$C,3,0)) | F21: =IF(ISBLANK($C21),"",VLOOKUP($C21,Reference!$A:$F,4,0)) | G21: =IF(ISBLANK($C21),"",VLOOKUP($C21,Reference!$A:$F,5,0)) | H21: =IF(ISBLANK($C21),"",VLOOKUP($C21,Reference!$A:$F,6,0)) | I21: 0 | J21: =IF(ISERROR($I21*$H21),0,$I21*$H21) -> 0
D22: =IF(ISBLANK($C22),"",VLOOKUP($C22,Reference!$A:$C,2,0)) | E22: =IF(ISBLANK($C22),"",VLOOKUP($C22,Reference!$A:$C,3,0)) | F22: =IF(ISBLANK($C22),"",VLOOKUP($C22,Reference!$A:$F,4,0)) | G22: =IF(ISBLANK($C22),"",VLOOKUP($C22,Reference!$A:$F,5,0)) | H22: =IF(ISBLANK($C22),"",VLOOKUP($C22,Reference!$A:$F,6,0)) | I22: 0 | J22: =IF(ISERROR($I22*$H22),0,$I22*$H22) -> 0
D23: =IF(ISBLANK($C23),"",VLOOKUP($C23,Reference!$A:$C,2,0)) | E23: =IF(ISBLANK($C23),"",VLOOKUP($C23,Reference!$A:$C,3,0)) | F23: =IF(ISBLANK($C23),"",VLOOKUP($C23,Reference!$A:$F,4,0)) | G23: =IF(ISBLANK($C23),"",VLOOKUP($C23,Reference!$A:$F,5,0)) | H23: =IF(ISBLANK($C23),"",VLOOKUP($C23,Reference!$A:$F,6,0)) | I23: 0 | J23: =IF(ISERROR($I23*$H23),0,$I23*$H23) -> 0
D24: =IF(ISBLANK($C24),"",VLOOKUP($C24,Reference!$A:$C,2,0)) | E24: =IF(ISBLANK($C24),"",VLOOKUP($C24,Reference!$A:$C,3,0)) | F24: =IF(ISBLANK($C24),"",VLOOKUP($C24,Reference!$A:$F,4,0)) | G24: =IF(ISBLANK($C24),"",VLOOKUP($C24,Reference!$A:$F,5,0)) | H24: =IF(ISBLANK($C24),"",VLOOKUP($C24,Reference!$A:$F,6,0)) | I24: 0 | J24: =IF(ISERROR($I24*$H24),0,$I24*$H24) -> 0
D25: =IF(ISBLANK($C25),"",VLOOKUP($C25,Reference!$A:$C,2,0)) | E25: =IF(ISBLANK($C25),"",VLOOKUP($C25,Reference!$A:$C,3,0)) | F25: =IF(ISBLANK($C25),"",VLOOKUP($C25,Reference!$A:$F,4,0)) | G25: =IF(ISBLANK($C25),"",VLOOKUP($C25,Reference!$A:$F,5,0)) | H25: =IF(ISBLANK($C25),"",VLOOKUP($C25,Reference!$A:$F,6,0)) | I25: 0 | J25: =IF(ISERROR($I25*$H25),0,$I25*$H25) -> 0
D26: =IF(ISBLANK($C26),"",VLOOKUP($C26,Reference!$A:$C,2,0)) | E26: =IF(ISBLANK($C26),"",VLOOKUP($C26,Reference!$A:$C,3,0)) | F26: =IF(ISBLANK($C26),"",VLOOKUP($C26,Reference!$A:$F,4,0)) | G26: =IF(ISBLANK($C26),"",VLOOKUP($C26,Reference!$A:$F,5,0)) | H26: =IF(ISBLANK($C26),"",VLOOKUP($C26,Reference!$A:$F,6,0)) | I26: 0 | J26: =IF(ISERROR($I26*$H26),0,$I26*$H26) -> 0
D27: =IF(ISBLANK($C27),"",VLOOKUP($C27,Reference!$A:$C,2,0)) | E27: =IF(ISBLANK($C27),"",VLOOKUP($C27,Reference!$A:$C,3,0)) | F27: =IF(ISBLANK($C27),"",VLOOKUP($C27,Reference!$A:$F,4,0)) | G27: =IF(ISBLANK($C27),"",VLOOKUP($C27,Reference!$A:$F,5,0)) | H27: =IF(ISBLANK($C27),"",VLOOKUP($C27,Reference!$A:$F,6,0)) | I27: 0 | J27: =IF(ISERROR($I27*$H27),0,$I27*$H27) -> 0
D28: =IF(ISBLANK($C28),"",VLOOKUP($C28,Reference!$A:$C,2,0)) | E28: =IF(ISBLANK($C28),"",VLOOKUP($C28,Reference!$A:$C,3,0)) | F28: =IF(ISBLANK($C28),"",VLOOKUP($C28,Reference!$A:$F,4,0)) | G28: =IF(ISBLANK($C28),"",VLOOKUP($C28,Reference!$A:$F,5,0)) | H28: =IF(ISBLANK($C28),"",VLOOKUP($C28,Reference!$A:$F,6,0)) | I28: 0 | J28: =IF(ISERROR($I28*$H28),0,$I28*$H28) -> 0
D29: =IF(ISBLANK($C29),"",VLOOKUP($C29,Reference!$A:$C,2,0)) | E29: =IF(ISBLANK($C29),"",VLOOKUP($C29,Reference!$A:$C,3,0)) | F29: =IF(ISBLANK($C29),"",VLOOKUP($C29,Reference!$A:$F,4,0)) | G29: =IF(ISBLANK($C29),"",VLOOKUP($C29,Reference!$A:$F,5,0)) | H29: =IF(ISBLANK($C29),"",VLOOKUP($C29,Reference!$A:$F,6,0)) | I29: 0 | J29: =IF(ISERROR($I29*$H29),0,$I29*$H29) -> 0
D30: =IF(ISBLANK($C30),"",VLOOKUP($C30,Reference!$A:$C,2,0)) | E30: =IF(ISBLANK($C30),"",VLOOKUP($C30,Reference!$A:$C,3,0)) | F30: =IF(ISBLANK($C30),"",VLOOKUP($C30,Reference!$A:$F,4,0)) | G30: =IF(ISBLANK($C30),"",VLOOKUP($C30,Reference!$A:$F,5,0)) | H30: =IF(ISBLANK($C30),"",VLOOKUP($C30,Reference!$A:$F,6,0)) | I30: 0 | J30: =IF(ISERROR($I30*$H30),0,$I30*$H30) -> 0
D31: =IF(ISBLANK($C31),"",VLOOKUP($C31,Reference!$A:$C,2,0)) | E31: =IF(ISBLANK($C31),"",VLOOKUP($C31,Reference!$A:$C,3,0)) | F31: =IF(ISBLANK($C31),"",VLOOKUP($C31,Reference!$A:$F,4,0)) | G31: =IF(ISBLANK($C31),"",VLOOKUP($C31,Reference!$A:$F,5,0)) | H31: =IF(ISBLANK($C31),"",VLOOKUP($C31,Reference!$A:$F,6,0)) | I31: 0 | J31: =IF(ISERROR($I31*$H31),0,$I31*$H31) -> 0
... D129: =IF(ISBLANK($C129),"",VLOOKUP($C129,Reference!$A:$C,2,0)) | E129: =IF(ISBLANK($C129),"",VLOOKUP($C129,Reference!$A:$C,3,0)) | F129: =IF(ISBLANK($C129),"",VLOOKUP($C129,Reference!$A:$F,4,0)) | G129: =IF(ISBLANK($C129),"",VLOOKUP($C129,Reference!$A:$F,5,0)) | H129: =IF(ISBLANK($C129),"",VLOOKUP($C129,Reference!$A:$F,6,0)) | I129: 0 | J129: =IF(ISERROR($I129*$H129),0,$I129*$H129) -> 0

Sheet Reference
A3: Item # | B3: Item Desc | C3: UOM | D3: Case Count | E3: Each Cost | F3: Case Cost
A4: 31001 | B4: Outdoor Super Stencils, Magical Creatures | C4: EA | D4: 6 | E4: 10.52 | F4: 63.12
A5: 35800 | B5: Tie Dye Sidewalk Chalk | C5: EA | D5: 12 | E5: 2.16 | F5: 25.92
A6: 35803 | B6: Special FX Neon Sidewalk Chalk | C6: EA | D6: 12 | E6: 2.16 | F6: 25.92
A7: 35804 | B7: Special FX Glitter Sidewalk Chalk | C7: EA | D7: 12 | E7: 2.16 | F7: 25.92
A8: 40015 | B8: Mini Inspiration Art Case, Silly Scents | C8: EA | D8: 4 | E8: 13.85 | F8: 55.4
A9: 40116 | B9: Art With Edge, Opitical Illusion | C9: EA | D9: 24 | E9: 4.43 | F9: 106.32
A10: 40122 | B10: Adult Coloring, Artful Words | C10: EA | D10: 24 | E10: 4 | F10: 96
A11: 40123 | B11: Adult Coloring, Surreal Scenes | C11: EA | D11: 24 | E11: 4 | F11: 96
A12: 40124 | B12: Adult Coloring, Lush Ambiance | C12: EA | D12: 24 | E12: 4 | F12: 96
A13: 40125 | B13: Adult Coloring, Earthly Delights | C13: EA | D13: 24 | E13: 4 | F13: 96
A14: 40129 | B14: Light-Up Tracing Pad Asst. (2 boy and 2 girl; $15.00 each | C14: AS | D14: 1 | E14: 66.44 | F14: 66.44
A15: 40136 | B15: Light-Up Tracing Pad, Boy | C15: EA | D15: 4 | E15: 16.62 | F15: 66.48
... A209: 80967 | B209: SILLY PUTTY, NUGGET'S PUTTY MIXIN LAB | C209: EA | D209: 6 | E209: 9.97 | F209: 59.82
A210: 92710 | B210: Display, Crayon Marker Pencil Combo | C210: DS | D210: 1 | E210: 51.02
A211: 93040 | B211: Display, Halloween Paint Combo Tray | C211: DS | D211: 1 | E211: 74.28 | F211: 74.28
A212: 96144 | B212: Display, Halloween Floorstand | C212: DS | D212: 1 | E212: 159.36 | F212: 159.36
A213: 96155 | B213: Display, Floor, Valentine Combo | C213: DS | D213: 1 | E213: 155.6 | F213: 155.6
A214: 96161 | B214: Display, Two Sided Floor, Easter | C214: DS | D214: 1 | E214: 267.81 | F214: 267.81
A215: 96162 | B215: Display, Two Sided Floor, BTS | C215: DS | D215: 1 | E215: 236 | F215: 236
A216: 96166 | B216: Display, Two Sided Floor, Holiday | C216: DS | D216: 1 | E216: 266.76 | F216: 266.76
A217: 96170 | B217: Display, Floor, Coloring Fun | C217: DS | D217: 1 | E217: 127.41 | F217: 127.41
A218: 96171 | B218: Display, Tray, Colors of the World Combo | C218: DS | D218: 1 | E218: 23.4 | F218: 23.4
A219: 96172 | B219: Display, Floor Core Coloring | C219: DS | D219: 1 | E219: 134.2 | F219: 134.2
A220: 96173 | B220: Display, Floor, Color Wonder Combo | C220: DS | D220: 1 | E220: 136.56 | F220: 136.56
A221: 201997 | B221: 6 ct. Acrylic 2-oz. Paint Set | C221: EA | D221: 6 | E221: 4.38 | F221: 26.28
A222: 201998 | B222: 6 ct. Pumpkin Paint Set, Autumn Colors | C222: EA | D222: 6 | E222: 4.38 | F222: 26.28
... A328: 5283600067 | B328: BULK, CRYN 8SZ ROYAL PURPLE 3000PK | C328: CS | D328: 1 | E328: 99.9 | F328: 99.9
A329: 528360M010 | B329: BULK, CRAY 8SZ CARNATION PINK 3000 PK | C329: CS | D329: 1 | E329: 99.9 | F329: 99.9
A330: 528360M039 | B330: BULK, CRYN 8SZ RED VIOLET 3000PK | C330: CS | D330: 1 | E330: 99.9 | F330: 99.9
A331: 5283600227 | B331: BULK, CRYN 8SZ FERN 3000PK | C331: CS | D331: 1 | E331: 99.9 | F331: 99.9
A332: 528360M193 | B332: BULK, CRYN 8SZ INDIGO 3000PK | C332: CS | D332: 1 | E332: 99.9 | F332: 99.9
A333: 5283609023 | B333: BULK, CRYN 8SZ MIDNIGHT BLUE 3M 3000PK | C333: CS | D333: 1 | E333: 99.9 | F333: 99.9
A334: 5283609029 | B334: BULK, CRYN 8SZ PINE GREEN 3000PK | C334: CS | D334: 1 | E334: 99.9 | F334: 99.9
A335: 528360M040 | B335: BULK, CRYN 8SZ VIOLET (PURPLE) 3000PK | C335: CS | D335: 1 | E335: 99.9 | F335: 99.9
A336: 5283609064 | B336: BULK, CRYN 8SZ FUCHSIA 3M 3000PK | C336: CS | D336: 1 | E336: 99.9 | F336: 99.9
A337: 528360M042 | B337: BULK, CRYN 8SZ BLUE 3000PK | C337: CS | D337: 1 | E337: 99.9 | F337: 99.9
A338: 528360M044 | B338: BULK, CRYN 8SZ GREEN 3000PK | C338: CS | D338: 1 | E338: 99.9 | F338: 99.9
A339: 528360M028 | B339: BULK, CRYN 8SZ PERIWINKLE 3000PK | C339: CS | D339: 1 | E339: 99.9 | F339: 99.9
A340: 5283609025 | B340: BULK, CRYN, NAVY BLUE 3000PK | C340: CS | D340: 1 | E340: 99.9 | F340: 99.9
A341: 528360M008 | B341: BULK, CRYN 8SZ BURNT ORANGE 3000PK | C341: CS | D341: 1 | E341: 99.9 | F341: 99.9
A342: 528360M006 | B342: BULK, CRYN 8SZ CHESTNUT 3000PK | C342: CS | D342: 1 | E342: 99.9 | F342: 99.9
A343: 528360M037 | B343: BULK, CRYN 8SZ RED ORANGE 3000PK | C343: CS | D343: 1 | E343: 99.9 | F343: 99.9
A344: 528360M036 | B344: BULK, CRYN 8SZ ORANGE 3000PK | C344: CS | D344: 1 | E344: 99.9 | F344: 99.9
A345: 528360M069 | B345: BULK, CRYN 8SZ MAGENTA 3000PK | C345: CS | D345: 1 | E345: 99.9 | F345: 99.9
A346: 528360M116 | B346: BULK, CRYN 8SZ PACIFIC BLUE 3000PK | C346: CS | D346: 1 | E346: 99.9 | F346: 99.9
A347: 528360M007 | B347: BULK, CRYN 8SZ BROWN 3000PK | C347: CS | D347: 1 | E347: 99.9 | F347: 99.9
A348: 528360M053 | B348: BULK, CRYN 8SZ WHITE 3000PK | C348: CS | D348: 1 | E348: 99.9 | F348: 99.9
A349: 528360M013 | B349: BULK, CRYN 8SZ FOREST GREEN 3000PK | C349: CS | D349: 1 | E349: 99.9 | F349: 99.9
A350: 5283609912 | B350: BULK, CRYN 8SZ SHAMROCK 3000PK | C350: CS | D350: 1 | E350: 99.9 | F350: 99.9
A351: 528360M057 | B351: BULK, CRYN 8SZ BURNT SIENNA 3000PK | C351: CS | D351: 1 | E351: 99.9 | F351: 99.9
A352: 528360M104 | B352: BULK, CRYN 8SZ TICKLE ME PINK 3000PK | C352: CS | D352: 1 | E352: 99.9 | F352: 99.9
A353: 528360M090 | B353: BULK, CRYN 8SZ PLUM 3000PK | C353: CS | D353: 1 | E353: 99.9 | F353: 99.9
A354: 528360M003 | B354: BULK, CRYN 8SZ BITTERSWEET 3000PK | C354: CS | D354: 1 | E354: 99.9 | F354: 99.9
A355: 528360M043 | B355: BULK, CRYN 8SZ BLUE-GREEN 3000 PK | C355: CS | D355: 1 | E355: 99.9 | F355: 99.9
A356: 528360M106 | B356: BULK, CRYN 8SZ TUMBLEWEED 3000PK | C356: CS | D356: 1 | E356: 99.9 | F356: 99.9
A357: 528360M192 | B357: BULK, CRYN 8SZ SCARLET 3000PK | C357: CS | D357: 1 | E357: 99.9 | F357: 99.9
A358: 528360M814 | B358: BULK, CRYN 8SZ BANANA BONANZA 3000PK | C358: CS | D358: 1 | E358: 99.9 | F358: 99.9
A359: 528360M038 | B359: BULK, CRYN 8SZ RED 3000PK | C359: CS | D359: 1 | E359: 99.9 | F359: 99.9
A360: 528360M032 | B360: BULK, CRYN 8SZ SEA GREEN 3000PK | C360: CS | D360: 1 | E360: 99.9 | F360: 99.9
A361: 528360M107 | B361: BULK, CRYN 8SZ ASPARAGUS 3000PK | C361: CS | D361: 1 | E361: 99.9 | F361: 99.9
A362: 5283609913 | B362: BULK, CRYN 8SZ RAZZMATAZZ 3M 3000PK | C362: CS | D362: 1 | E362: 99.9 | F362: 99.9
A363: 528360M052 | B363: BULK, CRYN 8SZ GRAY 3000PK | C363: CS | D363: 1 | E363: 99.9 | F363: 99.9
A364: 528360M027 | B364: BULK, CRYN 8SZ ORCHID 3000PK | C364: CS | D364: 1 | E364: 99.9 | F364: 99.9
A365: 528360M060 | B365: BULK, CRYN 8SZ CERULEAN BLUE 3000PK | C365: CS | D365: 1 | E365: 99.9 | F365: 99.9
A366: 528360M051 | B366: BULK, CRYN 8SZ BLACK 3000PK | C366: CS | D366: 1 | E366: 99.9 | F366: 99.9
A367: 528360M019 | B367: BULK, CRYN 8SZ MAHOGANY 3000PK | C367: CS | D367: 1 | E367: 99.9 | F367: 99.9
A368: 5283609063 | B368: BULK, CRYN 8SZ JUNGLE GREEN 3000PK | C368: CS | D368: 1 | E368: 99.9 | F368: 99.9
A369: 528360M059 | B369: BULK, CRYN 8SZ SEPIA 3000PK | C369: CS | D369: 1 | E369: 99.9 | F369: 99.9
A370: 528360M062 | B370: BULK, CRYN 8SZ OLIVE GREEN 3000PK | C370: CS | D370: 1 | E370: 99.9 | F370: 99.9
A371: 528360M012 | B371: BULK, CRYN 8SZ CORNFLOWER 3000PK | C371: CS | D371: 1 | E371: 99.9 | F371: 99.9
A372: 528360M005 | B372: BULK, CRYN 8SZ BRICK RED 3000PK | C372: CS | D372: 1 | E372: 99.9 | F372: 99.9
A373: 528360M077 | B373: BULK, CRYN 8SZ TAN 3000PK | C373: CS | D373: 1 | E373: 99.9 | F373: 99.9
A374: 528360M114 | B374: BULK, CRYN 8SZ WISTERIA 3000PK | C374: CS | D374: 1 | E374: 99.9 | F374: 99.9
A375: 528360M109 | B375: BULK, CRYN 8SZ PURPLE MTN MAJESTY 3000PK | C375: CS | D375: 1 | E375: 99.9 | F375: 99.9
A376: 528360M076 | B376: BULK, CRYN 8SZ SPRING GREEN 3000PK | C376: CS | D376: 1 | E376: 99.9 | F376: 99.9
A377: 528360M018 | B377: BULK, CRYN 8SZ LAVENDER 3000PK | C377: CS | D377: 1 | E377: 99.9 | F377: 99.9
A378: 528360M014 | B378: BULK, CRYN 8SZ GOLDENROD 3000PK | C378: CS | D378: 1 | E378: 99.9 | F378: 99.9
A379: 528360M034 | B379: BULK, CRYN 8SZ YELLOW 3000PK | C379: CS | D379: 1 | E379: 99.9 | F379: 99.9
A380: 528360M035 | B380: BULK, CRYN 8SZ YELLOW ORANGE 3000PK | C380: CS | D380: 1 | E380: 99.9 | F380: 99.9
... A396: 528360M068 | B396: BULK, CRYN 8SZ WILD STRAWBERRY 3000PK | C396: CS | D396: 1 | E396: 99.9 | F396: 99.9
A397: 5283600120 | B397: BULK, CRYN 8SZ PIGGY PINK 3000PK | C397: CS | D397: 1 | E397: 99.9 | F397: 99.9
A398: 5283600132 | B398: BULK, CRYN 8SZ BLUE BELL 3000PK | C398: CS | D398: 1 | E398: 99.9 | F398: 99.9
A399: 5283609045 | B399: BULK, CRYN 8SZ YELLOW GREEN 3000PK | C399: CS | D399: 1 | E399: 99.9 | F399: 99.9
A400: 5283600141 | B400: BULK, CRYN 8SZ CANARY 3000PK | C400: CS | D400: 1 | E400: 99.9 | F400: 99.9
A401: 5283600029 | B401: BULK, CRYN 8SZ MOUNTAIN MEADOW 3000PK | C401: CS | D401: 1 | E401: 99.9 | F401: 99.9
A402: 5283600021 | B402: BULK, CRYN 8SZ SUNSET ORANGE 3000PK | C402: CS | D402: 1 | E402: 99.9 | F402: 99.9
A403: 5283600034 | B403: BULK, CRYN 8SZ BLUSH 3000PK | C403: CS | D403: 1 | E403: 99.9 | F403: 99.9
A404: 5283600030 | B404: BULK CRYN OUTERSPACE 3000PK | C404: CS | D404: 1 | E404: 113.1 | F404: 113.1
A405: 528360M084 | B405: BULK, CRYN 8SZ SILVER 3000PK | C405: CS | D405: 1 | E405: 113.1 | F405: 113.1
A406: 5283600017 | B406: BULK, CRYN, NEON CARROT 3000PK | C406: CS | D406: 1 | E406: 113.1 | F406: 113.1
A407: 5283600439 | B407: BULK, CRYN VIVID VIOLET 3000PK | C407: CS | D407: 1 | E407: 113.1 | F407: 113.1
A408: 5283600438 | B408: BULK CRYN PINK FLAMINGO 3000PK | C408: CS | D408: 1 | E408: 113.1 | F408: 113.1
A409: 5283600071 | B409: BULK, CRYN 8SZ JAZZBERRY JAM 3000PK | C409: CS | D409: 1 | E409: 113.1 | F409: 113.1
A410: 5283609099 | B410: BULK, CRYN 8SZ RAZZLE DAZZLE ROSE 3000PK | C410: CS | D410: 1 | E410: 113.1 | F410: 113.1
A411: 5283600436 | B411: BULK, CRYN PURPLE HEART 3000PK | C411: CS | D411: 1 | E411: 113.1 | F411: 113.1
A412: 5283609011 | B412: BULK, CRYN 8SZ COPPER 3000PK | C412: CS | D412: 1 | E412: 113.1 | F412: 113.1
A413: 5283600091 | B413: BULK, CRYN 8SZ RADICAL RED 3000PK | C413: CS | D413: 1 | E413: 113.1 | F413: 113.1
A414: 5283609075 | B414: BULK, CRYN 8SZ,SUNGLOW 3000PK | C414: CS | D414: 1 | E414: 113.1 | F414: 113.1
A415: 5283609078 | B415: BULK, CRYN, 8SZ,UNMELLOW YELLOW 3000PK | C415: CS | D415: 1 | E415: 113.1 | F415: 113.1
...
