Workbook

Sheet OrderForm
A2: =TODAY() -> 45204
J7: Customer #:
C12: Customer Name: | G12: Ship To:
C13: P.O. #:
C14: Date:
J17: Order Total $
J18: =SUM(J20:J130) -> 0
C19: Item #: (no dashes) | D19: Item Description: | E19: UOM | F19: Case Count | G19: Each Price $ | H19: Case Price $ | I19: Case Order Qty. | J19: Item Total $ | K19: Comment (Optional)
D20: =IF(ISBLANK($C20),"",VLOOKUP($C20,Reference!$A:$C,2,0)) | E20: =IF(ISBLANK($C20),"",VLOOKUP($C20,Reference!$A:$C,3,0)) | F20: =IF(ISBLANK($C20),"",VLOOKUP($C20,Reference!$A:$F,4,0)) | G20: =IF(ISBLANK($C20),"",VLOOKUP($C20,Reference!$A:$F,5,0)) | H20: =IF(ISBLANK($C20),"",VLOOKUP($C20,Reference!$A:$F,6,0)) | I20: 0 | J20: =IF(ISERROR($I20*$H20),0,$I20*$H20) -> 0
D21: =IF(ISBLANK($C21),"",VLOOKUP($C21,Reference!$A:$C,2,0)) | E21: =IF(ISBLANK($C21),"",VLOOKUP($C21,Reference!$A:$C,3,0)) | F21: =IF(ISBLANK($C21),"",VLOOKUP($C21,Reference!$A:$F,4,0)) | G21: =IF(ISBLANK($C21),"",VLOOKUP($C21,Reference!$A:$F,5,0)) | H21: =IF(ISBLANK($C21),"",VLOOKUP($C21,Reference!$A:$F,6,0)) | I21: 0 | J21: =IF(ISERROR($I21*$H21),0,$I21*$H21) -> 0
D22: =IF(ISBLANK($C22),"",VLOOKUP($C22,Reference!$A:$C,2,0)) | E22: =IF(ISBLANK($C22),"",VLOOKUP($C22,Reference!$A:$C,3,0)) | F22: =IF(ISBLANK($C22),"",VLOOKUP($C22,Reference!$A:$F,4,0)) | G22: =IF(ISBLANK($C22),"",VLOOKUP($C22,Reference!$A:$F,5,0)) | H22: =IF(ISBLANK($C22),"",VLOOKUP($C22,Reference!$A:$F,6,0)) | I22: 0 | J22: =IF(ISERROR($I22*$H22),0,$I22*$H22) -> 0
D23: =IF(ISBLANK($C23),"",VLOOKUP($C23,Reference!$A:$C,2,0)) | E23: =IF(ISBLANK($C23),"",VLOOKUP($C23,Reference!$A:$C,3,0)) | F23: =IF(ISBLANK($C23),"",VLOOKUP($C23,Reference!$A:$F,4,0)) | G23: =IF(ISBLANK($C23),"",VLOOKUP($C23,Reference!$A:$F,5,0)) | H23: =IF(ISBLANK($C23),"",VLOOKUP($C23,Reference!$A:$F,6,0)) | I23: 0 | J23: =IF(ISERROR($I23*$H23),0,$I23*$H23) -> 0
D24: =IF(ISBLANK($C24),"",VLOOKUP($C24,Reference!$A:$C,2,0)) | E24: =IF(ISBLANK($C24),"",VLOOKUP($C24,Reference!$A:$C,3,0)) | F24: =IF(ISBLANK($C24),"",VLOOKUP($C24,Reference!$A:$F,4,0)) | G24: =IF(ISBLANK($C24),"",VLOOKUP($C24,Reference!$A:$F,5,0)) | H24: =IF(ISBLANK($C24),"",VLOOKUP($C24,Reference!$A:$F,6,0)) | I24: 0 | J24: =IF(ISERROR($I24*$H24),0,$I24*$H24) -> 0
D25: =IF(ISBLANK($C25),"",VLOOKUP($C25,Reference!$A:$C,2,0)) | E25: =IF(ISBLANK($C25),"",VLOOKUP($C25,Reference!$A:$C,3,0)) | F25: =IF(ISBLANK($C25),"",VLOOKUP($C25,Reference!$A:$F,4,0)) | G25: =IF(ISBLANK($C25),"",VLOOKUP($C25,Reference!$A:$F,5,0)) | H25: =IF(ISBLANK($C25),"",VLOOKUP($C25,Reference!$A:$F,6,0)) | I25: 0 | J25: =IF(ISERROR($I25*$H25),0,$I25*$H25) -> 0
D26: =IF(ISBLANK($C26),"",VLOOKUP($C26,Reference!$A:$C,2,0)) | E26: =IF(ISBLANK($C26),"",VLOOKUP($C26,Reference!$A:$C,3,0)) | F26: =IF(ISBLANK($C26),"",VLOOKUP($C26,Reference!$A:$F,4,0)) | G26: =IF(ISBLANK($C26),"",VLOOKUP($C26,Reference!$A:$F,5,0)) | H26: =IF(ISBLANK($C26),"",VLOOKUP($C26,Reference!$A:$F,6,0)) | I26: 0 | J26: =IF(ISERROR($I26*$H26),0,$I26*$H26) -> 0
D27: =IF(ISBLANK($C27),"",VLOOKUP($C27,Reference!$A:$C,2,0)) | E27: =IF(ISBLANK($C27),"",VLOOKUP($C27,Reference!$A:$C,3,0)) | F27: =IF(ISBLANK($C27),"",VLOOKUP($C27,Reference!$A:$F,4,0)) | G27: =IF(ISBLANK($C27),"",VLOOKUP($C27,Reference!$A:$F,5,0)) | H27: =IF(ISBLANK($C27),"",VLOOKUP($C27,Reference!$A:$F,6,0)) | I27: 0 | J27: =IF(ISERROR($I27*$H27),0,$I27*$H27) -> 0
D28: =IF(ISBLANK($C28),"",VLOOKUP($C28,Reference!$A:$C,2,0)) | E28: =IF(ISBLANK($C28),"",VLOOKUP($C28,Reference!$A:$C,3,0)) | F28: =IF(ISBLANK($C28),"",VLOOKUP($C28,Reference!$A:$F,4,0)) | G28: =IF(ISBLANK($C28),"",VLOOKUP($C28,Reference!$A:$F,5,0)) | H28: =IF(ISBLANK($C28),"",VLOOKUP($C28,Reference!$A:$F,6,0)) | I28: 0 | J28: =IF(ISERROR($I28*$H28),0,$I28*$H28) -> 0
D29: =IF(ISBLANK($C29),"",VLOOKUP($C29,Reference!$A:$C,2,0)) | E29: =IF(ISBLANK($C29),"",VLOOKUP($C29,Reference!$A:$C,3,0)) | F29: =IF(ISBLANK($C29),"",VLOOKUP($C29,Reference!$A:$F,4,0)) | G29: =IF(ISBLANK($C29),"",VLOOKUP($C29,Reference!$A:$F,5,0)) | H29: =IF(ISBLANK($C29),"",VLOOKUP($C29,Reference!$A:$F,6,0)) | I29: 0 | J29: =IF(ISERROR($I29*$H29),0,$I29*$H29) -> 0
D30: =IF(ISBLANK($C30),"",VLOOKUP($C30,Reference!$A:$C,2,0)) | E30: =IF(ISBLANK($C30),"",VLOOKUP($C30,Reference!$A:$C,3,0)) | F30: =IF(ISBLANK($C30),"",VLOOKUP($C30,Reference!$A:$F,4,0)) | G30: =IF(ISBLANK($C30),"",VLOOKUP($C30,Reference!$A:$F,5,0)) | H30: =IF(ISBLANK($C30),"",VLOOKUP($C30,Reference!$A:$F,6,0)) | I30: 0 | J30: =IF(ISERROR($I30*$H30),0,$I30*$H30) -> 0
D31: =IF(ISBLANK($C31),"",VLOOKUP($C31,Reference!$A:$C,2,0)) | E31: =IF(ISBLANK($C31),"",VLOOKUP($C31,Reference!$A:$C,3,0)) | F31: =IF(ISBLANK($C31),"",VLOOKUP($C31,Reference!$A:$F,4,0)) | G31: =IF(ISBLANK($C31),"",VLOOKUP($C31,Reference!$A:$F,5,0)) | H31: =IF(ISBLANK($C31),"",VLOOKUP($C31,Reference!$A:$F,6,0)) | I31: 0 | J31: =IF(ISERROR($I31*$H31),0,$I31*$H31) -> 0
... D129: =IF(ISBLANK($C129),"",VLOOKUP($C129,Reference!$A:$C,2,0)) | E129: =IF(ISBLANK($C129),"",VLOOKUP($C129,Reference!$A:$C,3,0)) | F129: =IF(ISBLANK($C129),"",VLOOKUP($C129,Reference!$A:$F,4,0)) | G129: =IF(ISBLANK($C129),"",VLOOKUP($C129,Reference!$A:$F,5,0)) | H129: =IF(ISBLANK($C129),"",VLOOKUP($C129,Reference!$A:$F,6,0)) | I129: 0 | J129: =IF(ISERROR($I129*$H129),0,$I129*$H129) -> 0

Sheet Reference
A3: Item # | B3: Item Desc | C3: UOM | D3: Case Count | E3: Each Cost | F3: Case Cost
A4: 31001 | B4: Outdoor Super Stencils, Magical Creatures | C4: EA | D4: 6 | E4: 10.52 | F4: 63.12
A5: 35800 | B5: Tie Dye Sidewalk Chalk | C5: EA | D5: 12 | E5: 2.16 | F5: 25.92
A6: 35803 | B6: Special FX Neon Sidewalk Chalk | C6: EA | D6: 12 | E6: 2.16 | F6: 25.92
A7: 35804 | B7: Special FX Glitter Sidewalk Chalk | C7: EA | D7: 12 | E7: 2.16 | F7: 25.92
A8: 40015 | B8: Mini Inspiration Art Case, Silly Scents | C8: EA | D8: 4 | E8: 13.85 | F8: 55.4
A9: 40116 | B9: Art With Edge, Opitical Illusion | C9: EA | D9: 24 | E9: 4.43 | F9: 106.32
A10: 40122 | B10: Adult Coloring, Artful Words | C10: EA | D10: 24 | E10: 4 | F10: 96
A11: 40123 | B11: Adult Coloring, Surreal Scenes | C11: EA | D11: 24 | E11: 4 | F11: 96
A12: 40124 | B12: Adult Coloring, Lush Ambiance | C12: EA | D12: 24 | E12: 4 | F12: 96
A13: 40125 | B13: Adult Coloring, Earthly Delights | C13: EA | D13: 24 | E13: 4 | F13: 96
A14: 40129 | B14: Light-Up Tracing Pad Asst. (2 boy and 2 girl; $15.00 each | C14: AS | D14: 1 | E14: 66.44 | F14: 66.44
A15: 40136 | B15: Light-Up Tracing Pad, Boy | C15: EA | D15: 4 | E15: 16.62 | F15: 66.48
... A209: 80967 | B209: SILLY PUTTY, NUGGET'S PUTTY MIXIN LAB | C209: EA | D209: 6 | E209: 9.97 | F209: 59.82
A210: 92710 | B210: Display, Crayon Marker Pencil Combo | C210: DS | D210: 1 | E210: 51.02
A211: 93040 | B211: Display, Halloween Paint Combo Tray | C211: DS | D211: 1 | E211: 74.28 | F211: 74.28
A212: 96144 | B212: Display, Halloween Floorstand | C212: DS | D212: 1 | E212: 159.36 | F212: 159.36
A213: 96155 | B213: Display, Floor, Valentine Combo | C213: DS | D213: 1 | E213: 155.6 | F213: 155.6
A214: 96161 | B214: Display, Two Sided Floor, Easter | C214: DS | D214: 1 | E214: 267.81 | F214: 267.81
A215: 96162 | B215: Display, Two Sided Floor, BTS | C215: DS | D215: 1 | E215: 236 | F215: 236
A216: 96166 | B216: Display, Two Sided Floor, Holiday | C216: DS | D216: 1 | E216: 266.76 | F216: 266.76
A217: 96170 | B217: Display, Floor, Coloring Fun | C217: DS | D217: 1 | E217: 127.41 | F217: 127.41
A218: 96171 | B218: Display, Tray, Colors of the World Combo | C218: DS | D218: 1 | E218: 23.4 | F218: 23.4
A219: 96172 | B219: Display, Floor Core Coloring | C219: DS | D219: 1 | E219: 134.2 | F219: 134.2
A220: 96173 | B220: Display, Floor, Color Wonder Combo | C220: DS | D220: 1 | E220: 136.56 | F220: 136.56
A221: 201997 | B221: 6 ct. Acrylic 2-oz. Paint Set | C221: EA | D221: 6 | E221: 4.38 | F221: 26.28
A222: 201998 | B222: 6 ct. Pumpkin Paint Set, Autumn Colors | C222: EA | D222: 6 | E222: 4.38 | F222: 26.28
... A328: 5283600067 | B328: BULK, CRYN 8SZ ROYAL PURPLE 3000PK | C328: CS | D328: 1 | E328: 99.9 | F328: 99.9
A329: 528360M010 | B329: BULK, CRAY 8SZ CARNATION PINK 3000 PK | C329: CS | D329: 1 | E329: 99.9 | F329: 99.9
A330: 528360M039 | B330: BULK, CRYN 8SZ RED VIOLET 3000PK | C330: CS | D330: 1 | E330: 99.9 | F330: 99.9
A331: 5283600227 | B331: BULK, CRYN 8SZ FERN 3000PK | C331: CS | D331: 1 | E331: 99.9 | F331: 99.9
A332: 528360M193 | B332: BULK, CRYN 8SZ INDIGO 3000PK | C332: CS | D332: 1 | E332: 99.9 | F332: 99.9
A333: 5283609023 | B333: BULK, CRYN 8SZ MIDNIGHT BLUE 3M 3000PK | C333: CS | D333: 1 | E333: 99.9 | F333: 99.9
A334: 5283609029 | B334: BULK, CRYN 8SZ PINE GREEN 3000PK | C334: CS | D334: 1 | E334: 99.9 | F334: 99.9
A335: 528360M040 | B335: BULK, CRYN 8SZ VIOLET (PURPLE) 3000PK | C335: CS | D335: 1 | E335: 99.9 | F335: 99.9
A336: 5283609064 | B336: BULK, CRYN 8SZ FUCHSIA 3M 3000PK | C336: CS | D336: 1 | E336: 99.9 | F336: 99.9
A337: 528360M042 | B337: BULK, CRYN 8SZ BLUE 3000PK | C337: CS | D337: 1 | E337: 99.9 | F337: 99.9
A338: 528360M044 | B338: BULK, CRYN 8SZ GREEN 3000PK | C338: CS | D338: 1 | E338: 99.9 | F338: 99.9
A339: 528360M028 | B339: BULK, CRYN 8SZ PERIWINKLE 3000PK | C339: CS | D339: 1 | E339: 99.9 | F339: 99.9
A340: 5283609025 | B340: BULK, CRYN, NAVY BLUE 3000PK | C340: CS | D340: 1 | E340: 99.9 | F340: 99.9
...
