Workbook
Name Agency: OFFSET([1]DropDownValues!$B$2,0,0,COUNTA([1]DropDownValues!$B$2:$B$200),1)
Name NumParticipants: OFFSET([1]DropDownValues!$D$2,0,0,COUNTA([1]DropDownValues!$D$2:$D$100),1)
Name TeamMembers: OFFSET('Participant Tracking'!$C$12,0,0,COUNTA('Participant Tracking'!$C$12:$C$18),1)

Sheet Participant Tracking
B1: Miles for Wellness Participants Weekly Log Challenge 34: Pacing Through The Patch!
B5: Team Member Name
A6: DIRECTIONS: Click on the appropriate Week to open the daily Activity Log on the next page. The steps and conversions you record on each daily Activity Log will automatically transfer and calculate onto this Weekly Log. NO DIRECT ENTRIES CAN BE MADE ON THIS SHEET except for Your Name!
B10: Click on the appropriate week to enter steps | G10: Week 1 | H10: Week 2 | I10: Week 3 | J10: Week 4 | K10: Week 5 | L10: Week 6 | M10: Week 7 | N10: Week 8
C11: Day of the Week | F11: Totals | G11: 2026-09-28 | H11: 2026-10-05 | I11: 2026-10-12 | J11: 2026-10-19 | K11: 2026-10-26 | L11: 2026-11-02 | M11: 2026-11-09 | N11: 2026-11-16
B12: 01 | C12: Monday | F12: =SUM(G12:N12) -> 0 | G12: =Week_1_Conversion!$E$16 -> 0 | H12: =Week_2_Conversion!$E$16 -> 0 | I12: =Week_3_Conversion!$E$16 -> 0 | J12: =Week_4_Conversion!$E$16 -> 0 | K12: =Week_5_Conversion!$E$16 -> 0 | L12: =Week_6_Conversion!$E$16 -> 0 | M12: =Week_7_Conversion!$E$16 -> 0 | N12: =Week_8_Conversion!$E$16 -> 0 | AC12: =C12 -> Monday | AD12: =F12 -> 0
B13: 02 | C13: Tuesday | F13: =SUM(G13:N13) -> 0 | G13: =Week_1_Conversion!$E$25 -> 0 | H13: =Week_2_Conversion!$E$25 -> 0 | I13: =Week_3_Conversion!$E$25 -> 0 | J13: =Week_4_Conversion!$E$25 -> 0 | K13: =Week_5_Conversion!$E$25 -> 0 | L13: =Week_6_Conversion!$E$25 -> 0 | M13: =Week_7_Conversion!$E$25 -> 0 | N13: =Week_8_Conversion!$E$25 -> 0 | AC13: =C13 -> Tuesday | AD13: =F13 -> 0
B14: 03 | C14: Wednesday | F14: =SUM(G14:N14) -> 0 | G14: =Week_1_Conversion!$E$34 -> 0 | H14: =Week_2_Conversion!$E$34 -> 0 | I14: =Week_3_Conversion!$E$34 -> 0 | J14: =Week_4_Conversion!$E$34 -> 0 | K14: =Week_5_Conversion!$E$34 -> 0 | L14: =Week_6_Conversion!$E$34 -> 0 | M14: =Week_7_Conversion!$E$34 -> 0 | N14: =Week_8_Conversion!$E$34 -> 0 | AC14: =C14 -> Wednesday | AD14: =F14 -> 0
B15: 04 | C15: Thursday | F15: =SUM(G15:N15) -> 0 | G15: =Week_1_Conversion!$E$43 -> 0 | H15: =Week_2_Conversion!$E$43 -> 0 | I15: =Week_3_Conversion!$E$43 -> 0 | J15: =Week_4_Conversion!$E$43 -> 0 | K15: =Week_5_Conversion!$E$43 -> 0 | L15: =Week_6_Conversion!$E$43 -> 0 | M15: =Week_7_Conversion!$E$43 -> 0 | N15: =Week_8_Conversion!$E$43 -> 0 | AC15: =C15 -> Thursday | AD15: =F15 -> 0
B16: 05 | C16: Friday | F16: =SUM(G16:N16) -> 0 | G16: =Week_1_Conversion!$E$52 -> 0 | H16: =Week_2_Conversion!$E$52 -> 0 | I16: =Week_3_Conversion!$E$52 -> 0 | J16: =Week_4_Conversion!$E$52 -> 0 | K16: =Week_5_Conversion!$E$52 -> 0 | L16: =Week_6_Conversion!$E$52 -> 0 | M16: =Week_7_Conversion!$E$52 -> 0 | N16: =Week_8_Conversion!$E$52 -> 0 | AC16: =C16 -> Friday | AD16: =F16 -> 0
B17: 06 | C17: Saturday | F17: =SUM(G17:N17) -> 0 | G17: =Week_1_Conversion!$E$61 -> 0 | H17: =Week_2_Conversion!$E$61 -> 0 | I17: =Week_3_Conversion!$E$61 -> 0 | J17: =Week_4_Conversion!$E$61 -> 0 | K17: =Week_5_Conversion!$E$61 -> 0 | L17: =Week_6_Conversion!$E$61 -> 0 | M17: =Week_7_Conversion!$E$61 -> 0 | N17: =Week_8_Conversion!$E$61 -> 0 | AC17: =C17 -> Saturday | AD17: =F17 -> 0
B18: 07 | C18: Sunday | F18: =SUM(G18:N18) -> 0 | G18: =Week_1_Conversion!$E$70 -> 0 | H18: =Week_2_Conversion!$E$70 -> 0 | I18: =Week_3_Conversion!$E$70 -> 0 | J18: =Week_4_Conversion!$E$70 -> 0 | K18: =Week_5_Conversion!$E$70 -> 0 | L18: =Week_6_Conversion!$E$70 -> 0 | M18: =Week_7_Conversion!$E$70 -> 0 | N18: =Week_8_Conversion!$E$70 -> 0 | AC18: =C18 -> Sunday | AD18: =F18 -> 0
B19: Participant Total Steps | F19: =SUM(F12:F18) -> 0 | G19: =SUM(G12:G18) -> 0 | H19: =SUM(H12:H18) -> 0 | I19: =SUM(I12:I18) -> 0 | J19: =SUM(J12:J18) -> 0 | K19: =SUM(K12:K18) -> 0 | L19: =SUM(L12:L18) -> 0 | M19: =SUM(M12:M18) -> 0 | N19: =SUM(N12:N18) -> 0
B20: Number of Days Participating | F20: =SUM(G20:N20) -> 0 | G20: =COUNTIFS(G12:G18,">0") -> 0 | H20: =COUNTIFS(H12:H18,">0") -> 0 | I20: =COUNTIFS(I12:I18,">0") -> 0 | J20: =COUNTIFS(J12:J18,">0") -> 0 | K20: =COUNTIFS(K12:K18,">0") -> 0 | L20: =COUNTIFS(L12:L18,">0") -> 0 | M20: =COUNTIFS(M12:M18,">0") -> 0 | N20: =COUNTIFS(N12:N18,">0") -> 0
B21: Participant Average Steps | F21: =IF(F19 >0,F19/F20,"") | G21: =IF(G19 >0,G19/G20,"") | H21: =IF(H19 >0,H19/H20,"") | I21: =IF(I19 >0,I19/I20,"") | J21: =IF(J19 >0,J19/J20,"") | K21: =IF(K19 >0,K19/K20,"") | L21: =IF(L19 >0,L19/L20,"") | M21: =IF(M19 >0,M19/M20,"") | N21: =IF(N19 >0,N19/N20,"")
B22: Participant Total Miles* | F22: =F19/2000 -> 0 | G22: =G19/2000 -> 0 | H22: =H19/2000 -> 0 | I22: =I19/2000 -> 0 | J22: =J19/2000 -> 0 | K22: =K19/2000 -> 0 | L22: =L19/2000 -> 0 | M22: =M19/2000 -> 0 | N22: =N19/2000 -> 0
F23: * Conversion factor of 2,000 steps equals 1 mile will automatically calculate.
B25: Please report your steps to your captain weekly. At the end of competition, please sign below and give a printed copy to your captain.
C26: "I acknowledge that the steps that I am submitting are an accurate representation of my activity and mileage.” ________________________________________________________________
C27: I used the following exercise conversion(s) during this competition (state type of physical activity and the conversion used):
C28: ________________________________________________________________________________________________________
C29: ________________________________________________________________________________________________________
H32: =COUNTIF(H12:H18, ) -> 7

Sheet Week_1_Conversion
A1: Week 1 ACTIVITY LOG
A4: DIRECTIONS: Enter weekly steps and/or conversion minutes on this page. Enter "Daily Steps" on the top row in the yellow space. If you have conversion minutes to report, click on the cell directly below "Daily Steps" and a list of activities will show up in the drop-down menu. After entering the minutes for the activity, the sheet will calculate steps earned. Daily steps will automatically be added to your conversion steps for your "Total Daily Steps". If an activity is not listed, choose a similiarly difficult activity that is closely related in intensity. All totals will auto-fill to the Weekly Log.
A9: Monday 9/28/26 | B9: Activity | C9: Minutes | D9: Steps per Min | E9: Total Steps | F9: Return to Weekly Log
B10: Daily Steps | F10: Go to Week 2
D11: =IF(ISBLANK(B11)," ",VLOOKUP(B11,'Activity List'!A$2:F$101,3,)) | E11: =IF(ISBLANK(C11)," ",D11*C11) | F11: Go to Week 3
D12: =IF(ISBLANK(B12)," ",VLOOKUP(B12,'Activity List'!A$2:F$101,3,)) | E12: =IF(ISBLANK(C12)," ",D12*C12) | F12: Go to Week 4
D13: =IF(ISBLANK(B13)," ",VLOOKUP(B13,'Activity List'!A$2:F$101,3,)) | E13: =IF(ISBLANK(C13)," ",D13*C13) | F13: Go to Week 5
D14: =IF(ISBLANK(B14)," ",VLOOKUP(B14,'Activity List'!A$2:F$101,3,)) | E14: =IF(ISBLANK(C14)," ",D14*C14) | F14: Go to Week 6
D15: =IF(ISBLANK(B15)," ",VLOOKUP(B15,'Activity List'!A$4:F$98,3,)) | E15: =IF(ISBLANK(C15)," ",D15*C15) | F15: Go to Week 7
B16: Total Daily Steps | E16: =SUM(E10:E15) -> 0 | F16: Go to Week 8
A18: Tuesday 9/29/26 | B18: Activity | C18: Minutes | D18: Steps per Min | E18: Total Steps
B19: Daily Steps
D20: =IF(ISBLANK(B20)," ",VLOOKUP(B20,'Activity List'!A$2:F$101,3,)) | E20: =IF(ISBLANK(C20)," ",D20*C20)
D21: =IF(ISBLANK(B21)," ",VLOOKUP(B21,'Activity List'!A$2:F$101,3,)) | E21: =IF(ISBLANK(C21)," ",D21*C21)
D22: =IF(ISBLANK(B22)," ",VLOOKUP(B22,'Activity List'!A$2:F$101,3,)) | E22: =IF(ISBLANK(C22)," ",D22*C22)
D23: =IF(ISBLANK(B23)," ",VLOOKUP(B23,'Activity List'!A$2:F$101,3,)) | E23: =IF(ISBLANK(C23)," ",D23*C23)
D24: =IF(ISBLANK(B24)," ",VLOOKUP(B24,'Activity List'!A$2:F$101,3,)) | E24: =IF(ISBLANK(C24)," ",D24*C24)
B25: Total Daily Steps | E25: =SUM(E19:E24) -> 0
A27: Wednesday 9/30/26 | B27: Activity | C27: Minutes | D27: Steps per Min | E27: Total Steps
B28: Daily Steps
D29: =IF(ISBLANK(B29)," ",VLOOKUP(B29,'Activity List'!A$2:F$101,3,)) | E29: =IF(ISBLANK(C29)," ",D29*C29)
D30: =IF(ISBLANK(B30)," ",VLOOKUP(B30,'Activity List'!A$2:F$101,3,)) | E30: =IF(ISBLANK(C30)," ",D30*C30)
D31: =IF(ISBLANK(B31)," ",VLOOKUP(B31,'Activity List'!A$2:F$101,3,)) | E31: =IF(ISBLANK(C31)," ",D31*C31)
D32: =IF(ISBLANK(B32)," ",VLOOKUP(B32,'Activity List'!A$2:F$101,3,)) | E32: =IF(ISBLANK(C32)," ",D32*C32)
D33: =IF(ISBLANK(B33)," ",VLOOKUP(B33,'Activity List'!A$2:F$101,3,)) | E33: =IF(ISBLANK(C33)," ",D33*C33)
B34: Total Daily Steps | E34: =SUM(E28:E33) -> 0
A36: Thursday 10/1/26 | B36: Activity | C36: Minutes | D36: Steps per Min | E36: Total Steps
B37: Daily Steps
D38: =IF(ISBLANK(B38)," ",VLOOKUP(B38,'Activity List'!A$2:F$101,3,)) | E38: =IF(ISBLANK(C38)," ",D38*C38)
D39: =IF(ISBLANK(B39)," ",VLOOKUP(B39,'Activity List'!A$2:F$101,3,)) | E39: =IF(ISBLANK(C39)," ",D39*C39)
D40: =IF(ISBLANK(B40)," ",VLOOKUP(B40,'Activity List'!A$2:F$101,3,)) | E40: =IF(ISBLANK(C40)," ",D40*C40)
D41: =IF(ISBLANK(B41)," ",VLOOKUP(B41,'Activity List'!A$2:F$101,3,)) | E41: =IF(ISBLANK(C41)," ",D41*C41)
D42: =IF(ISBLANK(B42)," ",VLOOKUP(B42,'Activity List'!A$2:F$101,3,)) | E42: =IF(ISBLANK(C42)," ",D42*C42)
B43: Total Daily Steps | E43: =SUM(E37:E42) -> 0
A45: Friday 10/2/26 | B45: Activity | C45: Minutes | D45: Steps per Min | E45: Total Steps
B46: Daily Steps
D47: =IF(ISBLANK(B47)," ",VLOOKUP(B47,'Activity List'!A$2:F$101,3,)) | E47: =IF(ISBLANK(C47)," ",D47*C47)
D48: =IF(ISBLANK(B48)," ",VLOOKUP(B48,'Activity List'!A$2:F$101,3,)) | E48: =IF(ISBLANK(C48)," ",D48*C48)
D49: =IF(ISBLANK(B49)," ",VLOOKUP(B49,'Activity List'!A$2:F$101,3,)) | E49: =IF(ISBLANK(C49)," ",D49*C49)
D50: =IF(ISBLANK(B50)," ",VLOOKUP(B50,'Activity List'!A$2:F$101,3,)) | E50: =IF(ISBLANK(C50)," ",D50*C50)
D51: =IF(ISBLANK(B51)," ",VLOOKUP(B51,'Activity List'!A$2:F$101,3,)) | E51: =IF(ISBLANK(C51)," ",D51*C51)
B52: Total Daily Steps | E52: =SUM(E46:E51) -> 0
A54: Saturday 10/3/26 | B54: Activity | C54: Minutes | D54: Steps per Min | E54: Total Steps
B55: Daily Steps
D56: =IF(ISBLANK(B56)," ",VLOOKUP(B56,'Activity List'!A$2:F$101,3,)) | E56: =IF(ISBLANK(C56)," ",D56*C56)
D57: =IF(ISBLANK(B57)," ",VLOOKUP(B57,'Activity List'!A$2:F$101,3,)) | E57: =IF(ISBLANK(C57)," ",D57*C57)
D58: =IF(ISBLANK(B58)," ",VLOOKUP(B58,'Activity List'!A$2:F$101,3,)) | E58: =IF(ISBLANK(C58)," ",D58*C58)
D59: =IF(ISBLANK(B59)," ",VLOOKUP(B59,'Activity List'!A$2:F$101,3,)) | E59: =IF(ISBLANK(C59)," ",D59*C59)
D60: =IF(ISBLANK(B60)," ",VLOOKUP(B60,'Activity List'!A$2:F$101,3,)) | E60: =IF(ISBLANK(C60)," ",D60*C60)
B61: Total Daily Steps | E61: =SUM(E55:E60) -> 0
A63: Sunday 10/4/26 | B63: Activity | C63: Minutes | D63: Steps per Min | E63: Total Steps
B64: Daily Steps
D65: =IF(ISBLANK(B65)," ",VLOOKUP(B65,'Activity List'!A$2:F$101,3,)) | E65: =IF(ISBLANK(C65)," ",D65*C65)
D66: =IF(ISBLANK(B66)," ",VLOOKUP(B66,'Activity List'!A$2:F$101,3,)) | E66: =IF(ISBLANK(C66)," ",D66*C66)
D67: =IF(ISBLANK(B67)," ",VLOOKUP(B67,'Activity List'!A$2:F$101,3,)) | E67: =IF(ISBLANK(C67)," ",D67*C67)
D68: =IF(ISBLANK(B68)," ",VLOOKUP(B68,'Activity List'!A$2:F$101,3,)) | E68: =IF(ISBLANK(C68)," ",D68*C68)
D69: =IF(ISBLANK(B69)," ",VLOOKUP(B69,'Activity List'!A$2:F$101,3,)) | E69: =IF(ISBLANK(C69)," ",D69*C69)
B70: Total Daily Steps | E70: =SUM(E64:E69) -> 0

Sheet Week_2_Conversion
A1: Week 2 ACTIVITY LOG
A4: DIRECTIONS: Enter weekly steps and/or conversion minutes on this page. Enter "Daily Steps" on the top row in the yellow space. If you have conversion minutes to report, click on the cell directly below "Daily Steps" and a list of activities will show up in the drop-down menu. After entering the minutes for the activity, the sheet will calculate steps earned. Daily steps will automatically be added to your conversion steps for your "Total Daily Steps".If an activity is not listed, choose a similiarly difficult activity that is closely related in intensity. All totals will auto-fill to the Weekly Log.
A9: Monday 10/5/26 | B9: Activity | C9: Minutes | D9: Steps per Min | E9: Total Steps | F9: Return to Weekly Log
B10: Daily Steps | F10: Go to Week 1
D11: =IF(ISBLANK(B11)," ",VLOOKUP(B11,'Activity List'!A$2:F$101,3,)) | E11: =IF(ISBLANK(C11)," ",D11*C11) | F11: Go to Week 3
D12: =IF(ISBLANK(B12)," ",VLOOKUP(B12,'Activity List'!A$2:F$101,3,)) | E12: =IF(ISBLANK(C12)," ",D12*C12) | F12: Go to Week 4
D13: =IF(ISBLANK(B13)," ",VLOOKUP(B13,'Activity List'!A$2:F$101,3,)) | E13: =IF(ISBLANK(C13)," ",D13*C13) | F13: Go to Week 5
D14: =IF(ISBLANK(B14)," ",VLOOKUP(B14,'Activity List'!A$2:F$101,3,)) | E14: =IF(ISBLANK(C14)," ",D14*C14) | F14: Go to Week 6
D15: =IF(ISBLANK(B15)," ",VLOOKUP(B15,'Activity List'!A$2:F$101,3,)) | E15: =IF(ISBLANK(C15)," ",D15*C15) | F15: Go to Week 7
B16: Total Daily Steps | E16: =SUM(E10:E15) -> 0 | F16: Go to Week 8
A18: Tuesday 10/6/26 | B18: Activity | C18: Minutes | D18: Steps per Min | E18: Total Steps
B19: Daily Steps
D20: =IF(ISBLANK(B20)," ",VLOOKUP(B20,'Activity List'!A$2:F$101,3,)) | E20: =IF(ISBLANK(C20)," ",D20*C20)
D21: =IF(ISBLANK(B21)," ",VLOOKUP(B21,'Activity List'!A$2:F$101,3,)) | E21: =IF(ISBLANK(C21)," ",D21*C21)
D22: =IF(ISBLANK(B22)," ",VLOOKUP(B22,'Activity List'!A$2:F$101,3,)) | E22: =IF(ISBLANK(C22)," ",D22*C22)
D23: =IF(ISBLANK(B23)," ",VLOOKUP(B23,'Activity List'!A$2:F$101,3,)) | E23: =IF(ISBLANK(C23)," ",D23*C23)
D24: =IF(ISBLANK(B24)," ",VLOOKUP(B24,'Activity List'!A$2:F$101,3,)) | E24: =IF(ISBLANK(C24)," ",D24*C24)
B25: Total Daily Steps | E25: =SUM(E19:E24) -> 0
A27: Wednesday 10/7/26 | B27: Activity | C27: Minutes | D27: Steps per Min | E27: Total Steps
B28: Daily Steps
D29: =IF(ISBLANK(B29)," ",VLOOKUP(B29,'Activity List'!A$2:F$101,3,)) | E29: =IF(ISBLANK(C29)," ",D29*C29)
D30: =IF(ISBLANK(B30)," ",VLOOKUP(B30,'Activity List'!A$2:F$101,3,)) | E30: =IF(ISBLANK(C30)," ",D30*C30)
D31: =IF(ISBLANK(B31)," ",VLOOKUP(B31,'Activity List'!A$2:F$101,3,)) | E31: =IF(ISBLANK(C31)," ",D31*C31)
D32: =IF(ISBLANK(B32)," ",VLOOKUP(B32,'Activity List'!A$2:F$101,3,)) | E32: =IF(ISBLANK(C32)," ",D32*C32)
D33: =IF(ISBLANK(B33)," ",VLOOKUP(B33,'Activity List'!A$2:F$101,3,)) | E33: =IF(ISBLANK(C33)," ",D33*C33)
B34: Total Daily Steps | E34: =SUM(E28:E33) -> 0
A36: Thursday 10/8/26 | B36: Activity | C36: Minutes | D36: Steps per Min | E36: Total Steps
B37: Daily Steps
D38: =IF(ISBLANK(B38)," ",VLOOKUP(B38,'Activity List'!A$2:F$101,3,)) | E38: =IF(ISBLANK(C38)," ",D38*C38)
D39: =IF(ISBLANK(B39)," ",VLOOKUP(B39,'Activity List'!A$2:F$101,3,)) | E39: =IF(ISBLANK(C39)," ",D39*C39)
D40: =IF(ISBLANK(B40)," ",VLOOKUP(B40,'Activity List'!A$2:F$101,3,)) | E40: =IF(ISBLANK(C40)," ",D40*C40)
D41: =IF(ISBLANK(B41)," ",VLOOKUP(B41,'Activity List'!A$2:F$101,3,)) | E41: =IF(ISBLANK(C41)," ",D41*C41)
D42: =IF(ISBLANK(B42)," ",VLOOKUP(B42,'Activity List'!A$2:F$101,3,)) | E42: =IF(ISBLANK(C42)," ",D42*C42)
B43: Total Daily Steps | E43: =SUM(E37:E42) -> 0
A45: Friday 10/9/26 | B45: Activity | C45: Minutes | D45: Steps per Min | E45: Total Steps
B46: Daily Steps
D47: =IF(ISBLANK(B47)," ",VLOOKUP(B47,'Activity List'!A$2:F$101,3,)) | E47: =IF(ISBLANK(C47)," ",D47*C47)
D48: =IF(ISBLANK(B48)," ",VLOOKUP(B48,'Activity List'!A$2:F$101,3,)) | E48: =IF(ISBLANK(C48)," ",D48*C48)
D49: =IF(ISBLANK(B49)," ",VLOOKUP(B49,'Activity List'!A$2:F$101,3,)) | E49: =IF(ISBLANK(C49)," ",D49*C49)
D50: =IF(ISBLANK(B50)," ",VLOOKUP(B50,'Activity List'!A$2:F$101,3,)) | E50: =IF(ISBLANK(C50)," ",D50*C50)
D51: =IF(ISBLANK(B51)," ",VLOOKUP(B51,'Activity List'!A$2:F$101,3,)) | E51: =IF(ISBLANK(C51)," ",D51*C51)
B52: Total Daily Steps | E52: =SUM(E46:E51) -> 0
A54: Saturday 10/10/26 | B54: Activity | C54: Minutes | D54: Steps per Min | E54: Total Steps
B55: Daily Steps
D56: =IF(ISBLANK(B56)," ",VLOOKUP(B56,'Activity List'!A$2:F$101,3,)) | E56: =IF(ISBLANK(C56)," ",D56*C56)
D57: =IF(ISBLANK(B57)," ",VLOOKUP(B57,'Activity List'!A$2:F$101,3,)) | E57: =IF(ISBLANK(C57)," ",D57*C57)
D58: =IF(ISBLANK(B58)," ",VLOOKUP(B58,'Activity List'!A$2:F$101,3,)) | E58: =IF(ISBLANK(C58)," ",D58*C58)
D59: =IF(ISBLANK(B59)," ",VLOOKUP(B59,'Activity List'!A$2:F$101,3,)) | E59: =IF(ISBLANK(C59)," ",D59*C59)
D60: =IF(ISBLANK(B60)," ",VLOOKUP(B60,'Activity List'!A$2:F$101,3,)) | E60: =IF(ISBLANK(C60)," ",D60*C60)
B61: Total Daily Steps | E61: =SUM(E55:E60) -> 0
A63: Sunday 10/11/26 | B63: Activity | C63: Minutes | D63: Steps per Min | E63: Total Steps
B64: Daily Steps
D65: =IF(ISBLANK(B65)," ",VLOOKUP(B65,'Activity List'!A$2:F$101,3,)) | E65: =IF(ISBLANK(C65)," ",D65*C65)
D66: =IF(ISBLANK(B66)," ",VLOOKUP(B66,'Activity List'!A$2:F$101,3,)) | E66: =IF(ISBLANK(C66)," ",D66*C66)
D67: =IF(ISBLANK(B67)," ",VLOOKUP(B67,'Activity List'!A$2:F$101,3,)) | E67: =IF(ISBLANK(C67)," ",D67*C67)
D68: =IF(ISBLANK(B68)," ",VLOOKUP(B68,'Activity List'!A$2:F$101,3,)) | E68: =IF(ISBLANK(C68)," ",D68*C68)
D69: =IF(ISBLANK(B69)," ",VLOOKUP(B69,'Activity List'!A$2:F$101,3,)) | E69: =IF(ISBLANK(C69)," ",D69*C69)
B70: Total Daily Steps | E70: =SUM(E64:E69) -> 0

Sheet Week_3_Conversion
A1: Week 3 ACTIVITY LOG
A4: DIRECTIONS: Enter weekly steps and/or conversion minutes on this page. Enter "Daily Steps" on the top row in the yellow space. If you have conversion minutes to report, click on the cell directly below "Daily Steps" and a list of activities will show up in the drop-down menu. After entering the minutes for the activity, the sheet will calculate steps earned. Daily steps will automatically be added to your conversion steps for your "Total Daily Steps".If an activity is not listed, choose a similiarly difficult activity that is closely related in intensity. All totals will auto-fill to the Weekly Log.
A9: Monday 10/12/26 | B9: Activity | C9: Minutes | D9: Steps per Min | E9: Total Steps | F9: Return to Weekly Log
B10: Daily Steps | F10: Go to Week 1
D11: =IF(ISBLANK(B11)," ",VLOOKUP(B11,'Activity List'!A$2:F$101,3,)) | E11: =IF(ISBLANK(C11)," ",D11*C11) | F11: Go to Week 2
D12: =IF(ISBLANK(B12)," ",VLOOKUP(B12,'Activity List'!A$2:F$101,3,)) | E12: =IF(ISBLANK(C12)," ",D12*C12) | F12: Go to Week 4
D13: =IF(ISBLANK(B13)," ",VLOOKUP(B13,'Activity List'!A$2:F$101,3,)) | E13: =IF(ISBLANK(C13)," ",D13*C13) | F13: Go to Week 5
D14: =IF(ISBLANK(B14)," ",VLOOKUP(B14,'Activity List'!A$2:F$101,3,)) | E14: =IF(ISBLANK(C14)," ",D14*C14) | F14: Go to Week 6
D15: =IF(ISBLANK(B15)," ",VLOOKUP(B15,'Activity List'!A$2:F$101,3,)) | E15: =IF(ISBLANK(C15)," ",D15*C15) | F15: Go to Week 7
B16: Total Daily Steps | E16: =SUM(E10:E15) -> 0 | F16: Go to Week 8
A18: Tuesday 10/13/26 | B18: Activity | C18: Minutes | D18: Steps per Min | E18: Total Steps
B19: Daily Steps
D20: =IF(ISBLANK(B20)," ",VLOOKUP(B20,'Activity List'!A$2:F$101,3,)) | E20: =IF(ISBLANK(C20)," ",D20*C20)
D21: =IF(ISBLANK(B21)," ",VLOOKUP(B21,'Activity List'!A$2:F$101,3,)) | E21: =IF(ISBLANK(C21)," ",D21*C21)
D22: =IF(ISBLANK(B22)," ",VLOOKUP(B22,'Activity List'!A$2:F$101,3,)) | E22: =IF(ISBLANK(C22)," ",D22*C22)
D23: =IF(ISBLANK(B23)," ",VLOOKUP(B23,'Activity List'!A$2:F$101,3,)) | E23: =IF(ISBLANK(C23)," ",D23*C23)
D24: =IF(ISBLANK(B24)," ",VLOOKUP(B24,'Activity List'!A$2:F$101,3,)) | E24: =IF(ISBLANK(C24)," ",D24*C24)
B25: Total Daily Steps | E25: =SUM(E19:E24) -> 0
A27: Wednesday 10/14/26 | B27: Activity | C27: Minutes | D27: Steps per Min | E27: Total Steps
B28: Daily Steps
D29: =IF(ISBLANK(B29)," ",VLOOKUP(B29,'Activity List'!A$2:F$101,3,)) | E29: =IF(ISBLANK(C29)," ",D29*C29)
D30: =IF(ISBLANK(B30)," ",VLOOKUP(B30,'Activity List'!A$2:F$101,3,)) | E30: =IF(ISBLANK(C30)," ",D30*C30)
D31: =IF(ISBLANK(B31)," ",VLOOKUP(B31,'Activity List'!A$2:F$101,3,)) | E31: =IF(ISBLANK(C31)," ",D31*C31)
D32: =IF(ISBLANK(B32)," ",VLOOKUP(B32,'Activity List'!A$2:F$101,3,)) | E32: =IF(ISBLANK(C32)," ",D32*C32)
D33: =IF(ISBLANK(B33)," ",VLOOKUP(B33,'Activity List'!A$2:F$101,3,)) | E33: =IF(ISBLANK(C33)," ",D33*C33)
B34: Total Daily Steps | E34: =SUM(E28:E33) -> 0
A36: Thursday 10/15/26 | B36: Activity | C36: Minutes | D36: Steps per Min | E36: Total Steps
B37: Daily Steps
D38: =IF(ISBLANK(B38)," ",VLOOKUP(B38,'Activity List'!A$2:F$101,3,)) | E38: =IF(ISBLANK(C38)," ",D38*C38)
D39: =IF(ISBLANK(B39)," ",VLOOKUP(B39,'Activity List'!A$2:F$101,3,)) | E39: =IF(ISBLANK(C39)," ",D39*C39)
D40: =IF(ISBLANK(B40)," ",VLOOKUP(B40,'Activity List'!A$2:F$101,3,)) | E40: =IF(ISBLANK(C40)," ",D40*C40)
D41: =IF(ISBLANK(B41)," ",VLOOKUP(B41,'Activity List'!A$2:F$101,3,)) | E41: =IF(ISBLANK(C41)," ",D41*C41)
D42: =IF(ISBLANK(B42)," ",VLOOKUP(B42,'Activity List'!A$2:F$101,3,)) | E42: =IF(ISBLANK(C42)," ",D42*C42)
B43: Total Daily Steps | E43: =SUM(E37:E42) -> 0
A45: Friday 10/16/26 | B45: Activity | C45: Minutes | D45: Steps per Min | E45: Total Steps
B46: Daily Steps
D47: =IF(ISBLANK(B47)," ",VLOOKUP(B47,'Activity List'!A$2:F$101,3,)) | E47: =IF(ISBLANK(C47)," ",D47*C47)
D48: =IF(ISBLANK(B48)," ",VLOOKUP(B48,'Activity List'!A$2:F$101,3,)) | E48: =IF(ISBLANK(C48)," ",D48*C48)
D49: =IF(ISBLANK(B49)," ",VLOOKUP(B49,'Activity List'!A$2:F$101,3,)) | E49: =IF(ISBLANK(C49)," ",D49*C49)
D50: =IF(ISBLANK(B50)," ",VLOOKUP(B50,'Activity List'!A$2:F$101,3,)) | E50: =IF(ISBLANK(C50)," ",D50*C50)
D51: =IF(ISBLANK(B51)," ",VLOOKUP(B51,'Activity List'!A$2:F$101,3,)) | E51: =IF(ISBLANK(C51)," ",D51*C51)
B52: Total Daily Steps | E52: =SUM(E46:E51) -> 0
A54: Saturday 10/17/26 | B54: Activity | C54: Minutes | D54: Steps per Min | E54: Total Steps
B55: Daily Steps
D56: =IF(ISBLANK(B56)," ",VLOOKUP(B56,'Activity List'!A$2:F$101,3,)) | E56: =IF(ISBLANK(C56)," ",D56*C56)
D57: =IF(ISBLANK(B57)," ",VLOOKUP(B57,'Activity List'!A$2:F$101,3,)) | E57: =IF(ISBLANK(C57)," ",D57*C57)
D58: =IF(ISBLANK(B58)," ",VLOOKUP(B58,'Activity List'!A$2:F$101,3,)) | E58: =IF(ISBLANK(C58)," ",D58*C58)
D59: =IF(ISBLANK(B59)," ",VLOOKUP(B59,'Activity List'!A$2:F$101,3,)) | E59: =IF(ISBLANK(C59)," ",D59*C59)
D60: =IF(ISBLANK(B60)," ",VLOOKUP(B60,'Activity List'!A$2:F$101,3,)) | E60: =IF(ISBLANK(C60)," ",D60*C60)
B61: Total Daily Steps | E61: =SUM(E55:E60) -> 0
A63: Sunday 10/18/26 | B63: Activity | C63: Minutes | D63: Steps per Min | E63: Total Steps
B64: Daily Steps
D65: =IF(ISBLANK(B65)," ",VLOOKUP(B65,'Activity List'!A$2:F$101,3,)) | E65: =IF(ISBLANK(C65)," ",D65*C65)
D66: =IF(ISBLANK(B66)," ",VLOOKUP(B66,'Activity List'!A$2:F$101,3,)) | E66: =IF(ISBLANK(C66)," ",D66*C66)
D67: =IF(ISBLANK(B67)," ",VLOOKUP(B67,'Activity List'!A$2:F$101,3,)) | E67: =IF(ISBLANK(C67)," ",D67*C67)
D68: =IF(ISBLANK(B68)," ",VLOOKUP(B68,'Activity List'!A$2:F$101,3,)) | E68: =IF(ISBLANK(C68)," ",D68*C68)
D69: =IF(ISBLANK(B69)," ",VLOOKUP(B69,'Activity List'!A$2:F$101,3,)) | E69: =IF(ISBLANK(C69)," ",D69*C69)
B70: Total Daily Steps | E70: =SUM(E64:E69) -> 0

Sheet Week_4_Conversion
A1: Week 4 ACTIVITY LOG
A4: DIRECTIONS: Enter weekly steps and/or conversion minutes on this page. Enter "Daily Steps" on the top row in the yellow space. If you have conversion minutes to report, click on the cell directly below "Daily Steps" and a list of activities will show up in the drop-down menu. After entering the minutes for the activity, the sheet will calculate steps earned. Daily steps will automatically be added to your conversion steps for your "Total Daily Steps".If an activity is not listed, choose a similiarly difficult activity that is closely related in intensity. All totals will auto-fill to the Weekly Log.
A9: Monday 10/19/26 | B9: Activity | C9: Minutes | D9: Steps per Min | E9: Total Steps | F9: Return to Weekly Log
B10: Daily Steps | F10: Go to Week 1
D11: =IF(ISBLANK(B11)," ",VLOOKUP(B11,'Activity List'!A$2:F$101,3,)) | E11: =IF(ISBLANK(C11)," ",D11*C11) | F11: Go to Week 2
D12: =IF(ISBLANK(B12)," ",VLOOKUP(B12,'Activity List'!A$2:F$101,3,)) | E12: =IF(ISBLANK(C12)," ",D12*C12) | F12: Go to Week 3
D13: =IF(ISBLANK(B13)," ",VLOOKUP(B13,'Activity List'!A$2:F$101,3,)) | E13: =IF(ISBLANK(C13)," ",D13*C13) | F13: Go to Week 5
D14: =IF(ISBLANK(B14)," ",VLOOKUP(B14,'Activity List'!A$2:F$101,3,)) | E14: =IF(ISBLANK(C14)," ",D14*C14) | F14: Go to Week 6
D15: =IF(ISBLANK(B15)," ",VLOOKUP(B15,'Activity List'!A$2:F$101,3,)) | E15: =IF(ISBLANK(C15)," ",D15*C15) | F15: Go to Week 7
B16: Total Daily Steps | E16: =SUM(E10:E15) -> 0 | F16: Go to Week 8
A18: Tuesday 10/20/26 | B18: Activity | C18: Minutes | D18: Steps per Min | E18: Total Steps
B19: Daily Steps
D20: =IF(ISBLANK(B20)," ",VLOOKUP(B20,'Activity List'!A$2:F$101,3,)) | E20: =IF(ISBLANK(C20)," ",D20*C20)
D21: =IF(ISBLANK(B21)," ",VLOOKUP(B21,'Activity List'!A$2:F$101,3,)) | E21: =IF(ISBLANK(C21)," ",D21*C21)
D22: =IF(ISBLANK(B22)," ",VLOOKUP(B22,'Activity List'!A$2:F$101,3,)) | E22: =IF(ISBLANK(C22)," ",D22*C22)
D23: =IF(ISBLANK(B23)," ",VLOOKUP(B23,'Activity List'!A$2:F$101,3,)) | E23: =IF(ISBLANK(C23)," ",D23*C23)
D24: =IF(ISBLANK(B24)," ",VLOOKUP(B24,'Activity List'!A$2:F$101,3,)) | E24: =IF(ISBLANK(C24)," ",D24*C24)
B25: Total Daily Steps | E25: =SUM(E19:E24) -> 0
A27: Wednesday 10/21/26 | B27: Activity | C27: Minutes | D27: Steps per Min | E27: Total Steps
B28: Daily Steps
D29: =IF(ISBLANK(B29)," ",VLOOKUP(B29,'Activity List'!A$2:F$101,3,)) | E29: =IF(ISBLANK(C29)," ",D29*C29)
D30: =IF(ISBLANK(B30)," ",VLOOKUP(B30,'Activity List'!A$2:F$101,3,)) | E30: =IF(ISBLANK(C30)," ",D30*C30)
D31: =IF(ISBLANK(B31)," ",VLOOKUP(B31,'Activity List'!A$2:F$101,3,)) | E31: =IF(ISBLANK(C31)," ",D31*C31)
D32: =IF(ISBLANK(B32)," ",VLOOKUP(B32,'Activity List'!A$2:F$101,3,)) | E32: =IF(ISBLANK(C32)," ",D32*C32)
D33: =IF(ISBLANK(B33)," ",VLOOKUP(B33,'Activity List'!A$2:F$101,3,)) | E33: =IF(ISBLANK(C33)," ",D33*C33)
B34: Total Daily Steps | E34: =SUM(E28:E33) -> 0
A36: Thursday 10/22/26 | B36: Activity | C36: Minutes | D36: Steps per Min | E36: Total Steps
B37: Daily Steps
D38: =IF(ISBLANK(B38)," ",VLOOKUP(B38,'Activity List'!A$2:F$101,3,)) | E38: =IF(ISBLANK(C38)," ",D38*C38)
D39: =IF(ISBLANK(B39)," ",VLOOKUP(B39,'Activity List'!A$2:F$101,3,)) | E39: =IF(ISBLANK(C39)," ",D39*C39)
D40: =IF(ISBLANK(B40)," ",VLOOKUP(B40,'Activity List'!A$2:F$101,3,)) | E40: =IF(ISBLANK(C40)," ",D40*C40)
D41: =IF(ISBLANK(B41)," ",VLOOKUP(B41,'Activity List'!A$2:F$101,3,)) | E41: =IF(ISBLANK(C41)," ",D41*C41)
D42: =IF(ISBLANK(B42)," ",VLOOKUP(B42,'Activity List'!A$2:F$101,3,)) | E42: =IF(ISBLANK(C42)," ",D42*C42)
B43: Total Daily Steps | E43: =SUM(E37:E42) -> 0
A45: Friday 10/23/26 | B45: Activity | C45: Minutes | D45: Steps per Min | E45: Total Steps
B46: Daily Steps
D47: =IF(ISBLANK(B47)," ",VLOOKUP(B47,'Activity List'!A$2:F$101,3,)) | E47: =IF(ISBLANK(C47)," ",D47*C47)
D48: =IF(ISBLANK(B48)," ",VLOOKUP(B48,'Activity List'!A$2:F$101,3,)) | E48: =IF(ISBLANK(C48)," ",D48*C48)
D49: =IF(ISBLANK(B49)," ",VLOOKUP(B49,'Activity List'!A$2:F$101,3,)) | E49: =IF(ISBLANK(C49)," ",D49*C49)
D50: =IF(ISBLANK(B50)," ",VLOOKUP(B50,'Activity List'!A$2:F$101,3,)) | E50: =IF(ISBLANK(C50)," ",D50*C50)
D51: =IF(ISBLANK(B51)," ",VLOOKUP(B51,'Activity List'!A$2:F$101,3,)) | E51: =IF(ISBLANK(C51)," ",D51*C51)
B52: Total Daily Steps | E52: =SUM(E46:E51) -> 0
A54: Saturday 10/24/26 | B54: Activity | C54: Minutes | D54: Steps per Min | E54: Total Steps
B55: Daily Steps
D56: =IF(ISBLANK(B56)," ",VLOOKUP(B56,'Activity List'!A$2:F$101,3,)) | E56: =IF(ISBLANK(C56)," ",D56*C56)
D57: =IF(ISBLANK(B57)," ",VLOOKUP(B57,'Activity List'!A$2:F$101,3,)) | E57: =IF(ISBLANK(C57)," ",D57*C57)
D58: =IF(ISBLANK(B58)," ",VLOOKUP(B58,'Activity List'!A$2:F$101,3,)) | E58: =IF(ISBLANK(C58)," ",D58*C58)
D59: =IF(ISBLANK(B59)," ",VLOOKUP(B59,'Activity List'!A$2:F$101,3,)) | E59: =IF(ISBLANK(C59)," ",D59*C59)
D60: =IF(ISBLANK(B60)," ",VLOOKUP(B60,'Activity List'!A$2:F$101,3,)) | E60: =IF(ISBLANK(C60)," ",D60*C60)
B61: Total Daily Steps | E61: =SUM(E55:E60) -> 0
A63: Sunday 10/25/26 | B63: Activity | C63: Minutes | D63: Steps per Min | E63: Total Steps
B64: Daily Steps
D65: =IF(ISBLANK(B65)," ",VLOOKUP(B65,'Activity List'!A$2:F$101,3,)) | E65: =IF(ISBLANK(C65)," ",D65*C65)
D66: =IF(ISBLANK(B66)," ",VLOOKUP(B66,'Activity List'!A$2:F$101,3,)) | E66: =IF(ISBLANK(C66)," ",D66*C66)
D67: =IF(ISBLANK(B67)," ",VLOOKUP(B67,'Activity List'!A$2:F$101,3,)) | E67: =IF(ISBLANK(C67)," ",D67*C67)
D68: =IF(ISBLANK(B68)," ",VLOOKUP(B68,'Activity List'!A$2:F$101,3,)) | E68: =IF(ISBLANK(C68)," ",D68*C68)
D69: =IF(ISBLANK(B69)," ",VLOOKUP(B69,'Activity List'!A$2:F$101,3,)) | E69: =IF(ISBLANK(C69)," ",D69*C69)
B70: Total Daily Steps | E70: =SUM(E64:E69) -> 0

Sheet Week_5_Conversion
A1: Week 5 ACTIVITY LOG
A4: DIRECTIONS: Enter weekly steps and/or conversion minutes on this page. Enter "Daily Steps" on the top row in the yellow space. If you have conversion minutes to report, click on the cell directly below "Daily Steps" and a list of activities will show up in the drop-down menu. After entering the minutes for the activity, the sheet will calculate steps earned. Daily steps will automatically be added to your conversion steps for your "Total Daily Steps".If an activity is not listed, choose a similiarly difficult activity that is closely related in intensity. All totals will auto-fill to the Weekly Log.
A9: Monday 10/26/26 | B9: Activity | C9: Minutes | D9: Steps per Min | E9: Total Steps | F9: Return to Weekly Log
B10: Daily Steps | F10: Go to Week 1
D11: =IF(ISBLANK(B11)," ",VLOOKUP(B11,'Activity List'!A$2:F$101,3,)) | E11: =IF(ISBLANK(C11)," ",D11*C11) | F11: Go to Week 2
D12: =IF(ISBLANK(B12)," ",VLOOKUP(B12,'Activity List'!A$2:F$101,3,)) | E12: =IF(ISBLANK(C12)," ",D12*C12) | F12: Go to Week 3
D13: =IF(ISBLANK(B13)," ",VLOOKUP(B13,'Activity List'!A$2:F$101,3,)) | E13: =IF(ISBLANK(C13)," ",D13*C13) | F13: Go to Week 4
D14: =IF(ISBLANK(B14)," ",VLOOKUP(B14,'Activity List'!A$2:F$101,3,)) | E14: =IF(ISBLANK(C14)," ",D14*C14) | F14: Go to Week 6
D15: =IF(ISBLANK(B15)," ",VLOOKUP(B15,'Activity List'!A$2:F$101,3,)) | E15: =IF(ISBLANK(C15)," ",D15*C15) | F15: Go to Week 7
B16: Total Daily Steps | E16: =SUM(E10:E15) -> 0 | F16: Go to Week 8
A18: Tuesday 10/27/26 | B18: Activity | C18: Minutes | D18: Steps per Min | E18: Total Steps
B19: Daily Steps
D20: =IF(ISBLANK(B20)," ",VLOOKUP(B20,'Activity List'!A$2:F$101,3,)) | E20: =IF(ISBLANK(C20)," ",D20*C20)
D21: =IF(ISBLANK(B21)," ",VLOOKUP(B21,'Activity List'!A$2:F$101,3,)) | E21: =IF(ISBLANK(C21)," ",D21*C21)
D22: =IF(ISBLANK(B22)," ",VLOOKUP(B22,'Activity List'!A$2:F$101,3,)) | E22: =IF(ISBLANK(C22)," ",D22*C22)
D23: =IF(ISBLANK(B23)," ",VLOOKUP(B23,'Activity List'!A$2:F$101,3,)) | E23: =IF(ISBLANK(C23)," ",D23*C23)
D24: =IF(ISBLANK(B24)," ",VLOOKUP(B24,'Activity List'!A$2:F$101,3,)) | E24: =IF(ISBLANK(C24)," ",D24*C24)
B25: Total Daily Steps | E25: =SUM(E19:E24) -> 0
A27: Wednesday 10/28/26 | B27: Activity | C27: Minutes | D27: Steps per Min | E27: Total Steps
B28: Daily Steps
D29: =IF(ISBLANK(B29)," ",VLOOKUP(B29,'Activity List'!A$2:F$101,3,)) | E29: =IF(ISBLANK(C29)," ",D29*C29)
D30: =IF(ISBLANK(B30)," ",VLOOKUP(B30,'Activity List'!A$2:F$101,3,)) | E30: =IF(ISBLANK(C30)," ",D30*C30)
D31: =IF(ISBLANK(B31)," ",VLOOKUP(B31,'Activity List'!A$2:F$101,3,)) | E31: =IF(ISBLANK(C31)," ",D31*C31)
D32: =IF(ISBLANK(B32)," ",VLOOKUP(B32,'Activity List'!A$2:F$101,3,)) | E32: =IF(ISBLANK(C32)," ",D32*C32)
D33: =IF(ISBLANK(B33)," ",VLOOKUP(B33,'Activity List'!A$2:F$101,3,)) | E33: =IF(ISBLANK(C33)," ",D33*C33)
B34: Total Daily Steps | E34: =SUM(E28:E33) -> 0
A36: Thursday 10/29/26 | B36: Activity | C36: Minutes | D36: Steps per Min | E36: Total Steps
B37: Daily Steps
D38: =IF(ISBLANK(B38)," ",VLOOKUP(B38,'Activity List'!A$2:F$101,3,)) | E38: =IF(ISBLANK(C38)," ",D38*C38)
D39: =IF(ISBLANK(B39)," ",VLOOKUP(B39,'Activity List'!A$2:F$101,3,)) | E39: =IF(ISBLANK(C39)," ",D39*C39)
D40: =IF(ISBLANK(B40)," ",VLOOKUP(B40,'Activity List'!A$2:F$101,3,)) | E40: =IF(ISBLANK(C40)," ",D40*C40)
D41: =IF(ISBLANK(B41)," ",VLOOKUP(B41,'Activity List'!A$2:F$101,3,)) | E41: =IF(ISBLANK(C41)," ",D41*C41)
D42: =IF(ISBLANK(B42)," ",VLOOKUP(B42,'Activity List'!A$2:F$101,3,)) | E42: =IF(ISBLANK(C42)," ",D42*C42)
B43: Total Daily Steps | E43: =SUM(E37:E42) -> 0
A45: Friday 10/30/26 | B45: Activity | C45: Minutes | D45: Steps per Min | E45: Total Steps
B46: Daily Steps
D47: =IF(ISBLANK(B47)," ",VLOOKUP(B47,'Activity List'!A$2:F$101,3,)) | E47: =IF(ISBLANK(C47)," ",D47*C47)
D48: =IF(ISBLANK(B48)," ",VLOOKUP(B48,'Activity List'!A$2:F$101,3,)) | E48: =IF(ISBLANK(C48)," ",D48*C48)
D49: =IF(ISBLANK(B49)," ",VLOOKUP(B49,'Activity List'!A$2:F$101,3,)) | E49: =IF(ISBLANK(C49)," ",D49*C49)
D50: =IF(ISBLANK(B50)," ",VLOOKUP(B50,'Activity List'!A$2:F$101,3,)) | E50: =IF(ISBLANK(C50)," ",D50*C50)
D51: =IF(ISBLANK(B51)," ",VLOOKUP(B51,'Activity List'!A$2:F$101,3,)) | E51: =IF(ISBLANK(C51)," ",D51*C51)
B52: Total Daily Steps | E52: =SUM(E46:E51) -> 0
A54: Saturday 10/31/26 | B54: Activity | C54: Minutes | D54: Steps per Min | E54: Total Steps
B55: Daily Steps
D56: =IF(ISBLANK(B56)," ",VLOOKUP(B56,'Activity List'!A$2:F$101,3,)) | E56: =IF(ISBLANK(C56)," ",D56*C56)
D57: =IF(ISBLANK(B57)," ",VLOOKUP(B57,'Activity List'!A$2:F$101,3,)) | E57: =IF(ISBLANK(C57)," ",D57*C57)
D58: =IF(ISBLANK(B58)," ",VLOOKUP(B58,'Activity List'!A$2:F$101,3,)) | E58: =IF(ISBLANK(C58)," ",D58*C58)
D59: =IF(ISBLANK(B59)," ",VLOOKUP(B59,'Activity List'!A$2:F$101,3,)) | E59: =IF(ISBLANK(C59)," ",D59*C59)
D60: =IF(ISBLANK(B60)," ",VLOOKUP(B60,'Activity List'!A$2:F$101,3,)) | E60: =IF(ISBLANK(C60)," ",D60*C60)
B61: Total Daily Steps | E61: =SUM(E55:E60) -> 0
A63: Sunday 11/1/26 | B63: Activity | C63: Minutes | D63: Steps per Min | E63: Total Steps
B64: Daily Steps
D65: =IF(ISBLANK(B65)," ",VLOOKUP(B65,'Activity List'!A$2:F$101,3,)) | E65: =IF(ISBLANK(C65)," ",D65*C65)
D66: =IF(ISBLANK(B66)," ",VLOOKUP(B66,'Activity List'!A$2:F$101,3,)) | E66: =IF(ISBLANK(C66)," ",D66*C66)
D67: =IF(ISBLANK(B67)," ",VLOOKUP(B67,'Activity List'!A$2:F$101,3,)) | E67: =IF(ISBLANK(C67)," ",D67*C67)
D68: =IF(ISBLANK(B68)," ",VLOOKUP(B68,'Activity List'!A$2:F$101,3,)) | E68: =IF(ISBLANK(C68)," ",D68*C68)
D69: =IF(ISBLANK(B69)," ",VLOOKUP(B69,'Activity List'!A$2:F$101,3,)) | E69: =IF(ISBLANK(C69)," ",D69*C69)
B70: Total Daily Steps | E70: =SUM(E64:E69) -> 0

Sheet Week_6_Conversion
A1: Week 6 ACTIVITY LOG
A4: DIRECTIONS: Enter weekly steps and/or conversion minutes on this page. Enter "Daily Steps" on the top row in the yellow space. If you have conversion minutes to report, click on the cell directly below "Daily Steps" and a list of activities will show up in the drop-down menu. After entering the minutes for the activity, the sheet will calculate steps earned. Daily steps will automatically be added to your conversion steps for your "Total Daily Steps".If an activity is not listed, choose a similiarly difficult activity that is closely related in intensity. All totals will auto-fill to the Weekly Log.
A9: Monday 11/2/26 | B9: Activity | C9: Minutes | D9: Steps per Min | E9: Total Steps | F9: Return to Weekly Log
B10: Daily Steps | F10: Go to Week 1
D11: =IF(ISBLANK(B11)," ",VLOOKUP(B11,'Activity List'!A$2:F$101,3,)) | E11: =IF(ISBLANK(C11)," ",D11*C11) | F11: Go to Week 2
D12: =IF(ISBLANK(B12)," ",VLOOKUP(B12,'Activity List'!A$2:F$101,3,)) | E12: =IF(ISBLANK(C12)," ",D12*C12) | F12: Go to Week 3
D13: =IF(ISBLANK(B13)," ",VLOOKUP(B13,'Activity List'!A$2:F$101,3,)) | E13: =IF(ISBLANK(C13)," ",D13*C13) | F13: Go to Week 4
D14: =IF(ISBLANK(B14)," ",VLOOKUP(B14,'Activity List'!A$2:F$101,3,)) | E14: =IF(ISBLANK(C14)," ",D14*C14) | F14: Go to Week 5
D15: =IF(ISBLANK(B15)," ",VLOOKUP(B15,'Activity List'!A$2:F$101,3,)) | E15: =IF(ISBLANK(C15)," ",D15*C15) | F15: Go to Week 7
B16: Total Daily Steps | E16: =SUM(E10:E15) -> 0 | F16: Go to Week 8
A18: Tuesday 11/3/26 | B18: Activity | C18: Minutes | D18: Steps per Min | E18: Total Steps
B19: Daily Steps
D20: =IF(ISBLANK(B20)," ",VLOOKUP(B20,'Activity List'!A$2:F$101,3,)) | E20: =IF(ISBLANK(C20)," ",D20*C20)
D21: =IF(ISBLANK(B21)," ",VLOOKUP(B21,'Activity List'!A$2:F$101,3,)) | E21: =IF(ISBLANK(C21)," ",D21*C21)
D22: =IF(ISBLANK(B22)," ",VLOOKUP(B22,'Activity List'!A$2:F$101,3,)) | E22: =IF(ISBLANK(C22)," ",D22*C22)
D23: =IF(ISBLANK(B23)," ",VLOOKUP(B23,'Activity List'!A$2:F$101,3,)) | E23: =IF(ISBLANK(C23)," ",D23*C23)
D24: =IF(ISBLANK(B24)," ",VLOOKUP(B24,'Activity List'!A$2:F$101,3,)) | E24: =IF(ISBLANK(C24)," ",D24*C24)
B25: Total Daily Steps | E25: =SUM(E19:E24) -> 0
A27: Wednesday 11/4/26 | B27: Activity | C27: Minutes | D27: Steps per Min | E27: Total Steps
B28: Daily Steps
D29: =IF(ISBLANK(B29)," ",VLOOKUP(B29,'Activity List'!A$2:F$101,3,)) | E29: =IF(ISBLANK(C29)," ",D29*C29)
D30: =IF(ISBLANK(B30)," ",VLOOKUP(B30,'Activity List'!A$2:F$101,3,)) | E30: =IF(ISBLANK(C30)," ",D30*C30)
D31: =IF(ISBLANK(B31)," ",VLOOKUP(B31,'Activity List'!A$2:F$101,3,)) | E31: =IF(ISBLANK(C31)," ",D31*C31)
D32: =IF(ISBLANK(B32)," ",VLOOKUP(B32,'Activity List'!A$2:F$101,3,)) | E32: =IF(ISBLANK(C32)," ",D32*C32)
D33: =IF(ISBLANK(B33)," ",VLOOKUP(B33,'Activity List'!A$2:F$101,3,)) | E33: =IF(ISBLANK(C33)," ",D33*C33)
B34: Total Daily Steps | E34: =SUM(E28:E33) -> 0
A36: Thursday 11/5/26 | B36: Activity | C36: Minutes | D36: Steps per Min | E36: Total Steps
B37: Daily Steps
D38: =IF(ISBLANK(B38)," ",VLOOKUP(B38,'Activity List'!A$2:F$101,3,)) | E38: =IF(ISBLANK(C38)," ",D38*C38)
D39: =IF(ISBLANK(B39)," ",VLOOKUP(B39,'Activity List'!A$2:F$101,3,)) | E39: =IF(ISBLANK(C39)," ",D39*C39)
D40: =IF(ISBLANK(B40)," ",VLOOKUP(B40,'Activity List'!A$2:F$101,3,)) | E40: =IF(ISBLANK(C40)," ",D40*C40)
D41: =IF(ISBLANK(B41)," ",VLOOKUP(B41,'Activity List'!A$2:F$101,3,)) | E41: =IF(ISBLANK(C41)," ",D41*C41)
D42: =IF(ISBLANK(B42)," ",VLOOKUP(B42,'Activity List'!A$2:F$101,3,)) | E42: =IF(ISBLANK(C42)," ",D42*C42)
B43: Total Daily Steps | E43: =SUM(E37:E42) -> 0
A45: Friday 11/6/26 | B45: Activity | C45: Minutes | D45: Steps per Min | E45: Total Steps
B46: Daily Steps
D47: =IF(ISBLANK(B47)," ",VLOOKUP(B47,'Activity List'!A$2:F$101,3,)) | E47: =IF(ISBLANK(C47)," ",D47*C47)
D48: =IF(ISBLANK(B48)," ",VLOOKUP(B48,'Activity List'!A$2:F$101,3,)) | E48: =IF(ISBLANK(C48)," ",D48*C48)
D49: =IF(ISBLANK(B49)," ",VLOOKUP(B49,'Activity List'!A$2:F$101,3,)) | E49: =IF(ISBLANK(C49)," ",D49*C49)
D50: =IF(ISBLANK(B50)," ",VLOOKUP(B50,'Activity List'!A$2:F$101,3,)) | E50: =IF(ISBLANK(C50)," ",D50*C50)
D51: =IF(ISBLANK(B51)," ",VLOOKUP(B51,'Activity List'!A$2:F$101,3,)) | E51: =IF(ISBLANK(C51)," ",D51*C51)
B52: Total Daily Steps | E52: =SUM(E46:E51) -> 0
A54: Saturday 11/7/26 | B54: Activity | C54: Minutes | D54: Steps per Min | E54: Total Steps
B55: Daily Steps
D56: =IF(ISBLANK(B56)," ",VLOOKUP(B56,'Activity List'!A$2:F$101,3,)) | E56: =IF(ISBLANK(C56)," ",D56*C56)
D57: =IF(ISBLANK(B57)," ",VLOOKUP(B57,'Activity List'!A$2:F$101,3,)) | E57: =IF(ISBLANK(C57)," ",D57*C57)
D58: =IF(ISBLANK(B58)," ",VLOOKUP(B58,'Activity List'!A$2:F$101,3,)) | E58: =IF(ISBLANK(C58)," ",D58*C58)
D59: =IF(ISBLANK(B59)," ",VLOOKUP(B59,'Activity List'!A$2:F$101,3,)) | E59: =IF(ISBLANK(C59)," ",D59*C59)
D60: =IF(ISBLANK(B60)," ",VLOOKUP(B60,'Activity List'!A$2:F$101,3,)) | E60: =IF(ISBLANK(C60)," ",D60*C60)
B61: Total Daily Steps | E61: =SUM(E55:E60) -> 0
A63: Sunday 11/8/26 | B63: Activity | C63: Minutes | D63: Steps per Min | E63: Total Steps
B64: Daily Steps
D65: =IF(ISBLANK(B65)," ",VLOOKUP(B65,'Activity List'!A$2:F$101,3,)) | E65: =IF(ISBLANK(C65)," ",D65*C65)
D66: =IF(ISBLANK(B66)," ",VLOOKUP(B66,'Activity List'!A$2:F$101,3,)) | E66: =IF(ISBLANK(C66)," ",D66*C66)
D67: =IF(ISBLANK(B67)," ",VLOOKUP(B67,'Activity List'!A$2:F$101,3,)) | E67: =IF(ISBLANK(C67)," ",D67*C67)
D68: =IF(ISBLANK(B68)," ",VLOOKUP(B68,'Activity List'!A$2:F$101,3,)) | E68: =IF(ISBLANK(C68)," ",D68*C68)
D69: =IF(ISBLANK(B69)," ",VLOOKUP(B69,'Activity List'!A$2:F$101,3,)) | E69: =IF(ISBLANK(C69)," ",D69*C69)
B70: Total Daily Steps | E70: =SUM(E64:E69) -> 0

Sheet Week_7_Conversion
A1: Week 7 ACTIVITY LOG
A4: DIRECTIONS: Enter weekly steps and/or conversion minutes on this page. Enter "Daily Steps" on the top row in the yellow space. If you have conversion minutes to report, click on the cell directly below "Daily Steps" and a list of activities will show up in the drop-down menu. After entering the minutes for the activity, the sheet will calculate steps earned. Daily steps will automatically be added to your conversion steps for your "Total Daily Steps".If an activity is not listed, choose a similiarly difficult activity that is closely related in intensity. All totals will auto-fill to the Weekly Log.
A9: Monday 11/9/26 | B9: Activity | C9: Minutes | D9: Steps per Min | E9: Total Steps | F9: Return to Weekly Log
B10: Daily Steps | F10: Go to Week 1
D11: =IF(ISBLANK(B11)," ",VLOOKUP(B11,'Activity List'!A$2:F$101,3,)) | E11: =IF(ISBLANK(C11)," ",D11*C11) | F11: Go to Week 2
D12: =IF(ISBLANK(B12)," ",VLOOKUP(B12,'Activity List'!A$2:F$101,3,)) | E12: =IF(ISBLANK(C12)," ",D12*C12) | F12: Go to Week 3
D13: =IF(ISBLANK(B13)," ",VLOOKUP(B13,'Activity List'!A$2:F$101,3,)) | E13: =IF(ISBLANK(C13)," ",D13*C13) | F13: Go to Week 4
D14: =IF(ISBLANK(B14)," ",VLOOKUP(B14,'Activity List'!A$2:F$101,3,)) | E14: =IF(ISBLANK(C14)," ",D14*C14) | F14: Go to Week 5
D15: =IF(ISBLANK(B15)," ",VLOOKUP(B15,'Activity List'!A$2:F$101,3,)) | E15: =IF(ISBLANK(C15)," ",D15*C15) | F15: Go to Week 6
B16: Total Daily Steps | E16: =SUM(E10:E15) -> 0 | F16: Go to Week 8
A18: Tuesday 11/10/26 | B18: Activity | C18: Minutes | D18: Steps per Min | E18: Total Steps
B19: Daily Steps
D20: =IF(ISBLANK(B20)," ",VLOOKUP(B20,'Activity List'!A$2:F$101,3,)) | E20: =IF(ISBLANK(C20)," ",D20*C20)
D21: =IF(ISBLANK(B21)," ",VLOOKUP(B21,'Activity List'!A$2:F$101,3,)) | E21: =IF(ISBLANK(C21)," ",D21*C21)
D22: =IF(ISBLANK(B22)," ",VLOOKUP(B22,'Activity List'!A$2:F$101,3,)) | E22: =IF(ISBLANK(C22)," ",D22*C22)
D23: =IF(ISBLANK(B23)," ",VLOOKUP(B23,'Activity List'!A$2:F$101,3,)) | E23: =IF(ISBLANK(C23)," ",D23*C23)
D24: =IF(ISBLANK(B24)," ",VLOOKUP(B24,'Activity List'!A$2:F$101,3,)) | E24: =IF(ISBLANK(C24)," ",D24*C24)
B25: Total Daily Steps | E25: =SUM(E19:E24) -> 0
A27: Wednesday 11/11/26 | B27: Activity | C27: Minutes | D27: Steps per Min | E27: Total Steps
B28: Daily Steps
D29: =IF(ISBLANK(B29)," ",VLOOKUP(B29,'Activity List'!A$2:F$101,3,)) | E29: =IF(ISBLANK(C29)," ",D29*C29)
D30: =IF(ISBLANK(B30)," ",VLOOKUP(B30,'Activity List'!A$2:F$101,3,)) | E30: =IF(ISBLANK(C30)," ",D30*C30)
D31: =IF(ISBLANK(B31)," ",VLOOKUP(B31,'Activity List'!A$2:F$101,3,)) | E31: =IF(ISBLANK(C31)," ",D31*C31)
D32: =IF(ISBLANK(B32)," ",VLOOKUP(B32,'Activity List'!A$2:F$101,3,)) | E32: =IF(ISBLANK(C32)," ",D32*C32)
D33: =IF(ISBLANK(B33)," ",VLOOKUP(B33,'Activity List'!A$2:F$101,3,)) | E33: =IF(ISBLANK(C33)," ",D33*C33)
B34: Total Daily Steps | E34: =SUM(E28:E33) -> 0
A36: Thursday 11/12/26 | B36: Activity | C36: Minutes | D36: Steps per Min | E36: Total Steps
B37: Daily Steps
D38: =IF(ISBLANK(B38)," ",VLOOKUP(B38,'Activity List'!A$2:F$101,3,)) | E38: =IF(ISBLANK(C38)," ",D38*C38)
D39: =IF(ISBLANK(B39)," ",VLOOKUP(B39,'Activity List'!A$2:F$101,3,)) | E39: =IF(ISBLANK(C39)," ",D39*C39)
D40: =IF(ISBLANK(B40)," ",VLOOKUP(B40,'Activity List'!A$2:F$101,3,)) | E40: =IF(ISBLANK(C40)," ",D40*C40)
D41: =IF(ISBLANK(B41)," ",VLOOKUP(B41,'Activity List'!A$2:F$101,3,)) | E41: =IF(ISBLANK(C41)," ",D41*C41)
D42: =IF(ISBLANK(B42)," ",VLOOKUP(B42,'Activity List'!A$2:F$101,3,)) | E42: =IF(ISBLANK(C42)," ",D42*C42)
B43: Total Daily Steps | E43: =SUM(E37:E42) -> 0
A45: Friday 11/13/26 | B45: Activity | C45: Minutes | D45: Steps per Min | E45: Total Steps
B46: Daily Steps
D47: =IF(ISBLANK(B47)," ",VLOOKUP(B47,'Activity List'!A$2:F$101,3,)) | E47: =IF(ISBLANK(C47)," ",D47*C47)
D48: =IF(ISBLANK(B48)," ",VLOOKUP(B48,'Activity List'!A$2:F$101,3,)) | E48: =IF(ISBLANK(C48)," ",D48*C48)
D49: =IF(ISBLANK(B49)," ",VLOOKUP(B49,'Activity List'!A$2:F$101,3,)) | E49: =IF(ISBLANK(C49)," ",D49*C49)
D50: =IF(ISBLANK(B50)," ",VLOOKUP(B50,'Activity List'!A$2:F$101,3,)) | E50: =IF(ISBLANK(C50)," ",D50*C50)
D51: =IF(ISBLANK(B51)," ",VLOOKUP(B51,'Activity List'!A$2:F$101,3,)) | E51: =IF(ISBLANK(C51)," ",D51*C51)
B52: Total Daily Steps | E52: =SUM(E46:E51) -> 0
A54: Saturday 11/14/26 | B54: Activity | C54: Minutes | D54: Steps per Min | E54: Total Steps
B55: Daily Steps
D56: =IF(ISBLANK(B56)," ",VLOOKUP(B56,'Activity List'!A$2:F$101,3,)) | E56: =IF(ISBLANK(C56)," ",D56*C56)
D57: =IF(ISBLANK(B57)," ",VLOOKUP(B57,'Activity List'!A$2:F$101,3,)) | E57: =IF(ISBLANK(C57)," ",D57*C57)
D58: =IF(ISBLANK(B58)," ",VLOOKUP(B58,'Activity List'!A$2:F$101,3,)) | E58: =IF(ISBLANK(C58)," ",D58*C58)
D59: =IF(ISBLANK(B59)," ",VLOOKUP(B59,'Activity List'!A$2:F$101,3,)) | E59: =IF(ISBLANK(C59)," ",D59*C59)
D60: =IF(ISBLANK(B60)," ",VLOOKUP(B60,'Activity List'!A$2:F$101,3,)) | E60: =IF(ISBLANK(C60)," ",D60*C60)
B61: Total Daily Steps | E61: =SUM(E55:E60) -> 0
A63: Sunday 11/15/26 | B63: Activity | C63: Minutes | D63: Steps per Min | E63: Total Steps
B64: Daily Steps
D65: =IF(ISBLANK(B65)," ",VLOOKUP(B65,'Activity List'!A$2:F$101,3,)) | E65: =IF(ISBLANK(C65)," ",D65*C65)
D66: =IF(ISBLANK(B66)," ",VLOOKUP(B66,'Activity List'!A$2:F$101,3,)) | E66: =IF(ISBLANK(C66)," ",D66*C66)
D67: =IF(ISBLANK(B67)," ",VLOOKUP(B67,'Activity List'!A$2:F$101,3,)) | E67: =IF(ISBLANK(C67)," ",D67*C67)
D68: =IF(ISBLANK(B68)," ",VLOOKUP(B68,'Activity List'!A$2:F$101,3,)) | E68: =IF(ISBLANK(C68)," ",D68*C68)
D69: =IF(ISBLANK(B69)," ",VLOOKUP(B69,'Activity List'!A$2:F$101,3,)) | E69: =IF(ISBLANK(C69)," ",D69*C69)
B70: Total Daily Steps | E70: =SUM(E64:E69) -> 0

Sheet Week_8_Conversion
A1: Week 8 ACTIVITY LOG
A4: DIRECTIONS: Enter weekly steps and/or conversion minutes on this page. Enter "Daily Steps" on the top row in the yellow space. If you have conversion minutes to report, click on the cell directly below "Daily Steps" and a list of activities will show up in the drop-down menu. After entering the minutes for the activity, the sheet will calculate steps earned. Daily steps will automatically be added to your conversion steps for your "Total Daily Steps".If an activity is not listed, choose a similiarly difficult activity that is closely related in intensity. All totals will auto-fill to the Weekly Log.
A9: Monday 11/16/26 | B9: Activity | C9: Minutes | D9: Steps per Min | E9: Total Steps | F9: Return to Weekly Log
B10: Daily Steps | F10: Go to Week 1
D11: =IF(ISBLANK(B11)," ",VLOOKUP(B11,'Activity List'!A$2:F$101,3,)) | E11: =IF(ISBLANK(C11)," ",D11*C11) | F11: Go to Week 2
D12: =IF(ISBLANK(B12)," ",VLOOKUP(B12,'Activity List'!A$2:F$101,3,)) | E12: =IF(ISBLANK(C12)," ",D12*C12) | F12: Go to Week 3
D13: =IF(ISBLANK(B13)," ",VLOOKUP(B13,'Activity List'!A$2:F$101,3,)) | E13: =IF(ISBLANK(C13)," ",D13*C13) | F13: Go to Week 4
D14: =IF(ISBLANK(B14)," ",VLOOKUP(B14,'Activity List'!A$2:F$101,3,)) | E14: =IF(ISBLANK(C14)," ",D14*C14) | F14: Go to Week 5
D15: =IF(ISBLANK(B15)," ",VLOOKUP(B15,'Activity List'!A$2:F$101,3,)) | E15: =IF(ISBLANK(C15)," ",D15*C15) | F15: Go to Week 6
B16: Total Daily Steps | E16: =SUM(E10:E15) -> 0 | F16: Go to Week 7
A18: Tuesday 11/17/26 | B18: Activity | C18: Minutes | D18: Steps per Min | E18: Total Steps
B19: Daily Steps
D20: =IF(ISBLANK(B20)," ",VLOOKUP(B20,'Activity List'!A$2:F$101,3,)) | E20: =IF(ISBLANK(C20)," ",D20*C20)
D21: =IF(ISBLANK(B21)," ",VLOOKUP(B21,'Activity List'!A$2:F$101,3,)) | E21: =IF(ISBLANK(C21)," ",D21*C21)
D22: =IF(ISBLANK(B22)," ",VLOOKUP(B22,'Activity List'!A$2:F$101,3,)) | E22: =IF(ISBLANK(C22)," ",D22*C22)
D23: =IF(ISBLANK(B23)," ",VLOOKUP(B23,'Activity List'!A$2:F$101,3,)) | E23: =IF(ISBLANK(C23)," ",D23*C23)
D24: =IF(ISBLANK(B24)," ",VLOOKUP(B24,'Activity List'!A$2:F$101,3,)) | E24: =IF(ISBLANK(C24)," ",D24*C24)
B25: Total Daily Steps | E25: =SUM(E19:E24) -> 0
A27: Wednesday 11/18/26 | B27: Activity | C27: Minutes | D27: Steps per Min | E27: Total Steps
B28: Daily Steps
D29: =IF(ISBLANK(B29)," ",VLOOKUP(B29,'Activity List'!A$2:F$101,3,)) | E29: =IF(ISBLANK(C29)," ",D29*C29)
D30: =IF(ISBLANK(B30)," ",VLOOKUP(B30,'Activity List'!A$2:F$101,3,)) | E30: =IF(ISBLANK(C30)," ",D30*C30)
D31: =IF(ISBLANK(B31)," ",VLOOKUP(B31,'Activity List'!A$2:F$101,3,)) | E31: =IF(ISBLANK(C31)," ",D31*C31)
D32: =IF(ISBLANK(B32)," ",VLOOKUP(B32,'Activity List'!A$2:F$101,3,)) | E32: =IF(ISBLANK(C32)," ",D32*C32)
D33: =IF(ISBLANK(B33)," ",VLOOKUP(B33,'Activity List'!A$2:F$101,3,)) | E33: =IF(ISBLANK(C33)," ",D33*C33)
B34: Total Daily Steps | E34: =SUM(E28:E33) -> 0
A36: Thursday 11/19/26 | B36: Activity | C36: Minutes | D36: Steps per Min | E36: Total Steps
B37: Daily Steps
D38: =IF(ISBLANK(B38)," ",VLOOKUP(B38,'Activity List'!A$2:F$101,3,)) | E38: =IF(ISBLANK(C38)," ",D38*C38)
D39: =IF(ISBLANK(B39)," ",VLOOKUP(B39,'Activity List'!A$2:F$101,3,)) | E39: =IF(ISBLANK(C39)," ",D39*C39)
D40: =IF(ISBLANK(B40)," ",VLOOKUP(B40,'Activity List'!A$2:F$101,3,)) | E40: =IF(ISBLANK(C40)," ",D40*C40)
D41: =IF(ISBLANK(B41)," ",VLOOKUP(B41,'Activity List'!A$2:F$101,3,)) | E41: =IF(ISBLANK(C41)," ",D41*C41)
D42: =IF(ISBLANK(B42)," ",VLOOKUP(B42,'Activity List'!A$2:F$101,3,)) | E42: =IF(ISBLANK(C42)," ",D42*C42)
B43: Total Daily Steps | E43: =SUM(E37:E42) -> 0
A45: Friday 11/20/26 | B45: Activity | C45: Minutes | D45: Steps per Min | E45: Total Steps
B46: Daily Steps
D47: =IF(ISBLANK(B47)," ",VLOOKUP(B47,'Activity List'!A$2:F$101,3,)) | E47: =IF(ISBLANK(C47)," ",D47*C47)
D48: =IF(ISBLANK(B48)," ",VLOOKUP(B48,'Activity List'!A$2:F$101,3,)) | E48: =IF(ISBLANK(C48)," ",D48*C48)
D49: =IF(ISBLANK(B49)," ",VLOOKUP(B49,'Activity List'!A$2:F$101,3,)) | E49: =IF(ISBLANK(C49)," ",D49*C49)
D50: =IF(ISBLANK(B50)," ",VLOOKUP(B50,'Activity List'!A$2:F$101,3,)) | E50: =IF(ISBLANK(C50)," ",D50*C50)
D51: =IF(ISBLANK(B51)," ",VLOOKUP(B51,'Activity List'!A$2:F$101,3,)) | E51: =IF(ISBLANK(C51)," ",D51*C51)
B52: Total Daily Steps | E52: =SUM(E46:E51) -> 0
A54: Saturday 11/21/26 | B54: Activity | C54: Minutes | D54: Steps per Min | E54: Total Steps
B55: Daily Steps
D56: =IF(ISBLANK(B56)," ",VLOOKUP(B56,'Activity List'!A$2:F$101,3,)) | E56: =IF(ISBLANK(C56)," ",D56*C56)
D57: =IF(ISBLANK(B57)," ",VLOOKUP(B57,'Activity List'!A$2:F$101,3,)) | E57: =IF(ISBLANK(C57)," ",D57*C57)
D58: =IF(ISBLANK(B58)," ",VLOOKUP(B58,'Activity List'!A$2:F$101,3,)) | E58: =IF(ISBLANK(C58)," ",D58*C58)
D59: =IF(ISBLANK(B59)," ",VLOOKUP(B59,'Activity List'!A$2:F$101,3,)) | E59: =IF(ISBLANK(C59)," ",D59*C59)
D60: =IF(ISBLANK(B60)," ",VLOOKUP(B60,'Activity List'!A$2:F$101,3,)) | E60: =IF(ISBLANK(C60)," ",D60*C60)
B61: Total Daily Steps | E61: =SUM(E55:E60) -> 0
A63: Sunday 11/22/26 | B63: Activity | C63: Minutes | D63: Steps per Min | E63: Total Steps
B64: Daily Steps
D65: =IF(ISBLANK(B65)," ",VLOOKUP(B65,'Activity List'!A$2:F$101,3,)) | E65: =IF(ISBLANK(C65)," ",D65*C65)
D66: =IF(ISBLANK(B66)," ",VLOOKUP(B66,'Activity List'!A$2:F$101,3,)) | E66: =IF(ISBLANK(C66)," ",D66*C66)
D67: =IF(ISBLANK(B67)," ",VLOOKUP(B67,'Activity List'!A$2:F$101,3,)) | E67: =IF(ISBLANK(C67)," ",D67*C67)
D68: =IF(ISBLANK(B68)," ",VLOOKUP(B68,'Activity List'!A$2:F$101,3,)) | E68: =IF(ISBLANK(C68)," ",D68*C68)
D69: =IF(ISBLANK(B69)," ",VLOOKUP(B69,'Activity List'!A$2:F$101,3,)) | E69: =IF(ISBLANK(C69)," ",D69*C69)
B70: Total Daily Steps | E70: =SUM(E64:E69) -> 0

Sheet Activity List
A1: Activity | B1: Minutes | C1: Steps Per Minute (SPM)
A2: Blank | C2: 0
A3: Aerobics (Low) | B3: 16 | C3: =2000/B3 -> 125
A4: Aerobics (Moderate) | B4: 13 | C4: =2000/B4 -> 153.84615
A5: Aerobics (High Impact) | B5: 11 | C5: =2000/B5 -> 181.81818
A6: Badminton | B6: 17 | C6: =2000/B6 -> 117.64706
A7: Barre | B7: 20.5 | C7: =2000/B7 -> 97.560976
A8: Basketball (Recreational) | B8: 25 | C8: =3330/B8 -> 133.2
A9: Bicycling (Low) | B9: 20 | C9: =2600/B9 -> 130
A10: Bicycling (Moderate) | B10: 10 | C10: =1700/B10 -> 170
A11: Bicycling (High) | B11: 8 | C11: =1600/B11 -> 200
A12: Bowling | B12: 23 | C12: =2000/B12 -> 86.956522
A13: Boxing | C13: 173
A14: Calisthenics | B14: 20 | C14: =2000/B14 -> 100
A15: Canoeing | B15: 11.5 | C15: =2000/B15 -> 173.91304
A16: Circuit training (Squats, lunges, burpees, etc.) | B16: 9 | C16: =2000/B16 -> 222.22222
A17: CrossFit | B17: 9 | C17: =2000/B17 -> 222.22222
A18: Dancing (General) | B18: 15 | C18: =1650/B18 -> 110
A19: Drumming (Moderate) | C19: 175
A20: Elliptical | B20: 10 | C20: =2000/B20 -> 200
A21: Fencing | B21: 15 | C21: =2000/B21 -> 133.33333
A22: Fishing | B22: 20 | C22: =2000/B22 -> 100
A23: Flag Football | B23: 7 | C23: =1945/B23 -> 277.85714
A24: Football | B24: 15 | C24: =2840/B24 -> 189.33333
A25: Frisbee playing | B25: 22 | C25: =2000/B25 -> 90.909091
A26: Gardening/Pruning (Light) | B26: 27 | C26: =2000/B26 -> 74.074074
A27: Golfing (with cart) | B27: 20 | C27: =2000/B27 -> 100
A28: Golfing (without cart) | B28: 15 | C28: =2000/B28 -> 133.33333
A29: Handball | B29: 10 | C29: =2000/B29 -> 200
A30: Hiking (Carrying weight) | B30: 9 | C30: =2000/B30 -> 222.22222
A31: Hiking (General) | B31: 12 | C31: =2000/B31 -> 166.66667
A32: Hockey | B32: 7.3 | C32: =1775/B32 -> 243.15068
A33: Horseback riding | B33: 21 | C33: =2000/B33 -> 95.238095
A34: Ice skating | B34: 22 | C34: =2000/B34 -> 90.909091
A35: Jogging in water | B35: 7 | C35: =1945/B35 -> 277.85714
A36: Jogging | B36: 9.6 | C36: =2000/B36 -> 208.33333
A37: Jump Rope (Slow) | B37: 11 | C37: =2000/B37 -> 181.81818
A38: Jump Rope (Moderate/High) | B38: 8 | C38: =2000/B38 -> 250
A39: Kettlebell, Ropes, Steel Mace | B39: 9 | C39: =2000/B39 -> 222.22222
A40: Kickboxing | B40: 7 | C40: =2000/B40 -> 285.71429
A41: Lacrosse | B41: 7.5 | C41: =1795/B41 -> 239.33333
A42: Martial Arts | B42: 7.5 | C42: =1795/B42 -> 239.33333
A43: Mini Golf | B43: 22 | C43: =2000/B43 -> 90.909091
A44: Mowing (push) | B44: 16 | C44: =2000/B44 -> 125
A45: Paddle Boarding | B45: 11 | C45: =2000/B45 -> 181.81818
A46: Painting House | B46: 25 | C46: =2000/B46 -> 80
A47: Pickleball | B47: 9.5 | C47: =1555/B47 -> 163.68421
A48: Pilates | B48: 20 | C48: =2000/B48 -> 100
A49: Ping Pong | B49: 22 | C49: =2000/B49 -> 90.909091
A50: Punching Bag | B50: 11 | C50: =2000/B50 -> 181.81818
A51: Racquetball | B51: 11 | C51: =2000/B51 -> 181.81818
A52: Raking Lawn/Leaves | B52: 16 | C52: =2000/B52 -> 125
A53: Resistance Training | B53: 27 | C53: =3500/B53 -> 129.62963
A54: Rollerblading | B54: 10 | C54: =1555/B54 -> 155.5
A55: Rowing (Kayaking) | B55: 13 | C55: =2000/B55 -> 153.84615
A56: Rowing (Leisurely) | B56: 27 | C56: =2000/B56 -> 74.074074
A57: Rowing (Machine) | B57: 8 | C57: =1775/B57 -> 221.875
A58: Running (6 Minute Mile) | B58: 6 | C58: =2100/B58 -> 350
A59: Running (8 Minute Mile/Trail/Hill Running) | B59: 7 | C59: =1945/B59 -> 277.85714
A60: Running (10 Minute Mile) | B60: 8 | C60: =1775/B60 -> 221.875
A61: Running (12 Minute Mile) | B61: 9 | C61: =1600/B61 -> 177.77778
A62: Scrubbing Floors | B62: 15 | C62: =2000/B62 -> 133.33333
A63: Scuba Diving | B63: 10.5 | C63: =2000/B63 -> 190.47619
A64: Sit-ups/Crunches/Push-ups | B64: 20 | C64: 100
A65: Skating | B65: 20 | C65: =2000/B65 -> 100
A66: Skiing (Cross-country) | B66: 10 | C66: =2000/B66 -> 200
A67: Skiing (Snowboarding/Downhill) | B67: 15 | C67: =2000/B67 -> 133.33333
A68: Soccer | B68: 10 | C68: =1560/B68 -> 156
A69: Softball | B69: 20 | C69: =3040/B69 -> 152
A70: Spinning | B70: 10 | C70: =2000/B70 -> 200
A71: Squash | B71: 9.8 | C71: =2000/B71 -> 204.08163
A72: Stairs (Downstairs) | B72: 25 | C72: =2000/B72 -> 80
A73: Stair Climbing (Upstairs) | B73: 11 | C73: =2000/B73 -> 181.81818
A74: Stair Climbing (Machine) | B74: 10 | C74: =2000/B74 -> 200
A75: Standing Desk | B75: 320 | C75: =2000/B75 -> 6.25
A76: Stationary Bicycling (Light) | B76: 11 | C76: =2000/B76 -> 181.81818
A77: Stationary Bicycling (Moderate) | B77: 8 | C77: =1695/B77 -> 211.875
A78: Stationary Bicycling (High) | B78: 6 | C78: =1910/B78 -> 318.33333
A79: Stretching | B79: 320 | C79: =2000/B79 -> 6.25
A80: Swimming (Leisure/Low intensity) | B80: 15 | C80: =2000/B80 -> 133.33333
A81: Swimming (Moderate) | B81: 12 | C81: =2700/B81 -> 225
A82: Swimming Laps (High) | B82: 9 | C82: =2610/B82 -> 290
A83: Swimming (Treading water) | B83: 41 | C83: =4000/B83 -> 97.560976
A84: Tai Chi | B84: 240 | C84: =2000/B84 -> 8.3333333
A85: Tennis (Doubles) | B85: 10 | C85: =1560/B85 -> 156
A86: Tennis (Single) | B86: 5.7 | C86: =1910/B86 -> 335.08772
A87: Vacuuming | B87: 20 | C87: =2000/B87 -> 100
A88: Volleyball (Game) | B88: 9 | C88: =1080/B88 -> 120
A89: Volleyball (Leisure) | B89: 23 | C89: =2000/B89 -> 86.956522
A90: Walking (Leisurely stroll) | B90: 34 | C90: =2000/B90 -> 58.823529
A91: Walking (Average 4 mph) | B91: 25 | C91: =2000/B91 -> 80
A92: Walking, power (Fast, Intense) | B92: 10 | C92: =1560/B92 -> 156
A93: Washing a Car | B93: 27 | C93: =2000/B93 -> 74.074074
A94: Water Aerobics | B94: 20 | C94: =2000/B94 -> 100
A95: Weightlifting (Light) | B95: 27 | C95: =2000/B95 -> 74.074074
A96: Weightlifting (Heavy) | B96: 11 | C96: =2000/B96 -> 181.81818
A97: Wheelchair (per 100 meters) | B97: 16 | C97: =2000/B97 -> 125
A98: Yoga, Hot (Moderate) | C98: 110
A99: Yoga (Moderate) | B99: 40 | C99: =3550/B99 -> 88.75
A100: Yoga (Vigorous) | B100: 9.7 | C100: =1560/B100 -> 160.82474
...
